BEGIN:VCALENDAR
VERSION:2.0
PRODID:-//Harding Academy - ECPv6.15.20//NONSGML v1.0//EN
CALSCALE:GREGORIAN
METHOD:PUBLISH
X-ORIGINAL-URL:https://hardingwildcats.com
X-WR-CALDESC:Events for Harding Academy
REFRESH-INTERVAL;VALUE=DURATION:PT1H
X-Robots-Tag:noindex
X-PUBLISHED-TTL:PT1H
BEGIN:VTIMEZONE
TZID:America/Chicago
BEGIN:DAYLIGHT
TZOFFSETFROM:-0600
TZOFFSETTO:-0500
TZNAME:CDT
DTSTART:20240310T080000
END:DAYLIGHT
BEGIN:STANDARD
TZOFFSETFROM:-0500
TZOFFSETTO:-0600
TZNAME:CST
DTSTART:20241103T070000
END:STANDARD
BEGIN:DAYLIGHT
TZOFFSETFROM:-0600
TZOFFSETTO:-0500
TZNAME:CDT
DTSTART:20250309T080000
END:DAYLIGHT
BEGIN:STANDARD
TZOFFSETFROM:-0500
TZOFFSETTO:-0600
TZNAME:CST
DTSTART:20251102T070000
END:STANDARD
BEGIN:DAYLIGHT
TZOFFSETFROM:-0600
TZOFFSETTO:-0500
TZNAME:CDT
DTSTART:20260308T080000
END:DAYLIGHT
BEGIN:STANDARD
TZOFFSETFROM:-0500
TZOFFSETTO:-0600
TZNAME:CST
DTSTART:20261101T070000
END:STANDARD
BEGIN:DAYLIGHT
TZOFFSETFROM:-0600
TZOFFSETTO:-0500
TZNAME:CDT
DTSTART:20270314T080000
END:DAYLIGHT
BEGIN:STANDARD
TZOFFSETFROM:-0500
TZOFFSETTO:-0600
TZNAME:CST
DTSTART:20271107T070000
END:STANDARD
END:VTIMEZONE
BEGIN:VEVENT
DTSTART;TZID=America/Chicago:20260408T160000
DTEND;TZID=America/Chicago:20260408T170000
DTSTAMP:20260425T093225
CREATED:20260408T124934Z
LAST-MODIFIED:20260408T124934Z
UID:10001905-1775664000-1775667600@hardingwildcats.com
SUMMARY:PFTA Meeting
DESCRIPTION:
URL:https://hardingwildcats.com/event/pfta-meeting-3/
LOCATION:HA Auditorium
END:VEVENT
BEGIN:VEVENT
DTSTART;TZID=America/Chicago:20250318T170000
DTEND;TZID=America/Chicago:20250318T180000
DTSTAMP:20260425T093225
CREATED:20250314T224914Z
LAST-MODIFIED:20250314T224914Z
UID:10001504-1742317200-1742320800@hardingwildcats.com
SUMMARY:Parent Meeting - Uniforms
DESCRIPTION:We will go over the uniform policy and talk about where to purchase uniforms.
URL:https://hardingwildcats.com/event/parent-meeting-uniforms/
LOCATION:HA Auditorium
END:VEVENT
END:VCALENDAR