BEGIN:VCALENDAR
VERSION:2.0
PRODID:-//Harding Academy - ECPv6.15.20//NONSGML v1.0//EN
CALSCALE:GREGORIAN
METHOD:PUBLISH
X-WR-CALNAME:Harding Academy
X-ORIGINAL-URL:https://hardingwildcats.com
X-WR-CALDESC:Events for Harding Academy
REFRESH-INTERVAL;VALUE=DURATION:PT1H
X-Robots-Tag:noindex
X-PUBLISHED-TTL:PT1H
BEGIN:VTIMEZONE
TZID:America/Chicago
BEGIN:DAYLIGHT
TZOFFSETFROM:-0600
TZOFFSETTO:-0500
TZNAME:CDT
DTSTART:20240310T080000
END:DAYLIGHT
BEGIN:STANDARD
TZOFFSETFROM:-0500
TZOFFSETTO:-0600
TZNAME:CST
DTSTART:20241103T070000
END:STANDARD
BEGIN:DAYLIGHT
TZOFFSETFROM:-0600
TZOFFSETTO:-0500
TZNAME:CDT
DTSTART:20250309T080000
END:DAYLIGHT
BEGIN:STANDARD
TZOFFSETFROM:-0500
TZOFFSETTO:-0600
TZNAME:CST
DTSTART:20251102T070000
END:STANDARD
BEGIN:DAYLIGHT
TZOFFSETFROM:-0600
TZOFFSETTO:-0500
TZNAME:CDT
DTSTART:20260308T080000
END:DAYLIGHT
BEGIN:STANDARD
TZOFFSETFROM:-0500
TZOFFSETTO:-0600
TZNAME:CST
DTSTART:20261101T070000
END:STANDARD
END:VTIMEZONE
BEGIN:VEVENT
DTSTART;TZID=America/Chicago:20250311T173000
DTEND;TZID=America/Chicago:20250311T183000
DTSTAMP:20260419T154754
CREATED:20250307T224911Z
LAST-MODIFIED:20250307T224911Z
UID:10001501-1741714200-1741717800@hardingwildcats.com
SUMMARY:EFA Informational Parent Meeting (Cone Chapel)
DESCRIPTION:
URL:https://hardingwildcats.com/event/efa-informational-parent-meeting-cone-chapel-2/
LOCATION:Cone Chapel\, 900 E Center Ave\, Searcy\, AR\, United States
GEO:35.248693;-91.726632
X-APPLE-STRUCTURED-LOCATION;VALUE=URI;X-ADDRESS=Cone Chapel 900 E Center Ave Searcy AR United States;X-APPLE-RADIUS=500;X-TITLE=900 E Center Ave:geo:-91.726632,35.248693
END:VEVENT
BEGIN:VEVENT
DTSTART;TZID=America/Chicago:20250310T173000
DTEND;TZID=America/Chicago:20250310T183000
DTSTAMP:20260419T154754
CREATED:20250307T224910Z
LAST-MODIFIED:20250307T224910Z
UID:10001500-1741627800-1741631400@hardingwildcats.com
SUMMARY:EFA Informational Parent Meeting (Cone Chapel)
DESCRIPTION:
URL:https://hardingwildcats.com/event/efa-informational-parent-meeting-cone-chapel/
LOCATION:Cone Chapel\, 900 E Center Ave\, Searcy\, AR\, United States
GEO:35.248693;-91.726632
X-APPLE-STRUCTURED-LOCATION;VALUE=URI;X-ADDRESS=Cone Chapel 900 E Center Ave Searcy AR United States;X-APPLE-RADIUS=500;X-TITLE=900 E Center Ave:geo:-91.726632,35.248693
END:VEVENT
END:VCALENDAR