BEGIN:VCALENDAR
VERSION:2.0
PRODID:-//Harding Academy - ECPv6.15.20//NONSGML v1.0//EN
CALSCALE:GREGORIAN
METHOD:PUBLISH
X-WR-CALNAME:Harding Academy
X-ORIGINAL-URL:https://hardingwildcats.com
X-WR-CALDESC:Events for Harding Academy
REFRESH-INTERVAL;VALUE=DURATION:PT1H
X-Robots-Tag:noindex
X-PUBLISHED-TTL:PT1H
BEGIN:VTIMEZONE
TZID:America/Chicago
BEGIN:DAYLIGHT
TZOFFSETFROM:-0600
TZOFFSETTO:-0500
TZNAME:CDT
DTSTART:20250309T080000
END:DAYLIGHT
BEGIN:STANDARD
TZOFFSETFROM:-0500
TZOFFSETTO:-0600
TZNAME:CST
DTSTART:20251102T070000
END:STANDARD
BEGIN:DAYLIGHT
TZOFFSETFROM:-0600
TZOFFSETTO:-0500
TZNAME:CDT
DTSTART:20260308T080000
END:DAYLIGHT
BEGIN:STANDARD
TZOFFSETFROM:-0500
TZOFFSETTO:-0600
TZNAME:CST
DTSTART:20261101T070000
END:STANDARD
BEGIN:DAYLIGHT
TZOFFSETFROM:-0600
TZOFFSETTO:-0500
TZNAME:CDT
DTSTART:20270314T080000
END:DAYLIGHT
BEGIN:STANDARD
TZOFFSETFROM:-0500
TZOFFSETTO:-0600
TZNAME:CST
DTSTART:20271107T070000
END:STANDARD
END:VTIMEZONE
BEGIN:VEVENT
DTSTART;TZID=America/Chicago:20260120T170000
DTEND;TZID=America/Chicago:20260120T200000
DTSTAMP:20260424T034520
CREATED:20260120T161927Z
LAST-MODIFIED:20260120T161927Z
UID:10001699-1768928400-1768939200@hardingwildcats.com
SUMMARY:BB @ Lisa Academy 7B\,JB\,SB
DESCRIPTION:
URL:https://hardingwildcats.com/event/bb-lisa-academy-7bjbsb/
END:VEVENT
BEGIN:VEVENT
DTSTART;TZID=America/Chicago:20260122T160000
DTEND;TZID=America/Chicago:20260122T190000
DTSTAMP:20260424T034520
CREATED:20260120T161928Z
LAST-MODIFIED:20260121T104916Z
UID:10001700-1769097600-1769108400@hardingwildcats.com
SUMMARY:BB @ White County Central 7G\,&B\,JG\,JB
DESCRIPTION:
URL:https://hardingwildcats.com/event/bb-white-county-central-7gbjgjb/
END:VEVENT
BEGIN:VEVENT
DTSTART;TZID=America/Chicago:20260123T000000
DTEND;TZID=America/Chicago:20260124T235959
DTSTAMP:20260424T034520
CREATED:20260120T161929Z
LAST-MODIFIED:20260121T104916Z
UID:10001709-1769126400-1769299199@hardingwildcats.com
SUMMARY:Robotics FLL State Tourn. @ UA Fayetteville (tentative)
DESCRIPTION:
URL:https://hardingwildcats.com/event/robotics-fll-state-tourn-ua-fayetteville-tentative/
END:VEVENT
BEGIN:VEVENT
DTSTART;TZID=America/Chicago:20260123T170000
DTEND;TZID=America/Chicago:20260123T200000
DTSTAMP:20260424T034520
CREATED:20260120T161928Z
LAST-MODIFIED:20260121T104916Z
UID:10001702-1769187600-1769198400@hardingwildcats.com
SUMMARY:BB@ HA Vs. Rose Bud JB\,SG\,SB
DESCRIPTION:
URL:https://hardingwildcats.com/event/bb-ha-vs-rose-bud-jbsgsb/
END:VEVENT
BEGIN:VEVENT
DTSTART;TZID=America/Chicago:20260124T000000
DTEND;TZID=America/Chicago:20260124T235959
DTSTAMP:20260424T034520
CREATED:20260120T161928Z
LAST-MODIFIED:20260121T104917Z
UID:10001703-1769212800-1769299199@hardingwildcats.com
SUMMARY:BB @ Riverview Jamboree 7B\,8B
DESCRIPTION:
URL:https://hardingwildcats.com/event/bb-riverview-jamboree-7b8b/
END:VEVENT
BEGIN:VEVENT
DTSTART;TZID=America/Chicago:20260124T000000
DTEND;TZID=America/Chicago:20260124T235959
DTSTAMP:20260424T034520
CREATED:20260120T161928Z
LAST-MODIFIED:20260121T104916Z
UID:10001701-1769212800-1769299199@hardingwildcats.com
SUMMARY:TR - Indoor HS Championship@ U of A
DESCRIPTION:
URL:https://hardingwildcats.com/event/tr-indoor-hs-championship-u-of-a/
END:VEVENT
END:VCALENDAR