BEGIN:VCALENDAR
VERSION:2.0
PRODID:-//Harding Academy - ECPv6.15.20//NONSGML v1.0//EN
CALSCALE:GREGORIAN
METHOD:PUBLISH
X-WR-CALNAME:Harding Academy
X-ORIGINAL-URL:https://hardingwildcats.com
X-WR-CALDESC:Events for Harding Academy
REFRESH-INTERVAL;VALUE=DURATION:PT1H
X-Robots-Tag:noindex
X-PUBLISHED-TTL:PT1H
BEGIN:VTIMEZONE
TZID:America/Chicago
BEGIN:DAYLIGHT
TZOFFSETFROM:-0600
TZOFFSETTO:-0500
TZNAME:CDT
DTSTART:20250309T080000
END:DAYLIGHT
BEGIN:STANDARD
TZOFFSETFROM:-0500
TZOFFSETTO:-0600
TZNAME:CST
DTSTART:20251102T070000
END:STANDARD
BEGIN:DAYLIGHT
TZOFFSETFROM:-0600
TZOFFSETTO:-0500
TZNAME:CDT
DTSTART:20260308T080000
END:DAYLIGHT
BEGIN:STANDARD
TZOFFSETFROM:-0500
TZOFFSETTO:-0600
TZNAME:CST
DTSTART:20261101T070000
END:STANDARD
BEGIN:DAYLIGHT
TZOFFSETFROM:-0600
TZOFFSETTO:-0500
TZNAME:CDT
DTSTART:20270314T080000
END:DAYLIGHT
BEGIN:STANDARD
TZOFFSETFROM:-0500
TZOFFSETTO:-0600
TZNAME:CST
DTSTART:20271107T070000
END:STANDARD
END:VTIMEZONE
BEGIN:VEVENT
DTSTART;TZID=America/Chicago:20260105T000000
DTEND;TZID=America/Chicago:20260105T235959
DTSTAMP:20260424T011658
CREATED:20251013T202001Z
LAST-MODIFIED:20251013T202001Z
UID:10001695-1767571200-1767657599@hardingwildcats.com
SUMMARY:Professional Development - No Students
DESCRIPTION:
URL:https://hardingwildcats.com/event/professional-development-no-students-4/
END:VEVENT
BEGIN:VEVENT
DTSTART;TZID=America/Chicago:20260106T170000
DTEND;TZID=America/Chicago:20260106T200000
DTSTAMP:20260424T011658
CREATED:20251010T105001Z
LAST-MODIFIED:20251010T105001Z
UID:10001693-1767718800-1767729600@hardingwildcats.com
SUMMARY:BB @ Bald Knob JG\,SG\,SB
DESCRIPTION:
URL:https://hardingwildcats.com/event/bb-bald-knob-jgsgsb/
END:VEVENT
BEGIN:VEVENT
DTSTART;TZID=America/Chicago:20260108T160000
DTEND;TZID=America/Chicago:20260108T190000
DTSTAMP:20260424T011658
CREATED:20251010T105001Z
LAST-MODIFIED:20251010T105001Z
UID:10001694-1767888000-1767898800@hardingwildcats.com
SUMMARY:BB @ WCC Jamboree 7G\,7B time is TBD
DESCRIPTION:
URL:https://hardingwildcats.com/event/bb-wcc-jamboree-7g7b-time-is-tbd/
END:VEVENT
BEGIN:VEVENT
DTSTART;TZID=America/Chicago:20260109T093000
DTEND;TZID=America/Chicago:20260109T100000
DTSTAMP:20260424T011658
CREATED:20251013T202013Z
LAST-MODIFIED:20251013T202013Z
UID:10001696-1767951000-1767952800@hardingwildcats.com
SUMMARY:All School Chapel
DESCRIPTION:
URL:https://hardingwildcats.com/event/all-school-chapel-5/
END:VEVENT
BEGIN:VEVENT
DTSTART;TZID=America/Chicago:20260110T000000
DTEND;TZID=America/Chicago:20260110T235959
DTSTAMP:20260424T011658
CREATED:20251013T202013Z
LAST-MODIFIED:20251013T202013Z
UID:10001697-1768003200-1768089599@hardingwildcats.com
SUMMARY:Robotics FRC Breakaway Competition Kickoff
DESCRIPTION:
URL:https://hardingwildcats.com/event/robotics-frc-breakaway-competition-kickoff/
END:VEVENT
BEGIN:VEVENT
DTSTART;TZID=America/Chicago:20260110T000000
DTEND;TZID=America/Chicago:20260110T235959
DTSTAMP:20260424T011658
CREATED:20251013T202013Z
LAST-MODIFIED:20251013T202013Z
UID:10001698-1768003200-1768089599@hardingwildcats.com
SUMMARY:Senior Band Region Auditions @ Cabot JH South
DESCRIPTION:Host: Susan Ford
URL:https://hardingwildcats.com/event/senior-band-region-auditions-cabot-jh-south/
LOCATION:Cabot Junior High School South\, 38 Panther Rd\, Conway\, AR\, United States
GEO:35.031864;-92.346301
X-APPLE-STRUCTURED-LOCATION;VALUE=URI;X-ADDRESS=Cabot Junior High School South 38 Panther Rd Conway AR United States;X-APPLE-RADIUS=500;X-TITLE=38 Panther Rd:geo:-92.346301,35.031864
END:VEVENT
END:VCALENDAR