BEGIN:VCALENDAR
VERSION:2.0
PRODID:-//Harding Academy - ECPv6.15.20//NONSGML v1.0//EN
CALSCALE:GREGORIAN
METHOD:PUBLISH
X-ORIGINAL-URL:https://hardingwildcats.com
X-WR-CALDESC:Events for Harding Academy
REFRESH-INTERVAL;VALUE=DURATION:PT1H
X-Robots-Tag:noindex
X-PUBLISHED-TTL:PT1H
BEGIN:VTIMEZONE
TZID:America/Chicago
BEGIN:DAYLIGHT
TZOFFSETFROM:-0600
TZOFFSETTO:-0500
TZNAME:CDT
DTSTART:20240310T080000
END:DAYLIGHT
BEGIN:STANDARD
TZOFFSETFROM:-0500
TZOFFSETTO:-0600
TZNAME:CST
DTSTART:20241103T070000
END:STANDARD
BEGIN:DAYLIGHT
TZOFFSETFROM:-0600
TZOFFSETTO:-0500
TZNAME:CDT
DTSTART:20250309T080000
END:DAYLIGHT
BEGIN:STANDARD
TZOFFSETFROM:-0500
TZOFFSETTO:-0600
TZNAME:CST
DTSTART:20251102T070000
END:STANDARD
BEGIN:DAYLIGHT
TZOFFSETFROM:-0600
TZOFFSETTO:-0500
TZNAME:CDT
DTSTART:20260308T080000
END:DAYLIGHT
BEGIN:STANDARD
TZOFFSETFROM:-0500
TZOFFSETTO:-0600
TZNAME:CST
DTSTART:20261101T070000
END:STANDARD
END:VTIMEZONE
BEGIN:VEVENT
DTSTART;TZID=America/Chicago:20251216T170000
DTEND;TZID=America/Chicago:20251216T200000
DTSTAMP:20260424T075752
CREATED:20250919T105040Z
LAST-MODIFIED:20251010T104949Z
UID:10001678-1765904400-1765915200@hardingwildcats.com
SUMMARY:BB @ Rosebud JG\,SG\,SB
DESCRIPTION:
URL:https://hardingwildcats.com/event/bb-rosebud-jgsgsb/
END:VEVENT
BEGIN:VEVENT
DTSTART;TZID=America/Chicago:20251218T170000
DTEND;TZID=America/Chicago:20251218T200000
DTSTAMP:20260424T075752
CREATED:20250919T105040Z
LAST-MODIFIED:20251010T104949Z
UID:10001679-1766077200-1766088000@hardingwildcats.com
SUMMARY:BB @ Maumelle Charter JB\,SG\,SB
DESCRIPTION:
URL:https://hardingwildcats.com/event/bb-maumelle-charter-jbsgsb/
END:VEVENT
BEGIN:VEVENT
DTSTART;TZID=America/Chicago:20251219T000000
DTEND;TZID=America/Chicago:20251219T235959
DTSTAMP:20260424T075753
CREATED:20250922T202018Z
LAST-MODIFIED:20251013T202000Z
UID:10001681-1766102400-1766188799@hardingwildcats.com
SUMMARY:End of Quarter
DESCRIPTION:
URL:https://hardingwildcats.com/event/end-of-quarter-4/
END:VEVENT
END:VCALENDAR