BEGIN:VCALENDAR
VERSION:2.0
PRODID:-//Harding Academy - ECPv6.15.20//NONSGML v1.0//EN
CALSCALE:GREGORIAN
METHOD:PUBLISH
X-ORIGINAL-URL:https://hardingwildcats.com
X-WR-CALDESC:Events for Harding Academy
REFRESH-INTERVAL;VALUE=DURATION:PT1H
X-Robots-Tag:noindex
X-PUBLISHED-TTL:PT1H
BEGIN:VTIMEZONE
TZID:America/Chicago
BEGIN:DAYLIGHT
TZOFFSETFROM:-0600
TZOFFSETTO:-0500
TZNAME:CDT
DTSTART:20240310T080000
END:DAYLIGHT
BEGIN:STANDARD
TZOFFSETFROM:-0500
TZOFFSETTO:-0600
TZNAME:CST
DTSTART:20241103T070000
END:STANDARD
BEGIN:DAYLIGHT
TZOFFSETFROM:-0600
TZOFFSETTO:-0500
TZNAME:CDT
DTSTART:20250309T080000
END:DAYLIGHT
BEGIN:STANDARD
TZOFFSETFROM:-0500
TZOFFSETTO:-0600
TZNAME:CST
DTSTART:20251102T070000
END:STANDARD
BEGIN:DAYLIGHT
TZOFFSETFROM:-0600
TZOFFSETTO:-0500
TZNAME:CDT
DTSTART:20260308T080000
END:DAYLIGHT
BEGIN:STANDARD
TZOFFSETFROM:-0500
TZOFFSETTO:-0600
TZNAME:CST
DTSTART:20261101T070000
END:STANDARD
END:VTIMEZONE
BEGIN:VEVENT
DTSTART;TZID=America/Chicago:20250208T000000
DTEND;TZID=America/Chicago:20250212T235959
DTSTAMP:20260419T225921
CREATED:20241115T052000Z
LAST-MODIFIED:20250207T064938Z
UID:10001313-1738972800-1739404799@hardingwildcats.com
SUMMARY:BB @ Episcopal JH District Tourn.
DESCRIPTION:
URL:https://hardingwildcats.com/event/bb-episcopal-jh-district-tourn/
END:VEVENT
BEGIN:VEVENT
DTSTART;TZID=America/Chicago:20250211T180000
DTEND;TZID=America/Chicago:20250211T200000
DTSTAMP:20260419T225921
CREATED:20241115T051959Z
LAST-MODIFIED:20250207T064938Z
UID:10001312-1739296800-1739304000@hardingwildcats.com
SUMMARY:BB @ Episcopal SG\,SB
DESCRIPTION:
URL:https://hardingwildcats.com/event/bb-episcopal-sgsb/
END:VEVENT
BEGIN:VEVENT
DTSTART;TZID=America/Chicago:20250214T170000
DTEND;TZID=America/Chicago:20250214T190000
DTSTAMP:20260419T225921
CREATED:20241122T052002Z
LAST-MODIFIED:20250214T064936Z
UID:10001315-1739552400-1739559600@hardingwildcats.com
SUMMARY:BB @ HA vs. Tuckerman SG\,SB
DESCRIPTION:
URL:https://hardingwildcats.com/event/bb-ha-vs-tuckerman-sgsb/
END:VEVENT
BEGIN:VEVENT
DTSTART;TZID=America/Chicago:20250215T000000
DTEND;TZID=America/Chicago:20250215T235959
DTSTAMP:20260419T225921
CREATED:20241122T211949Z
LAST-MODIFIED:20250214T221936Z
UID:10001317-1739577600-1739663999@hardingwildcats.com
SUMMARY:Jr High State Quiz Bowl
DESCRIPTION:
URL:https://hardingwildcats.com/event/jr-high-state-quiz-bowl/
END:VEVENT
END:VCALENDAR