BEGIN:VCALENDAR
VERSION:2.0
PRODID:-//Harding Academy - ECPv6.15.20//NONSGML v1.0//EN
CALSCALE:GREGORIAN
METHOD:PUBLISH
X-WR-CALNAME:Harding Academy
X-ORIGINAL-URL:https://hardingwildcats.com
X-WR-CALDESC:Events for Harding Academy
REFRESH-INTERVAL;VALUE=DURATION:PT1H
X-Robots-Tag:noindex
X-PUBLISHED-TTL:PT1H
BEGIN:VTIMEZONE
TZID:America/Chicago
BEGIN:DAYLIGHT
TZOFFSETFROM:-0600
TZOFFSETTO:-0500
TZNAME:CDT
DTSTART:20240310T080000
END:DAYLIGHT
BEGIN:STANDARD
TZOFFSETFROM:-0500
TZOFFSETTO:-0600
TZNAME:CST
DTSTART:20241103T070000
END:STANDARD
BEGIN:DAYLIGHT
TZOFFSETFROM:-0600
TZOFFSETTO:-0500
TZNAME:CDT
DTSTART:20250309T080000
END:DAYLIGHT
BEGIN:STANDARD
TZOFFSETFROM:-0500
TZOFFSETTO:-0600
TZNAME:CST
DTSTART:20251102T070000
END:STANDARD
BEGIN:DAYLIGHT
TZOFFSETFROM:-0600
TZOFFSETTO:-0500
TZNAME:CDT
DTSTART:20260308T080000
END:DAYLIGHT
BEGIN:STANDARD
TZOFFSETFROM:-0500
TZOFFSETTO:-0600
TZNAME:CST
DTSTART:20261101T070000
END:STANDARD
END:VTIMEZONE
BEGIN:VEVENT
DTSTART;TZID=America/Chicago:20250128T070000
DTEND;TZID=America/Chicago:20250128T130000
DTSTAMP:20260419T114730
CREATED:20241101T211950Z
LAST-MODIFIED:20250124T221937Z
UID:10001302-1738047600-1738069200@hardingwildcats.com
SUMMARY:Chorus @HA Memphis
DESCRIPTION:
URL:https://hardingwildcats.com/event/chorus-ha-memphis/
END:VEVENT
BEGIN:VEVENT
DTSTART;TZID=America/Chicago:20250128T170000
DTEND;TZID=America/Chicago:20250128T200000
DTSTAMP:20260419T114730
CREATED:20241101T052013Z
LAST-MODIFIED:20250124T061934Z
UID:10001301-1738083600-1738094400@hardingwildcats.com
SUMMARY:BB@ Maumelle Charter JG\,SG\,SB
DESCRIPTION:
URL:https://hardingwildcats.com/event/bb-maumelle-charter-jgsgsb/
END:VEVENT
BEGIN:VEVENT
DTSTART;TZID=America/Chicago:20250130T160000
DTEND;TZID=America/Chicago:20250130T200000
DTSTAMP:20260419T114730
CREATED:20250124T061934Z
LAST-MODIFIED:20250124T061934Z
UID:10001389-1738252800-1738267200@hardingwildcats.com
SUMMARY:BB @ Pangburn 7G\,JB\,SG\,SB
DESCRIPTION:
URL:https://hardingwildcats.com/event/bb-pangburn-7gjbsgsb-2/
END:VEVENT
BEGIN:VEVENT
DTSTART;TZID=America/Chicago:20250131T000000
DTEND;TZID=America/Chicago:20250131T235959
DTSTAMP:20260419T114730
CREATED:20241108T211952Z
LAST-MODIFIED:20250131T221909Z
UID:10001306-1738281600-1738367999@hardingwildcats.com
SUMMARY:Jr High Regional Quiz Bowl (tentative)
DESCRIPTION:
URL:https://hardingwildcats.com/event/jr-high-regional-quiz-bowl-tentative/
END:VEVENT
BEGIN:VEVENT
DTSTART;TZID=America/Chicago:20250131T070000
DTEND;TZID=America/Chicago:20250131T130000
DTSTAMP:20260419T114730
CREATED:20241108T211952Z
LAST-MODIFIED:20250124T221938Z
UID:10001307-1738306800-1738328400@hardingwildcats.com
SUMMARY:Chorus @CRA
DESCRIPTION:
URL:https://hardingwildcats.com/event/chorus-cra/
END:VEVENT
BEGIN:VEVENT
DTSTART;TZID=America/Chicago:20250131T170000
DTEND;TZID=America/Chicago:20250131T200000
DTSTAMP:20260419T114730
CREATED:20241108T052004Z
LAST-MODIFIED:20250131T061909Z
UID:10001303-1738342800-1738353600@hardingwildcats.com
SUMMARY:BB @ Bald Knob JB\,SG\,SB
DESCRIPTION:
URL:https://hardingwildcats.com/event/bb-bald-knob-jbsgsb/
END:VEVENT
BEGIN:VEVENT
DTSTART;TZID=America/Chicago:20250201T000000
DTEND;TZID=America/Chicago:20250201T235959
DTSTAMP:20260419T114730
CREATED:20241108T052016Z
LAST-MODIFIED:20250131T061910Z
UID:10001304-1738368000-1738454399@hardingwildcats.com
SUMMARY:BB @ HA vs Bradford/Rosebud HA Jamboree 7G\,7B\,8G\,8B
DESCRIPTION:
URL:https://hardingwildcats.com/event/bb-ha-vs-bradford-rosebud-ha-jamboree-7g7b8g8b/
END:VEVENT
BEGIN:VEVENT
DTSTART;TZID=America/Chicago:20250201T000000
DTEND;TZID=America/Chicago:20250201T235959
DTSTAMP:20260419T114730
CREATED:20241108T211952Z
LAST-MODIFIED:20250131T221910Z
UID:10001308-1738368000-1738454399@hardingwildcats.com
SUMMARY:Jr High Regional Quiz Bowl (tentative)
DESCRIPTION:
URL:https://hardingwildcats.com/event/jr-high-regional-quiz-bowl-tentative-2/
END:VEVENT
BEGIN:VEVENT
DTSTART;TZID=America/Chicago:20250201T000000
DTEND;TZID=America/Chicago:20250201T235959
DTSTAMP:20260419T114730
CREATED:20241108T211953Z
LAST-MODIFIED:20250131T221910Z
UID:10001309-1738368000-1738454399@hardingwildcats.com
SUMMARY:Chorus All State Workshop
DESCRIPTION:
URL:https://hardingwildcats.com/event/chorus-all-state-workshop-6/
END:VEVENT
END:VCALENDAR