BEGIN:VCALENDAR
VERSION:2.0
PRODID:-//Harding Academy - ECPv6.15.20//NONSGML v1.0//EN
CALSCALE:GREGORIAN
METHOD:PUBLISH
X-ORIGINAL-URL:https://hardingwildcats.com
X-WR-CALDESC:Events for Harding Academy
REFRESH-INTERVAL;VALUE=DURATION:PT1H
X-Robots-Tag:noindex
X-PUBLISHED-TTL:PT1H
BEGIN:VTIMEZONE
TZID:America/Chicago
BEGIN:DAYLIGHT
TZOFFSETFROM:-0600
TZOFFSETTO:-0500
TZNAME:CDT
DTSTART:20240310T080000
END:DAYLIGHT
BEGIN:STANDARD
TZOFFSETFROM:-0500
TZOFFSETTO:-0600
TZNAME:CST
DTSTART:20241103T070000
END:STANDARD
BEGIN:DAYLIGHT
TZOFFSETFROM:-0600
TZOFFSETTO:-0500
TZNAME:CDT
DTSTART:20250309T080000
END:DAYLIGHT
BEGIN:STANDARD
TZOFFSETFROM:-0500
TZOFFSETTO:-0600
TZNAME:CST
DTSTART:20251102T070000
END:STANDARD
BEGIN:DAYLIGHT
TZOFFSETFROM:-0600
TZOFFSETTO:-0500
TZNAME:CDT
DTSTART:20260308T080000
END:DAYLIGHT
BEGIN:STANDARD
TZOFFSETFROM:-0500
TZOFFSETTO:-0600
TZNAME:CST
DTSTART:20261101T070000
END:STANDARD
END:VTIMEZONE
BEGIN:VEVENT
DTSTART;TZID=America/Chicago:20250120T000000
DTEND;TZID=America/Chicago:20250120T235959
DTSTAMP:20260419T132540
CREATED:20241025T211949Z
LAST-MODIFIED:20250117T214935Z
UID:10001298-1737331200-1737417599@hardingwildcats.com
SUMMARY:MLK Day - No School
DESCRIPTION:
URL:https://hardingwildcats.com/event/mlk-day-no-school-2/
END:VEVENT
BEGIN:VEVENT
DTSTART;TZID=America/Chicago:20250121T170000
DTEND;TZID=America/Chicago:20250121T200000
DTSTAMP:20260419T132540
CREATED:20241025T052020Z
LAST-MODIFIED:20250117T061936Z
UID:10001296-1737478800-1737489600@hardingwildcats.com
SUMMARY:BB @HA vs Lisa Academy 7B\, JB\,SB
DESCRIPTION:
URL:https://hardingwildcats.com/event/bb-lisa-academy-jgsgsb/
END:VEVENT
BEGIN:VEVENT
DTSTART;TZID=America/Chicago:20250123T163000
DTEND;TZID=America/Chicago:20250123T200000
DTSTAMP:20260419T132540
CREATED:20241025T052020Z
LAST-MODIFIED:20250117T061936Z
UID:10001297-1737649800-1737662400@hardingwildcats.com
SUMMARY:BB @ White County Central 7G\,7B\,JG\,JB
DESCRIPTION:
URL:https://hardingwildcats.com/event/bb-white-county-central-7g7bjgjb/
END:VEVENT
BEGIN:VEVENT
DTSTART;TZID=America/Chicago:20250124T170000
DTEND;TZID=America/Chicago:20250124T200000
DTSTAMP:20260419T132540
CREATED:20241101T052000Z
LAST-MODIFIED:20250124T061934Z
UID:10001299-1737738000-1737748800@hardingwildcats.com
SUMMARY:BB @ Rosebud JB\,SG\,SB
DESCRIPTION:
URL:https://hardingwildcats.com/event/bb-rosebud-jbsgsb/
END:VEVENT
BEGIN:VEVENT
DTSTART;TZID=America/Chicago:20250125T000000
DTEND;TZID=America/Chicago:20250125T235959
DTSTAMP:20260419T132540
CREATED:20241101T052013Z
LAST-MODIFIED:20250124T061934Z
UID:10001300-1737763200-1737849599@hardingwildcats.com
SUMMARY:BB @ Riverview Jamboree 7B\,8B\,JVB
DESCRIPTION:
URL:https://hardingwildcats.com/event/bb-riverview-jamboree-7b8bjvb/
END:VEVENT
END:VCALENDAR