BEGIN:VCALENDAR
VERSION:2.0
PRODID:-//Harding Academy - ECPv6.15.20//NONSGML v1.0//EN
CALSCALE:GREGORIAN
METHOD:PUBLISH
X-ORIGINAL-URL:https://hardingwildcats.com
X-WR-CALDESC:Events for Harding Academy
REFRESH-INTERVAL;VALUE=DURATION:PT1H
X-Robots-Tag:noindex
X-PUBLISHED-TTL:PT1H
BEGIN:VTIMEZONE
TZID:America/Chicago
BEGIN:DAYLIGHT
TZOFFSETFROM:-0600
TZOFFSETTO:-0500
TZNAME:CDT
DTSTART:20240310T080000
END:DAYLIGHT
BEGIN:STANDARD
TZOFFSETFROM:-0500
TZOFFSETTO:-0600
TZNAME:CST
DTSTART:20241103T070000
END:STANDARD
BEGIN:DAYLIGHT
TZOFFSETFROM:-0600
TZOFFSETTO:-0500
TZNAME:CDT
DTSTART:20250309T080000
END:DAYLIGHT
BEGIN:STANDARD
TZOFFSETFROM:-0500
TZOFFSETTO:-0600
TZNAME:CST
DTSTART:20251102T070000
END:STANDARD
BEGIN:DAYLIGHT
TZOFFSETFROM:-0600
TZOFFSETTO:-0500
TZNAME:CDT
DTSTART:20260308T080000
END:DAYLIGHT
BEGIN:STANDARD
TZOFFSETFROM:-0500
TZOFFSETTO:-0600
TZNAME:CST
DTSTART:20261101T070000
END:STANDARD
END:VTIMEZONE
BEGIN:VEVENT
DTSTART;TZID=America/Chicago:20250114T160000
DTEND;TZID=America/Chicago:20250114T200000
DTSTAMP:20260419T150750
CREATED:20241018T045017Z
LAST-MODIFIED:20250110T061936Z
UID:10001291-1736870400-1736884800@hardingwildcats.com
SUMMARY:BB @ Riverview JG\,JB\,SG\,SB
DESCRIPTION:
URL:https://hardingwildcats.com/event/bb-riverview-jgjbsgsb/
END:VEVENT
BEGIN:VEVENT
DTSTART;TZID=America/Chicago:20250115T000000
DTEND;TZID=America/Chicago:20250118T235959
DTSTAMP:20260419T150750
CREATED:20241018T045016Z
LAST-MODIFIED:20250117T061936Z
UID:10001290-1736899200-1737244799@hardingwildcats.com
SUMMARY:BB @ Bradford - Bradford Tournament JG\,JB
DESCRIPTION:
URL:https://hardingwildcats.com/event/bb-bradford-bradford-tournament-jgjb/
END:VEVENT
BEGIN:VEVENT
DTSTART;TZID=America/Chicago:20250117T000000
DTEND;TZID=America/Chicago:20250118T235959
DTSTAMP:20260419T150750
CREATED:20250110T214937Z
LAST-MODIFIED:20250117T214935Z
UID:10001351-1737072000-1737244799@hardingwildcats.com
SUMMARY:Band-All-Region Band Clinic
DESCRIPTION:
URL:https://hardingwildcats.com/event/band-all-region-band-clinic/
END:VEVENT
BEGIN:VEVENT
DTSTART;TZID=America/Chicago:20250117T160000
DTEND;TZID=America/Chicago:20250117T200000
DTSTAMP:20260419T150750
CREATED:20241025T052008Z
LAST-MODIFIED:20250117T061935Z
UID:10001294-1737129600-1737144000@hardingwildcats.com
SUMMARY:BB @ HA vs. Episcopal JG\,JB\,SG\,SB
DESCRIPTION:
URL:https://hardingwildcats.com/event/bb-ha-vs-episcopal-jgjbsgsb/
END:VEVENT
BEGIN:VEVENT
DTSTART;TZID=America/Chicago:20250118T000000
DTEND;TZID=America/Chicago:20250118T235959
DTSTAMP:20260419T150750
CREATED:20241025T052020Z
LAST-MODIFIED:20250117T061936Z
UID:10001295-1737158400-1737244799@hardingwildcats.com
SUMMARY:BB @ Cave City Jamboree JV Boys
DESCRIPTION:
URL:https://hardingwildcats.com/event/bb-cave-city-jamboree-jv-boys-2/
END:VEVENT
END:VCALENDAR