BEGIN:VCALENDAR
VERSION:2.0
PRODID:-//Harding Academy - ECPv6.15.20//NONSGML v1.0//EN
CALSCALE:GREGORIAN
METHOD:PUBLISH
X-WR-CALNAME:Harding Academy
X-ORIGINAL-URL:https://hardingwildcats.com
X-WR-CALDESC:Events for Harding Academy
REFRESH-INTERVAL;VALUE=DURATION:PT1H
X-Robots-Tag:noindex
X-PUBLISHED-TTL:PT1H
BEGIN:VTIMEZONE
TZID:America/Chicago
BEGIN:DAYLIGHT
TZOFFSETFROM:-0600
TZOFFSETTO:-0500
TZNAME:CDT
DTSTART:20240310T080000
END:DAYLIGHT
BEGIN:STANDARD
TZOFFSETFROM:-0500
TZOFFSETTO:-0600
TZNAME:CST
DTSTART:20241103T070000
END:STANDARD
BEGIN:DAYLIGHT
TZOFFSETFROM:-0600
TZOFFSETTO:-0500
TZNAME:CDT
DTSTART:20250309T080000
END:DAYLIGHT
BEGIN:STANDARD
TZOFFSETFROM:-0500
TZOFFSETTO:-0600
TZNAME:CST
DTSTART:20251102T070000
END:STANDARD
BEGIN:DAYLIGHT
TZOFFSETFROM:-0600
TZOFFSETTO:-0500
TZNAME:CDT
DTSTART:20260308T080000
END:DAYLIGHT
BEGIN:STANDARD
TZOFFSETFROM:-0500
TZOFFSETTO:-0600
TZNAME:CST
DTSTART:20261101T070000
END:STANDARD
END:VTIMEZONE
BEGIN:VEVENT
DTSTART;TZID=America/Chicago:20250106T000000
DTEND;TZID=America/Chicago:20250106T235959
DTSTAMP:20260419T132429
CREATED:20241011T212017Z
LAST-MODIFIED:20250103T214936Z
UID:10001287-1736121600-1736207999@hardingwildcats.com
SUMMARY:Teacher In-service - No Students
DESCRIPTION:
URL:https://hardingwildcats.com/event/teacher-in-service-no-students-2/
END:VEVENT
BEGIN:VEVENT
DTSTART;TZID=America/Chicago:20250107T000000
DTEND;TZID=America/Chicago:20250107T235959
DTSTAMP:20260419T132429
CREATED:20241011T212017Z
LAST-MODIFIED:20250103T214936Z
UID:10001288-1736208000-1736294399@hardingwildcats.com
SUMMARY:First Day of the Spring Semester
DESCRIPTION:
URL:https://hardingwildcats.com/event/first-day-of-the-spring-semester-2/
END:VEVENT
BEGIN:VEVENT
DTSTART;TZID=America/Chicago:20250107T170000
DTEND;TZID=America/Chicago:20250107T200000
DTSTAMP:20260419T132429
CREATED:20241011T045013Z
LAST-MODIFIED:20250103T061935Z
UID:10001285-1736269200-1736280000@hardingwildcats.com
SUMMARY:BB @ HA vs. Bald Knob JG\,SG\,SB
DESCRIPTION:
URL:https://hardingwildcats.com/event/bb-ha-vs-bald-knob-jgsgsb/
END:VEVENT
BEGIN:VEVENT
DTSTART;TZID=America/Chicago:20250110T160000
DTEND;TZID=America/Chicago:20250110T200000
DTSTAMP:20260419T132429
CREATED:20241018T045003Z
LAST-MODIFIED:20250103T061935Z
UID:10001289-1736524800-1736539200@hardingwildcats.com
SUMMARY:BB @ Pangburn 7G\,JB\,SG\,SB
DESCRIPTION:
URL:https://hardingwildcats.com/event/bb-pangburn-7gjbsgsb/
END:VEVENT
BEGIN:VEVENT
DTSTART;TZID=America/Chicago:20250111T000000
DTEND;TZID=America/Chicago:20250111T235959
DTSTAMP:20260419T132429
CREATED:20250110T214937Z
LAST-MODIFIED:20250110T214937Z
UID:10001350-1736553600-1736639999@hardingwildcats.com
SUMMARY:Band-All Region
DESCRIPTION:
URL:https://hardingwildcats.com/event/band-all-region/
LOCATION:Cabot Junior High School South\, 38 Panther Rd\, Conway\, AR\, United States
GEO:35.031864;-92.346301
X-APPLE-STRUCTURED-LOCATION;VALUE=URI;X-ADDRESS=Cabot Junior High School South 38 Panther Rd Conway AR United States;X-APPLE-RADIUS=500;X-TITLE=38 Panther Rd:geo:-92.346301,35.031864
END:VEVENT
END:VCALENDAR