BEGIN:VCALENDAR
VERSION:2.0
PRODID:-//Harding Academy - ECPv6.15.20//NONSGML v1.0//EN
CALSCALE:GREGORIAN
METHOD:PUBLISH
X-WR-CALNAME:Harding Academy
X-ORIGINAL-URL:https://hardingwildcats.com
X-WR-CALDESC:Events for Harding Academy
REFRESH-INTERVAL;VALUE=DURATION:PT1H
X-Robots-Tag:noindex
X-PUBLISHED-TTL:PT1H
BEGIN:VTIMEZONE
TZID:America/Chicago
BEGIN:DAYLIGHT
TZOFFSETFROM:-0600
TZOFFSETTO:-0500
TZNAME:CDT
DTSTART:20230312T080000
END:DAYLIGHT
BEGIN:STANDARD
TZOFFSETFROM:-0500
TZOFFSETTO:-0600
TZNAME:CST
DTSTART:20231105T070000
END:STANDARD
BEGIN:DAYLIGHT
TZOFFSETFROM:-0600
TZOFFSETTO:-0500
TZNAME:CDT
DTSTART:20240310T080000
END:DAYLIGHT
BEGIN:STANDARD
TZOFFSETFROM:-0500
TZOFFSETTO:-0600
TZNAME:CST
DTSTART:20241103T070000
END:STANDARD
BEGIN:DAYLIGHT
TZOFFSETFROM:-0600
TZOFFSETTO:-0500
TZNAME:CDT
DTSTART:20250309T080000
END:DAYLIGHT
BEGIN:STANDARD
TZOFFSETFROM:-0500
TZOFFSETTO:-0600
TZNAME:CST
DTSTART:20251102T070000
END:STANDARD
END:VTIMEZONE
BEGIN:VEVENT
DTSTART;TZID=America/Chicago:20241203T173000
DTEND;TZID=America/Chicago:20241203T200000
DTSTAMP:20260420T000737
CREATED:20240906T035055Z
LAST-MODIFIED:20241129T054934Z
UID:10001262-1733247000-1733256000@hardingwildcats.com
SUMMARY:BB @ Jessieville SG\,SB
DESCRIPTION:
URL:https://hardingwildcats.com/event/bb-jessieville-sgsb/
END:VEVENT
BEGIN:VEVENT
DTSTART;TZID=America/Chicago:20241205T170000
DTEND;TZID=America/Chicago:20241205T200000
DTSTAMP:20260420T000737
CREATED:20240906T035055Z
LAST-MODIFIED:20241129T054934Z
UID:10001263-1733418000-1733428800@hardingwildcats.com
SUMMARY:BB @ HA vs. Wynne 7G\,JG\,SG
DESCRIPTION:
URL:https://hardingwildcats.com/event/bb-ha-vs-wynne-7gjgsg/
END:VEVENT
BEGIN:VEVENT
DTSTART;TZID=America/Chicago:20241207T000000
DTEND;TZID=America/Chicago:20241207T235959
DTSTAMP:20260420T000737
CREATED:20240913T035051Z
LAST-MODIFIED:20241206T061935Z
UID:10001265-1733529600-1733615999@hardingwildcats.com
SUMMARY:BB @ HA - HA Jamboree 7G\,7B\,8G\,8B
DESCRIPTION:
URL:https://hardingwildcats.com/event/bb-ha-ha-jamboree-7g7b8g8b/
END:VEVENT
END:VCALENDAR