BEGIN:VCALENDAR
VERSION:2.0
PRODID:-//Harding Academy - ECPv6.15.20//NONSGML v1.0//EN
CALSCALE:GREGORIAN
METHOD:PUBLISH
X-WR-CALNAME:Harding Academy
X-ORIGINAL-URL:https://hardingwildcats.com
X-WR-CALDESC:Events for Harding Academy
REFRESH-INTERVAL;VALUE=DURATION:PT1H
X-Robots-Tag:noindex
X-PUBLISHED-TTL:PT1H
BEGIN:VTIMEZONE
TZID:America/Chicago
BEGIN:DAYLIGHT
TZOFFSETFROM:-0600
TZOFFSETTO:-0500
TZNAME:CDT
DTSTART:20230312T080000
END:DAYLIGHT
BEGIN:STANDARD
TZOFFSETFROM:-0500
TZOFFSETTO:-0600
TZNAME:CST
DTSTART:20231105T070000
END:STANDARD
BEGIN:DAYLIGHT
TZOFFSETFROM:-0600
TZOFFSETTO:-0500
TZNAME:CDT
DTSTART:20240310T080000
END:DAYLIGHT
BEGIN:STANDARD
TZOFFSETFROM:-0500
TZOFFSETTO:-0600
TZNAME:CST
DTSTART:20241103T070000
END:STANDARD
BEGIN:DAYLIGHT
TZOFFSETFROM:-0600
TZOFFSETTO:-0500
TZNAME:CDT
DTSTART:20250309T080000
END:DAYLIGHT
BEGIN:STANDARD
TZOFFSETFROM:-0500
TZOFFSETTO:-0600
TZNAME:CST
DTSTART:20251102T070000
END:STANDARD
END:VTIMEZONE
BEGIN:VEVENT
DTSTART;TZID=America/Chicago:20241119T170000
DTEND;TZID=America/Chicago:20241119T200000
DTSTAMP:20260419T090345
CREATED:20240823T032120Z
LAST-MODIFIED:20241115T051935Z
UID:10001258-1732035600-1732046400@hardingwildcats.com
SUMMARY:BB @ Forrest City JG\,SG
DESCRIPTION:
URL:https://hardingwildcats.com/event/bb-forrest-city-jgsg/
END:VEVENT
BEGIN:VEVENT
DTSTART;TZID=America/Chicago:20241121T163000
DTEND;TZID=America/Chicago:20241121T200000
DTSTAMP:20260419T090345
CREATED:20240823T032120Z
LAST-MODIFIED:20241115T051935Z
UID:10001259-1732206600-1732219200@hardingwildcats.com
SUMMARY:BB @ HA vs\, McCrory 7B\,JG\,JB\,SG
DESCRIPTION:
URL:https://hardingwildcats.com/event/bb-ha-vs-mccrory-7bjgjbsg/
END:VEVENT
END:VCALENDAR