BEGIN:VCALENDAR
VERSION:2.0
PRODID:-//Harding Academy - ECPv6.15.20//NONSGML v1.0//EN
CALSCALE:GREGORIAN
METHOD:PUBLISH
X-WR-CALNAME:Harding Academy
X-ORIGINAL-URL:https://hardingwildcats.com
X-WR-CALDESC:Events for Harding Academy
REFRESH-INTERVAL;VALUE=DURATION:PT1H
X-Robots-Tag:noindex
X-PUBLISHED-TTL:PT1H
BEGIN:VTIMEZONE
TZID:America/Chicago
BEGIN:DAYLIGHT
TZOFFSETFROM:-0600
TZOFFSETTO:-0500
TZNAME:CDT
DTSTART:20230312T080000
END:DAYLIGHT
BEGIN:STANDARD
TZOFFSETFROM:-0500
TZOFFSETTO:-0600
TZNAME:CST
DTSTART:20231105T070000
END:STANDARD
BEGIN:DAYLIGHT
TZOFFSETFROM:-0600
TZOFFSETTO:-0500
TZNAME:CDT
DTSTART:20240310T080000
END:DAYLIGHT
BEGIN:STANDARD
TZOFFSETFROM:-0500
TZOFFSETTO:-0600
TZNAME:CST
DTSTART:20241103T070000
END:STANDARD
BEGIN:DAYLIGHT
TZOFFSETFROM:-0600
TZOFFSETTO:-0500
TZNAME:CDT
DTSTART:20250309T080000
END:DAYLIGHT
BEGIN:STANDARD
TZOFFSETFROM:-0500
TZOFFSETTO:-0600
TZNAME:CST
DTSTART:20251102T070000
END:STANDARD
END:VTIMEZONE
BEGIN:VEVENT
DTSTART;TZID=America/Chicago:20241021T080000
DTEND;TZID=America/Chicago:20241021T093000
DTSTAMP:20260419T171424
CREATED:20241018T211938Z
LAST-MODIFIED:20241018T211938Z
UID:10001292-1729497600-1729503000@hardingwildcats.com
SUMMARY:Hearing/Vision Screening (8th grade)
DESCRIPTION:
URL:https://hardingwildcats.com/event/hearing-vision-screening-8th-grade/
END:VEVENT
BEGIN:VEVENT
DTSTART;TZID=America/Chicago:20241022T000000
DTEND;TZID=America/Chicago:20241024T235959
DTSTAMP:20260419T171424
CREATED:20240726T025005Z
LAST-MODIFIED:20241018T044936Z
UID:10001187-1729555200-1729814399@hardingwildcats.com
SUMMARY:V @ Haskell HG - Sr. High Regional Tourn.
DESCRIPTION:
URL:https://hardingwildcats.com/event/v-haskell-hg-sr-high-regional-tourn/
END:VEVENT
BEGIN:VEVENT
DTSTART;TZID=America/Chicago:20241022T080000
DTEND;TZID=America/Chicago:20241022T123000
DTSTAMP:20260419T171424
CREATED:20240830T205001Z
LAST-MODIFIED:20241018T211938Z
UID:10001260-1729584000-1729600200@hardingwildcats.com
SUMMARY:PSAT Test
DESCRIPTION:
URL:https://hardingwildcats.com/event/psat-test-2/
END:VEVENT
BEGIN:VEVENT
DTSTART;TZID=America/Chicago:20241022T160000
DTEND;TZID=America/Chicago:20241022T190000
DTSTAMP:20260419T171424
CREATED:20240816T032054Z
LAST-MODIFIED:20241018T044936Z
UID:10001242-1729612800-1729623600@hardingwildcats.com
SUMMARY:XC Sr. & Jr. Arvest Bank Invitational @ Valley View
DESCRIPTION:
URL:https://hardingwildcats.com/event/xc-sr-jr-arvest-bank-invitational-valley-view/
END:VEVENT
BEGIN:VEVENT
DTSTART;TZID=America/Chicago:20241023T070000
DTEND;TZID=America/Chicago:20241023T100000
DTSTAMP:20260419T171424
CREATED:20241004T211948Z
LAST-MODIFIED:20241018T211938Z
UID:10001283-1729666800-1729677600@hardingwildcats.com
SUMMARY:Picture Retakes
DESCRIPTION:
URL:https://hardingwildcats.com/event/picture-retakes-2/
END:VEVENT
BEGIN:VEVENT
DTSTART;TZID=America/Chicago:20241024T153000
DTEND;TZID=America/Chicago:20241024T183000
DTSTAMP:20260419T171424
CREATED:20240719T195003Z
LAST-MODIFIED:20241018T211938Z
UID:10001185-1729783800-1729794600@hardingwildcats.com
SUMMARY:Elem. Parent/Teacher Conferences
DESCRIPTION:
URL:https://hardingwildcats.com/event/elem-parent-teacher-conferences-3/
END:VEVENT
BEGIN:VEVENT
DTSTART;TZID=America/Chicago:20241025T123000
DTEND;TZID=America/Chicago:20241025T130000
DTSTAMP:20260419T171424
CREATED:20240816T205003Z
LAST-MODIFIED:20241018T211938Z
UID:10001250-1729859400-1729861200@hardingwildcats.com
SUMMARY:ASU Visit
DESCRIPTION:
URL:https://hardingwildcats.com/event/asu-visit/
END:VEVENT
BEGIN:VEVENT
DTSTART;TZID=America/Chicago:20241025T190000
DTEND;TZID=America/Chicago:20241025T210000
DTSTAMP:20260419T171424
CREATED:20240802T025020Z
LAST-MODIFIED:20241025T051943Z
UID:10001193-1729882800-1729890000@hardingwildcats.com
SUMMARY:F @ Nettleton
DESCRIPTION:
URL:https://hardingwildcats.com/event/f-nettleton/
END:VEVENT
END:VCALENDAR