BEGIN:VCALENDAR
VERSION:2.0
PRODID:-//Harding Academy - ECPv6.15.20//NONSGML v1.0//EN
CALSCALE:GREGORIAN
METHOD:PUBLISH
X-ORIGINAL-URL:https://hardingwildcats.com
X-WR-CALDESC:Events for Harding Academy
REFRESH-INTERVAL;VALUE=DURATION:PT1H
X-Robots-Tag:noindex
X-PUBLISHED-TTL:PT1H
BEGIN:VTIMEZONE
TZID:America/Chicago
BEGIN:DAYLIGHT
TZOFFSETFROM:-0600
TZOFFSETTO:-0500
TZNAME:CDT
DTSTART:20230312T080000
END:DAYLIGHT
BEGIN:STANDARD
TZOFFSETFROM:-0500
TZOFFSETTO:-0600
TZNAME:CST
DTSTART:20231105T070000
END:STANDARD
BEGIN:DAYLIGHT
TZOFFSETFROM:-0600
TZOFFSETTO:-0500
TZNAME:CDT
DTSTART:20240310T080000
END:DAYLIGHT
BEGIN:STANDARD
TZOFFSETFROM:-0500
TZOFFSETTO:-0600
TZNAME:CST
DTSTART:20241103T070000
END:STANDARD
BEGIN:DAYLIGHT
TZOFFSETFROM:-0600
TZOFFSETTO:-0500
TZNAME:CDT
DTSTART:20250309T080000
END:DAYLIGHT
BEGIN:STANDARD
TZOFFSETFROM:-0500
TZOFFSETTO:-0600
TZNAME:CST
DTSTART:20251102T070000
END:STANDARD
END:VTIMEZONE
BEGIN:VEVENT
DTSTART;TZID=America/Chicago:20240928T000000
DTEND;TZID=America/Chicago:20240929T235959
DTSTAMP:20260419T094502
CREATED:20240705T194937Z
LAST-MODIFIED:20240927T211936Z
UID:10001144-1727481600-1727654399@hardingwildcats.com
SUMMARY:Sr. High Retreat
DESCRIPTION:
URL:https://hardingwildcats.com/event/sr-high-retreat-2/
END:VEVENT
BEGIN:VEVENT
DTSTART;TZID=America/Chicago:20240930T080000
DTEND;TZID=America/Chicago:20240930T140000
DTSTAMP:20260419T094502
CREATED:20240809T025004Z
LAST-MODIFIED:20240927T041936Z
UID:10001205-1727683200-1727704800@hardingwildcats.com
SUMMARY:G - Girl's State
DESCRIPTION:
URL:https://hardingwildcats.com/event/g-girls-state/
LOCATION:Cooper’s Hawk Golf Course\, Melbourne\, AR\, United States
GEO:36.063529;-91.907947
END:VEVENT
BEGIN:VEVENT
DTSTART;TZID=America/Chicago:20240930T160000
DTEND;TZID=America/Chicago:20240930T200000
DTSTAMP:20260419T094502
CREATED:20240816T032028Z
LAST-MODIFIED:20240927T041936Z
UID:10001231-1727712000-1727726400@hardingwildcats.com
SUMMARY:T @ HU vs. Cave City
DESCRIPTION:
URL:https://hardingwildcats.com/event/t-hu-vs-cave-city/
END:VEVENT
BEGIN:VEVENT
DTSTART;TZID=America/Chicago:20240930T163000
DTEND;TZID=America/Chicago:20240930T201500
DTSTAMP:20260419T094502
CREATED:20240712T024948Z
LAST-MODIFIED:20240927T041936Z
UID:10001161-1727713800-1727727300@hardingwildcats.com
SUMMARY:V @ Sheridan JV\,V
DESCRIPTION:
URL:https://hardingwildcats.com/event/v-sheridan-jvv/
END:VEVENT
BEGIN:VEVENT
DTSTART;TZID=America/Chicago:20240930T183000
DTEND;TZID=America/Chicago:20240930T193000
DTSTAMP:20260419T094502
CREATED:20240705T194937Z
LAST-MODIFIED:20240927T211936Z
UID:10001145-1727721000-1727724600@hardingwildcats.com
SUMMARY:Chorus @HU Lectureship
DESCRIPTION:
URL:https://hardingwildcats.com/event/chorus-hu-lectureship/
END:VEVENT
BEGIN:VEVENT
DTSTART;TZID=America/Chicago:20241001T160000
DTEND;TZID=America/Chicago:20241001T200000
DTSTAMP:20260419T094502
CREATED:20240816T032028Z
LAST-MODIFIED:20240927T041936Z
UID:10001232-1727798400-1727812800@hardingwildcats.com
SUMMARY:T @ HU vs. Mountain View
DESCRIPTION:
URL:https://hardingwildcats.com/event/t-hu-vs-mountain-view-2/
END:VEVENT
BEGIN:VEVENT
DTSTART;TZID=America/Chicago:20241001T163000
DTEND;TZID=America/Chicago:20241001T201500
DTSTAMP:20260419T094502
CREATED:20240712T024948Z
LAST-MODIFIED:20240927T041936Z
UID:10001162-1727800200-1727813700@hardingwildcats.com
SUMMARY:V @ Riverview 7\,JH\,JV\,V
DESCRIPTION:
URL:https://hardingwildcats.com/event/v-riverview-7jhjvv/
END:VEVENT
BEGIN:VEVENT
DTSTART;TZID=America/Chicago:20241002T160000
DTEND;TZID=America/Chicago:20241002T200000
DTSTAMP:20260419T094502
CREATED:20240816T032028Z
LAST-MODIFIED:20240927T041936Z
UID:10001233-1727884800-1727899200@hardingwildcats.com
SUMMARY:T @ HU vs. Harrisburg
DESCRIPTION:
URL:https://hardingwildcats.com/event/t-hu-vs-harrisburg/
END:VEVENT
BEGIN:VEVENT
DTSTART;TZID=America/Chicago:20241003T000000
DTEND;TZID=America/Chicago:20241005T235959
DTSTAMP:20260419T094502
CREATED:20240705T194949Z
LAST-MODIFIED:20241004T211935Z
UID:10001146-1727913600-1728172799@hardingwildcats.com
SUMMARY:Ozark Mountain Brawl @HA
DESCRIPTION:
URL:https://hardingwildcats.com/event/ozark-mountain-brawl-ha/
END:VEVENT
BEGIN:VEVENT
DTSTART;TZID=America/Chicago:20241003T163000
DTEND;TZID=America/Chicago:20241003T200000
DTSTAMP:20260419T094502
CREATED:20240712T024959Z
LAST-MODIFIED:20240927T041936Z
UID:10001163-1727973000-1727985600@hardingwildcats.com
SUMMARY:V @ HA vs. Maumelle Charter JH\,JV\,V
DESCRIPTION:
URL:https://hardingwildcats.com/event/v-ha-vs-maumelle-charter-jhjvv/
END:VEVENT
BEGIN:VEVENT
DTSTART;TZID=America/Chicago:20241003T173000
DTEND;TZID=America/Chicago:20241003T203000
DTSTAMP:20260419T094502
CREATED:20240816T032041Z
LAST-MODIFIED:20240927T041936Z
UID:10001234-1727976600-1727987400@hardingwildcats.com
SUMMARY:F - JH @ HA vs. Forrest City 7th 5:30\, JH 6:30
DESCRIPTION:
URL:https://hardingwildcats.com/event/f-jh-ha-vs-forrest-city-7th-530-jh-630/
END:VEVENT
BEGIN:VEVENT
DTSTART;TZID=America/Chicago:20241004T190000
DTEND;TZID=America/Chicago:20241004T210000
DTSTAMP:20260419T094502
CREATED:20240712T024959Z
LAST-MODIFIED:20241004T044938Z
UID:10001164-1728068400-1728075600@hardingwildcats.com
SUMMARY:F @ HA vs. Valley View
DESCRIPTION:
URL:https://hardingwildcats.com/event/f-ha-vs-valley-view/
END:VEVENT
BEGIN:VEVENT
DTSTART;TZID=America/Chicago:20241005T000000
DTEND;TZID=America/Chicago:20241005T235959
DTSTAMP:20260419T094502
CREATED:20240712T024959Z
LAST-MODIFIED:20241004T044938Z
UID:10001165-1728086400-1728172799@hardingwildcats.com
SUMMARY:V - Paris Tournament V
DESCRIPTION:
URL:https://hardingwildcats.com/event/v-paris-tournament-v/
END:VEVENT
BEGIN:VEVENT
DTSTART;TZID=America/Chicago:20241005T000000
DTEND;TZID=America/Chicago:20241005T235959
DTSTAMP:20260419T094502
CREATED:20240816T032041Z
LAST-MODIFIED:20241004T044938Z
UID:10001235-1728086400-1728172799@hardingwildcats.com
SUMMARY:XC Sr Frank Horton Night Classic @ Memphis
DESCRIPTION:
URL:https://hardingwildcats.com/event/xc-sr-frank-horton-night-classic-memphis/
END:VEVENT
END:VCALENDAR