BEGIN:VCALENDAR
VERSION:2.0
PRODID:-//Harding Academy - ECPv6.15.20//NONSGML v1.0//EN
CALSCALE:GREGORIAN
METHOD:PUBLISH
X-ORIGINAL-URL:https://hardingwildcats.com
X-WR-CALDESC:Events for Harding Academy
REFRESH-INTERVAL;VALUE=DURATION:PT1H
X-Robots-Tag:noindex
X-PUBLISHED-TTL:PT1H
BEGIN:VTIMEZONE
TZID:America/Chicago
BEGIN:DAYLIGHT
TZOFFSETFROM:-0600
TZOFFSETTO:-0500
TZNAME:CDT
DTSTART:20240310T080000
END:DAYLIGHT
BEGIN:STANDARD
TZOFFSETFROM:-0500
TZOFFSETTO:-0600
TZNAME:CST
DTSTART:20241103T070000
END:STANDARD
BEGIN:DAYLIGHT
TZOFFSETFROM:-0600
TZOFFSETTO:-0500
TZNAME:CDT
DTSTART:20250309T080000
END:DAYLIGHT
BEGIN:STANDARD
TZOFFSETFROM:-0500
TZOFFSETTO:-0600
TZNAME:CST
DTSTART:20251102T070000
END:STANDARD
BEGIN:DAYLIGHT
TZOFFSETFROM:-0600
TZOFFSETTO:-0500
TZNAME:CDT
DTSTART:20260308T080000
END:DAYLIGHT
BEGIN:STANDARD
TZOFFSETFROM:-0500
TZOFFSETTO:-0600
TZNAME:CST
DTSTART:20261101T070000
END:STANDARD
END:VTIMEZONE
BEGIN:VEVENT
DTSTART;TZID=America/Chicago:20250918T173000
DTEND;TZID=America/Chicago:20250918T203000
DTSTAMP:20260421T213810
CREATED:20250620T091938Z
LAST-MODIFIED:20250912T104911Z
UID:10001533-1758216600-1758227400@hardingwildcats.com
SUMMARY:F - 7th & JH @ HA vs. Bald Knob 7th @5:30\, JH@6:30
DESCRIPTION:
URL:https://hardingwildcats.com/event/f-7th-jh-ha-vs-bald-knob-7th-530-jh630/
END:VEVENT
BEGIN:VEVENT
DTSTART;TZID=America/Chicago:20250919T190000
DTEND;TZID=America/Chicago:20250919T210000
DTSTAMP:20260421T213810
CREATED:20250627T091936Z
LAST-MODIFIED:20250919T104935Z
UID:10001536-1758308400-1758315600@hardingwildcats.com
SUMMARY:F @ Elkins
DESCRIPTION:
URL:https://hardingwildcats.com/event/f-elkins/
END:VEVENT
BEGIN:VEVENT
DTSTART;TZID=America/Chicago:20250920T000000
DTEND;TZID=America/Chicago:20250921T235959
DTSTAMP:20260421T213810
CREATED:20250628T011936Z
LAST-MODIFIED:20250915T194937Z
UID:10001539-1758326400-1758499199@hardingwildcats.com
SUMMARY:Senior High Retreat
DESCRIPTION:
URL:https://hardingwildcats.com/event/senior-high-retreat-2/
END:VEVENT
BEGIN:VEVENT
DTSTART;TZID=America/Chicago:20250920T083000
DTEND;TZID=America/Chicago:20250920T120000
DTSTAMP:20260421T213810
CREATED:20250801T102015Z
LAST-MODIFIED:20250919T104935Z
UID:10001610-1758357000-1758369600@hardingwildcats.com
SUMMARY:CC @ Little Rock XC Classic SH & JH
DESCRIPTION:
URL:https://hardingwildcats.com/event/cc-little-rock-xc-classic-sh-jh/
END:VEVENT
BEGIN:VEVENT
DTSTART;TZID=America/Chicago:20250922T163000
DTEND;TZID=America/Chicago:20250922T200000
DTSTAMP:20260421T213810
CREATED:20250704T091949Z
LAST-MODIFIED:20250919T104935Z
UID:10001551-1758558600-1758571200@hardingwildcats.com
SUMMARY:V @ HA vs. Wynne JH\, V
DESCRIPTION:
URL:https://hardingwildcats.com/event/v-ha-vs-wynne-jh-v/
END:VEVENT
BEGIN:VEVENT
DTSTART;TZID=America/Chicago:20250923T160000
DTEND;TZID=America/Chicago:20250923T190000
DTSTAMP:20260421T213810
CREATED:20250725T102012Z
LAST-MODIFIED:20250919T104936Z
UID:10001599-1758643200-1758654000@hardingwildcats.com
SUMMARY:T @ HU Courts vs. Cave City & Newport
DESCRIPTION:
URL:https://hardingwildcats.com/event/t-hu-courts-vs-cave-city-newport/
END:VEVENT
BEGIN:VEVENT
DTSTART;TZID=America/Chicago:20250923T163000
DTEND;TZID=America/Chicago:20250923T200000
DTSTAMP:20260421T213810
CREATED:20250704T092002Z
LAST-MODIFIED:20250919T104936Z
UID:10001552-1758645000-1758657600@hardingwildcats.com
SUMMARY:V @ HA vs. Episcopal 7\, JH\, V
DESCRIPTION:
URL:https://hardingwildcats.com/event/v-ha-vs-episcopal-7-jh-jv-v/
END:VEVENT
BEGIN:VEVENT
DTSTART;TZID=America/Chicago:20250924T153000
DTEND;TZID=America/Chicago:20250924T180000
DTSTAMP:20260421T213810
CREATED:20250822T105012Z
LAST-MODIFIED:20250919T104936Z
UID:10001645-1758727800-1758736800@hardingwildcats.com
SUMMARY:T - @ HU Courts vs. Harrisburg
DESCRIPTION:
URL:https://hardingwildcats.com/event/t-hu-courts-vs-harrisburg-2/
END:VEVENT
BEGIN:VEVENT
DTSTART;TZID=America/Chicago:20250925T163000
DTEND;TZID=America/Chicago:20250925T200000
DTSTAMP:20260421T213810
CREATED:20250704T092002Z
LAST-MODIFIED:20250919T104936Z
UID:10001553-1758817800-1758830400@hardingwildcats.com
SUMMARY:V @ HA vs. Lisa Academy 7\, JH\, V
DESCRIPTION:
URL:https://hardingwildcats.com/event/v-ha-vs-lisa-academy-7-jh-v/
END:VEVENT
BEGIN:VEVENT
DTSTART;TZID=America/Chicago:20250925T173000
DTEND;TZID=America/Chicago:20250925T203000
DTSTAMP:20260421T213810
CREATED:20250627T091936Z
LAST-MODIFIED:20250919T104936Z
UID:10001537-1758821400-1758832200@hardingwildcats.com
SUMMARY:F - 7th & JH @ Riverview 7th@5:30 JH@6:30
DESCRIPTION:
URL:https://hardingwildcats.com/event/f-7th-jh-riverview-7th530-jh630/
END:VEVENT
BEGIN:VEVENT
DTSTART;TZID=America/Chicago:20250926T190000
DTEND;TZID=America/Chicago:20250926T210000
DTSTAMP:20260421T213810
CREATED:20250704T092002Z
LAST-MODIFIED:20250926T104935Z
UID:10001554-1758913200-1758920400@hardingwildcats.com
SUMMARY:F @ HA vs. GC Tech
DESCRIPTION:
URL:https://hardingwildcats.com/event/f-ha-vs-gc-tech/
END:VEVENT
BEGIN:VEVENT
DTSTART;TZID=America/Chicago:20250927T113000
DTEND;TZID=America/Chicago:20250927T123000
DTSTAMP:20260421T213810
CREATED:20250915T194937Z
LAST-MODIFIED:20250922T201938Z
UID:10001670-1758972600-1758976200@hardingwildcats.com
SUMMARY:Get Down Downton - Chorus/Band
DESCRIPTION:
URL:https://hardingwildcats.com/event/get-down-downton-chorus-band/
END:VEVENT
BEGIN:VEVENT
DTSTART;TZID=America/Chicago:20250929T000000
DTEND;TZID=America/Chicago:20250929T235959
DTSTAMP:20260421T213810
CREATED:20250926T104935Z
LAST-MODIFIED:20250926T104935Z
UID:10001682-1759104000-1759190399@hardingwildcats.com
SUMMARY:G - Girls State Tourn. @ Russellville Country Club
DESCRIPTION:
URL:https://hardingwildcats.com/event/g-girls-state-tourn-russellville-country-club/
END:VEVENT
BEGIN:VEVENT
DTSTART;TZID=America/Chicago:20250929T163000
DTEND;TZID=America/Chicago:20250929T200000
DTSTAMP:20260421T213810
CREATED:20250704T092002Z
LAST-MODIFIED:20250926T104935Z
UID:10001555-1759163400-1759176000@hardingwildcats.com
SUMMARY:V @ HA vs. Sheridan JV\, V
DESCRIPTION:
URL:https://hardingwildcats.com/event/v-ha-vs-sheridan-jv-v/
END:VEVENT
BEGIN:VEVENT
DTSTART;TZID=America/Chicago:20250929T183000
DTEND;TZID=America/Chicago:20250929T193000
DTSTAMP:20260421T213810
CREATED:20250705T011936Z
LAST-MODIFIED:20250929T201936Z
UID:10001559-1759170600-1759174200@hardingwildcats.com
SUMMARY:Chorus @HU Lectureship
DESCRIPTION:
URL:https://hardingwildcats.com/event/chorus-hu-lectureship-2/
END:VEVENT
BEGIN:VEVENT
DTSTART;TZID=America/Chicago:20250930T100000
DTEND;TZID=America/Chicago:20250930T103000
DTSTAMP:20260421T213810
CREATED:20250705T011936Z
LAST-MODIFIED:20250929T201937Z
UID:10001560-1759226400-1759228200@hardingwildcats.com
SUMMARY:Jostens-Senior Cap/Gown Presentation Day
DESCRIPTION:
URL:https://hardingwildcats.com/event/jostens-senior-cap-gown-presentation-day/
END:VEVENT
BEGIN:VEVENT
DTSTART;TZID=America/Chicago:20250930T100000
DTEND;TZID=America/Chicago:20250930T103000
DTSTAMP:20260421T213810
CREATED:20250705T011937Z
LAST-MODIFIED:20250929T201937Z
UID:10001561-1759226400-1759228200@hardingwildcats.com
SUMMARY:Jostens-Junior Class Ring Presentation Day
DESCRIPTION:
URL:https://hardingwildcats.com/event/jostens-junior-class-ring-presentation-day/
END:VEVENT
BEGIN:VEVENT
DTSTART;TZID=America/Chicago:20250930T153000
DTEND;TZID=America/Chicago:20250930T183000
DTSTAMP:20260421T213810
CREATED:20250926T104935Z
LAST-MODIFIED:20250926T104935Z
UID:10001683-1759246200-1759257000@hardingwildcats.com
SUMMARY:T - vs. Robinson @ Rebsamen Park
DESCRIPTION:
URL:https://hardingwildcats.com/event/t-vs-robinson-rebsamen-park/
END:VEVENT
BEGIN:VEVENT
DTSTART;TZID=America/Chicago:20250930T160000
DTEND;TZID=America/Chicago:20250930T183000
DTSTAMP:20260421T213810
CREATED:20250919T104948Z
LAST-MODIFIED:20250926T104935Z
UID:10001673-1759248000-1759257000@hardingwildcats.com
SUMMARY:CC - JH @ Lyon College Batesville
DESCRIPTION:
URL:https://hardingwildcats.com/event/cc-jh-lyon-college-batesville/
END:VEVENT
BEGIN:VEVENT
DTSTART;TZID=America/Chicago:20250930T163000
DTEND;TZID=America/Chicago:20250930T200000
DTSTAMP:20260421T213810
CREATED:20250704T092003Z
LAST-MODIFIED:20250926T104935Z
UID:10001556-1759249800-1759262400@hardingwildcats.com
SUMMARY:V @ HA vs. Riverview 7\, JH\, JV\, V
DESCRIPTION:
URL:https://hardingwildcats.com/event/v-ha-vs-riverview-7-jh-jv-v/
END:VEVENT
BEGIN:VEVENT
DTSTART;TZID=America/Chicago:20251002T160000
DTEND;TZID=America/Chicago:20251002T190000
DTSTAMP:20260421T213810
CREATED:20250725T102024Z
LAST-MODIFIED:20250926T104936Z
UID:10001600-1759420800-1759431600@hardingwildcats.com
SUMMARY:T @ HU Courts vs. Mountain View
DESCRIPTION:
URL:https://hardingwildcats.com/event/t-hu-courts-vs-mountain-view-2/
END:VEVENT
BEGIN:VEVENT
DTSTART;TZID=America/Chicago:20251002T163000
DTEND;TZID=America/Chicago:20251002T200000
DTSTAMP:20260421T213810
CREATED:20250704T092003Z
LAST-MODIFIED:20250926T104935Z
UID:10001558-1759422600-1759435200@hardingwildcats.com
SUMMARY:V @ Maumelle Charter 7\, JH\, V
DESCRIPTION:
URL:https://hardingwildcats.com/event/v-maumelle-charter-7-jh-v/
END:VEVENT
BEGIN:VEVENT
DTSTART;TZID=America/Chicago:20251002T173000
DTEND;TZID=America/Chicago:20251002T203000
DTSTAMP:20260421T213810
CREATED:20250704T092003Z
LAST-MODIFIED:20250926T104936Z
UID:10001557-1759426200-1759437000@hardingwildcats.com
SUMMARY:F - 7th & JH @ Forrest City 7th@5:30\, JH@6:30
DESCRIPTION:
URL:https://hardingwildcats.com/event/f-7th-jh-forrest-city-7th530-jh630/
END:VEVENT
BEGIN:VEVENT
DTSTART;TZID=America/Chicago:20251003T000000
DTEND;TZID=America/Chicago:20251004T235959
DTSTAMP:20260421T213810
CREATED:20250719T011949Z
LAST-MODIFIED:20250929T201937Z
UID:10001578-1759449600-1759622399@hardingwildcats.com
SUMMARY:Robotics FRC - Ozark Mountain Brawl @ HA
DESCRIPTION:
URL:https://hardingwildcats.com/event/robotics-frc-ozark-mountain-brawl-ha/
END:VEVENT
BEGIN:VEVENT
DTSTART;TZID=America/Chicago:20251003T190000
DTEND;TZID=America/Chicago:20251003T210000
DTSTAMP:20260421T213810
CREATED:20250711T095001Z
LAST-MODIFIED:20251003T104936Z
UID:10001562-1759518000-1759525200@hardingwildcats.com
SUMMARY:F @ Valley View
DESCRIPTION:
URL:https://hardingwildcats.com/event/f-valley-view-2/
END:VEVENT
BEGIN:VEVENT
DTSTART;TZID=America/Chicago:20251003T190000
DTEND;TZID=America/Chicago:20251003T210000
DTSTAMP:20260421T213810
CREATED:20250801T102040Z
LAST-MODIFIED:20250912T104937Z
UID:10001611-1759518000-1759525200@hardingwildcats.com
SUMMARY:CC @ Memphis TN Frank Horton Night Classic JH
DESCRIPTION:
URL:https://hardingwildcats.com/event/cc-memphis-tn-frank-horton-night-classic-jh/
END:VEVENT
BEGIN:VEVENT
DTSTART;TZID=America/Chicago:20251004T190000
DTEND;TZID=America/Chicago:20251004T210000
DTSTAMP:20260421T213810
CREATED:20250801T102040Z
LAST-MODIFIED:20251003T104936Z
UID:10001612-1759604400-1759611600@hardingwildcats.com
SUMMARY:CC @ Memphis TN Frank Horton Night Classic SH
DESCRIPTION:
URL:https://hardingwildcats.com/event/cc-memphis-tn-frank-horton-night-classic-sh/
END:VEVENT
BEGIN:VEVENT
DTSTART;TZID=America/Chicago:20251006T000000
DTEND;TZID=America/Chicago:20251006T235959
DTSTAMP:20260421T213810
CREATED:20250926T104949Z
LAST-MODIFIED:20251003T104936Z
UID:10001684-1759708800-1759795199@hardingwildcats.com
SUMMARY:G - Boys State Tourn. @ Cooper's Hawk
DESCRIPTION:
URL:https://hardingwildcats.com/event/g-boys-state-tourn-coopers-hawk/
END:VEVENT
BEGIN:VEVENT
DTSTART;TZID=America/Chicago:20251006T100000
DTEND;TZID=America/Chicago:20251006T103000
DTSTAMP:20260421T213810
CREATED:20250712T011937Z
LAST-MODIFIED:20250929T201937Z
UID:10001566-1759744800-1759746600@hardingwildcats.com
SUMMARY:Jostens-Senior Cap/Gown Order Day
DESCRIPTION:
URL:https://hardingwildcats.com/event/jostens-senior-cap-gown-order-day/
END:VEVENT
BEGIN:VEVENT
DTSTART;TZID=America/Chicago:20251006T100000
DTEND;TZID=America/Chicago:20251006T103000
DTSTAMP:20260421T213810
CREATED:20250712T011948Z
LAST-MODIFIED:20250929T201937Z
UID:10001567-1759744800-1759746600@hardingwildcats.com
SUMMARY:Jostens-Junior Class Ring Order Day
DESCRIPTION:
URL:https://hardingwildcats.com/event/jostens-junior-class-ring-order-day/
END:VEVENT
END:VCALENDAR