BEGIN:VCALENDAR
VERSION:2.0
PRODID:-//Harding Academy - ECPv6.15.20//NONSGML v1.0//EN
CALSCALE:GREGORIAN
METHOD:PUBLISH
X-ORIGINAL-URL:https://hardingwildcats.com
X-WR-CALDESC:Events for Harding Academy
REFRESH-INTERVAL;VALUE=DURATION:PT1H
X-Robots-Tag:noindex
X-PUBLISHED-TTL:PT1H
BEGIN:VTIMEZONE
TZID:America/Chicago
BEGIN:DAYLIGHT
TZOFFSETFROM:-0600
TZOFFSETTO:-0500
TZNAME:CDT
DTSTART:20240310T080000
END:DAYLIGHT
BEGIN:STANDARD
TZOFFSETFROM:-0500
TZOFFSETTO:-0600
TZNAME:CST
DTSTART:20241103T070000
END:STANDARD
BEGIN:DAYLIGHT
TZOFFSETFROM:-0600
TZOFFSETTO:-0500
TZNAME:CDT
DTSTART:20250309T080000
END:DAYLIGHT
BEGIN:STANDARD
TZOFFSETFROM:-0500
TZOFFSETTO:-0600
TZNAME:CST
DTSTART:20251102T070000
END:STANDARD
BEGIN:DAYLIGHT
TZOFFSETFROM:-0600
TZOFFSETTO:-0500
TZNAME:CDT
DTSTART:20260308T080000
END:DAYLIGHT
BEGIN:STANDARD
TZOFFSETFROM:-0500
TZOFFSETTO:-0600
TZNAME:CST
DTSTART:20261101T070000
END:STANDARD
END:VTIMEZONE
BEGIN:VEVENT
DTSTART;TZID=America/Chicago:20251016T173000
DTEND;TZID=America/Chicago:20251016T203000
DTSTAMP:20260422T165519
CREATED:20250718T102018Z
LAST-MODIFIED:20251010T104912Z
UID:10001572-1760635800-1760646600@hardingwildcats.com
SUMMARY:F - 7th & JH @ Heber Springs 7th@5:30\, JH@6:30
DESCRIPTION:
URL:https://hardingwildcats.com/event/f-7th-jh-heber-springs-7th530-jh630/
END:VEVENT
BEGIN:VEVENT
DTSTART;TZID=America/Chicago:20251017T150000
DTEND;TZID=America/Chicago:20251017T153000
DTSTAMP:20260422T165519
CREATED:20251006T201921Z
LAST-MODIFIED:20251013T201937Z
UID:10001689-1760713200-1760715000@hardingwildcats.com
SUMMARY:Pep Rally - afternoon
DESCRIPTION:
URL:https://hardingwildcats.com/event/pep-rally-afternoon/
END:VEVENT
BEGIN:VEVENT
DTSTART;TZID=America/Chicago:20251017T190000
DTEND;TZID=America/Chicago:20251017T210000
DTSTAMP:20260422T165519
CREATED:20250725T102037Z
LAST-MODIFIED:20251010T104912Z
UID:10001601-1760727600-1760734800@hardingwildcats.com
SUMMARY:F @ Paragould
DESCRIPTION:
URL:https://hardingwildcats.com/event/f-paragould/
END:VEVENT
BEGIN:VEVENT
DTSTART;TZID=America/Chicago:20251018T000000
DTEND;TZID=America/Chicago:20251018T235959
DTSTAMP:20260422T165519
CREATED:20250726T012003Z
LAST-MODIFIED:20251013T201937Z
UID:10001603-1760745600-1760831999@hardingwildcats.com
SUMMARY:Junior High Chorus All Region Auditions
DESCRIPTION:
URL:https://hardingwildcats.com/event/junior-high-chorus-all-region-auditions-2/
LOCATION:Douglas MacArthur Junior High School\, 1614 Wilkins Ave\, Jonesboro\, AR\, United States
GEO:35.824875;-90.686081
X-APPLE-STRUCTURED-LOCATION;VALUE=URI;X-ADDRESS=Douglas MacArthur Junior High School 1614 Wilkins Ave Jonesboro AR United States;X-APPLE-RADIUS=500;X-TITLE=1614 Wilkins Ave:geo:-90.686081,35.824875
END:VEVENT
BEGIN:VEVENT
DTSTART;TZID=America/Chicago:20251020T000000
DTEND;TZID=America/Chicago:20251022T235959
DTSTAMP:20260422T165519
CREATED:20250725T102037Z
LAST-MODIFIED:20251010T104912Z
UID:10001602-1760918400-1761177599@hardingwildcats.com
SUMMARY:V - Sr. High Regional Tourn. @ Harding
DESCRIPTION:
URL:https://hardingwildcats.com/event/v-sr-high-regional-tourn-harding/
END:VEVENT
BEGIN:VEVENT
DTSTART;TZID=America/Chicago:20251021T080000
DTEND;TZID=America/Chicago:20251021T105500
DTSTAMP:20260422T165519
CREATED:20250915T195001Z
LAST-MODIFIED:20251013T201937Z
UID:10001671-1761033600-1761044100@hardingwildcats.com
SUMMARY:Elementary Fire Prevention with SFD
DESCRIPTION:
URL:https://hardingwildcats.com/event/elementary-fire-prevention-with-sfd/
END:VEVENT
BEGIN:VEVENT
DTSTART;TZID=America/Chicago:20251021T150000
DTEND;TZID=America/Chicago:20251021T180000
DTSTAMP:20260422T165519
CREATED:20250801T102054Z
LAST-MODIFIED:20251010T104912Z
UID:10001615-1761058800-1761069600@hardingwildcats.com
SUMMARY:CC @ Jonesboro Blazer Invitational SH & JH
DESCRIPTION:
URL:https://hardingwildcats.com/event/cc-jonesboro-blazer-invitational-sh-jh/
END:VEVENT
BEGIN:VEVENT
DTSTART;TZID=America/Chicago:20251023T160000
DTEND;TZID=America/Chicago:20251023T190000
DTSTAMP:20260422T165519
CREATED:20250912T104949Z
LAST-MODIFIED:20251010T104924Z
UID:10001666-1761235200-1761246000@hardingwildcats.com
SUMMARY:CC - 3A-6 District Championship at Bald Knob
DESCRIPTION:
URL:https://hardingwildcats.com/event/cc-3a-6-district-championship-at-bald-knob/
END:VEVENT
BEGIN:VEVENT
DTSTART;TZID=America/Chicago:20251024T000000
DTEND;TZID=America/Chicago:20251024T235959
DTSTAMP:20260422T165519
CREATED:20250726T012003Z
LAST-MODIFIED:20251013T201937Z
UID:10001604-1761264000-1761350399@hardingwildcats.com
SUMMARY:Grandparent's Day
DESCRIPTION:
URL:https://hardingwildcats.com/event/grandparents-day-3/
END:VEVENT
BEGIN:VEVENT
DTSTART;TZID=America/Chicago:20251024T183000
DTEND;TZID=America/Chicago:20251024T190000
DTSTAMP:20260422T165519
CREATED:20250801T102055Z
LAST-MODIFIED:20251010T104924Z
UID:10001617-1761330600-1761332400@hardingwildcats.com
SUMMARY:Fall Sports Sr. Night
DESCRIPTION:
URL:https://hardingwildcats.com/event/fall-sports-sr-night-2/
END:VEVENT
BEGIN:VEVENT
DTSTART;TZID=America/Chicago:20251024T190000
DTEND;TZID=America/Chicago:20251024T210000
DTSTAMP:20260422T165519
CREATED:20250801T102055Z
LAST-MODIFIED:20251010T104924Z
UID:10001616-1761332400-1761339600@hardingwildcats.com
SUMMARY:F @ HA vs. Nettleton
DESCRIPTION:
URL:https://hardingwildcats.com/event/f-ha-vs-nettleton/
END:VEVENT
BEGIN:VEVENT
DTSTART;TZID=America/Chicago:20251027T000000
DTEND;TZID=America/Chicago:20251027T235959
DTSTAMP:20260422T165519
CREATED:20250929T202000Z
LAST-MODIFIED:20251013T201937Z
UID:10001686-1761523200-1761609599@hardingwildcats.com
SUMMARY:Hearing & Vision Screening 6\, 8
DESCRIPTION:
URL:https://hardingwildcats.com/event/hearing-vision-screening-6-8/
END:VEVENT
BEGIN:VEVENT
DTSTART;TZID=America/Chicago:20251028T000000
DTEND;TZID=America/Chicago:20251028T235959
DTSTAMP:20260422T165519
CREATED:20250801T102055Z
LAST-MODIFIED:20251010T104925Z
UID:10001618-1761609600-1761695999@hardingwildcats.com
SUMMARY:V - Sr. High State Tourn @ CAC
DESCRIPTION:
URL:https://hardingwildcats.com/event/v-sr-high-state-tourn-cac/
END:VEVENT
BEGIN:VEVENT
DTSTART;TZID=America/Chicago:20251028T000000
DTEND;TZID=America/Chicago:20251028T235959
DTSTAMP:20260422T165519
CREATED:20250922T201951Z
LAST-MODIFIED:20251013T201948Z
UID:10001680-1761609600-1761695999@hardingwildcats.com
SUMMARY:4th Grade Field Trip to Museum of Discovery
DESCRIPTION:
URL:https://hardingwildcats.com/event/4th-grade-field-trip-to-museum-of-discovery/
END:VEVENT
BEGIN:VEVENT
DTSTART;TZID=America/Chicago:20251029T162500
DTEND;TZID=America/Chicago:20251029T182500
DTSTAMP:20260422T165519
CREATED:20250919T105014Z
LAST-MODIFIED:20251010T104925Z
UID:10001676-1761755100-1761762300@hardingwildcats.com
SUMMARY:CC @ Maumelle Charter SH & JH Last Chance Showdown
DESCRIPTION:
URL:https://hardingwildcats.com/event/cc-maumelle-charter-sh-jh-last-chance-showdown/
END:VEVENT
BEGIN:VEVENT
DTSTART;TZID=America/Chicago:20251030T173000
DTEND;TZID=America/Chicago:20251030T203000
DTSTAMP:20260422T165519
CREATED:20250801T102055Z
LAST-MODIFIED:20251010T104925Z
UID:10001619-1761845400-1761856200@hardingwildcats.com
SUMMARY:F - 7th & JH @ HA vs. Lonoke 7th@5:30\, JH@6:30
DESCRIPTION:
URL:https://hardingwildcats.com/event/f-7th-jh-ha-vs-lonoke-7th530-jh630/
END:VEVENT
BEGIN:VEVENT
DTSTART;TZID=America/Chicago:20251031T000000
DTEND;TZID=America/Chicago:20251031T235959
DTSTAMP:20260422T165519
CREATED:20250804T192019Z
LAST-MODIFIED:20251013T201948Z
UID:10001625-1761868800-1761955199@hardingwildcats.com
SUMMARY:Junior High Chorus All Region Clinic and Concert
DESCRIPTION:
URL:https://hardingwildcats.com/event/junior-high-chorus-all-region-clinic-and-concert-2/
LOCATION:Arkansas State University\, 1999 Aggie Rd\, Jonesboro\, AR\, United States
GEO:35.842815;-90.681739
X-APPLE-STRUCTURED-LOCATION;VALUE=URI;X-ADDRESS=Arkansas State University 1999 Aggie Rd Jonesboro AR United States;X-APPLE-RADIUS=500;X-TITLE=1999 Aggie Rd:geo:-90.681739,35.842815
END:VEVENT
BEGIN:VEVENT
DTSTART;TZID=America/Chicago:20251031T190000
DTEND;TZID=America/Chicago:20251031T210000
DTSTAMP:20260422T165519
CREATED:20250808T102103Z
LAST-MODIFIED:20251010T104925Z
UID:10001628-1761937200-1761944400@hardingwildcats.com
SUMMARY:F @ HA vs. Wynne
DESCRIPTION:
URL:https://hardingwildcats.com/event/f-ha-vs-wynne/
END:VEVENT
BEGIN:VEVENT
DTSTART;TZID=America/Chicago:20251101T000000
DTEND;TZID=America/Chicago:20251101T235959
DTSTAMP:20260422T165519
CREATED:20250804T192020Z
LAST-MODIFIED:20251013T201949Z
UID:10001626-1761955200-1762041599@hardingwildcats.com
SUMMARY:Senior High Chorus All Region Clinic and Concert
DESCRIPTION:
URL:https://hardingwildcats.com/event/senior-high-chorus-all-region-clinic-and-concert-2/
LOCATION:Arkansas State University\, 1999 Aggie Rd\, Jonesboro\, AR\, United States
GEO:35.842815;-90.681739
X-APPLE-STRUCTURED-LOCATION;VALUE=URI;X-ADDRESS=Arkansas State University 1999 Aggie Rd Jonesboro AR United States;X-APPLE-RADIUS=500;X-TITLE=1999 Aggie Rd:geo:-90.681739,35.842815
END:VEVENT
BEGIN:VEVENT
DTSTART;TZID=America/Chicago:20251101T000000
DTEND;TZID=America/Chicago:20251101T235959
DTSTAMP:20260422T165519
CREATED:20250808T102103Z
LAST-MODIFIED:20251010T104925Z
UID:10001627-1761955200-1762041599@hardingwildcats.com
SUMMARY:V - State Finals @ Hot Springs
DESCRIPTION:
URL:https://hardingwildcats.com/event/v-state-finals-hot-springs-2/
END:VEVENT
BEGIN:VEVENT
DTSTART;TZID=America/Chicago:20251106T111500
DTEND;TZID=America/Chicago:20251106T180000
DTSTAMP:20260422T165519
CREATED:20250808T102116Z
LAST-MODIFIED:20251010T104925Z
UID:10001629-1762427700-1762452000@hardingwildcats.com
SUMMARY:CC @ Hot Springs 3A State Championship SH
DESCRIPTION:
URL:https://hardingwildcats.com/event/cc-hot-springs-3a-state-championship-sh/
END:VEVENT
BEGIN:VEVENT
DTSTART;TZID=America/Chicago:20251106T190000
DTEND;TZID=America/Chicago:20251106T203000
DTSTAMP:20260422T165519
CREATED:20250901T192015Z
LAST-MODIFIED:20251013T201949Z
UID:10001658-1762455600-1762461000@hardingwildcats.com
SUMMARY:Freaky Friday
DESCRIPTION:
URL:https://hardingwildcats.com/event/freaky-friday-3/
END:VEVENT
BEGIN:VEVENT
DTSTART;TZID=America/Chicago:20251107T080500
DTEND;TZID=America/Chicago:20251107T083500
DTSTAMP:20260422T165519
CREATED:20250818T192018Z
LAST-MODIFIED:20251013T201949Z
UID:10001640-1762502700-1762504500@hardingwildcats.com
SUMMARY:All School Chapel
DESCRIPTION:
URL:https://hardingwildcats.com/event/all-school-chapel-3/
END:VEVENT
BEGIN:VEVENT
DTSTART;TZID=America/Chicago:20251107T150000
DTEND;TZID=America/Chicago:20251107T153000
DTSTAMP:20260422T165519
CREATED:20251006T201934Z
LAST-MODIFIED:20251013T201949Z
UID:10001690-1762527600-1762529400@hardingwildcats.com
SUMMARY:Pep Rally - Afternoon
DESCRIPTION:
URL:https://hardingwildcats.com/event/pep-rally-afternoon-2/
END:VEVENT
BEGIN:VEVENT
DTSTART;TZID=America/Chicago:20251108T140000
DTEND;TZID=America/Chicago:20251108T160000
DTSTAMP:20260422T165519
CREATED:20250811T192004Z
LAST-MODIFIED:20251013T201949Z
UID:10001630-1762610400-1762617600@hardingwildcats.com
SUMMARY:Freaky Friday
DESCRIPTION:
URL:https://hardingwildcats.com/event/freaky-friday/
END:VEVENT
BEGIN:VEVENT
DTSTART;TZID=America/Chicago:20251108T190000
DTEND;TZID=America/Chicago:20251108T210000
DTSTAMP:20260422T165519
CREATED:20250811T192004Z
LAST-MODIFIED:20251013T201949Z
UID:10001631-1762628400-1762635600@hardingwildcats.com
SUMMARY:Freaky Friday
DESCRIPTION:
URL:https://hardingwildcats.com/event/freaky-friday-2/
END:VEVENT
BEGIN:VEVENT
DTSTART;TZID=America/Chicago:20251111T000000
DTEND;TZID=America/Chicago:20251111T235959
DTSTAMP:20260422T165519
CREATED:20250818T192019Z
LAST-MODIFIED:20251013T201949Z
UID:10001641-1762819200-1762905599@hardingwildcats.com
SUMMARY:Jazz Band Region Auditions @ Marion HS
DESCRIPTION:Host:  Monty Hill
URL:https://hardingwildcats.com/event/jazz-band-region-auditions-marion-hs/
LOCATION:Marion High School\, Marion\, AR\, United States
GEO:35.21453;-90.19648
END:VEVENT
BEGIN:VEVENT
DTSTART;TZID=America/Chicago:20251111T161500
DTEND;TZID=America/Chicago:20251111T200000
DTSTAMP:20260422T165519
CREATED:20250815T102056Z
LAST-MODIFIED:20251010T104925Z
UID:10001632-1762877700-1762891200@hardingwildcats.com
SUMMARY:BB@ HA vs. Des Arc JB
DESCRIPTION:
URL:https://hardingwildcats.com/event/bb-ha-vs-des-arc-jb/
END:VEVENT
BEGIN:VEVENT
DTSTART;TZID=America/Chicago:20251113T170000
DTEND;TZID=America/Chicago:20251113T210000
DTSTAMP:20260422T165519
CREATED:20250815T102056Z
LAST-MODIFIED:20251010T104936Z
UID:10001633-1763053200-1763067600@hardingwildcats.com
SUMMARY:BB @ HA vs. Conway Christian 7B\,8B\,JB
DESCRIPTION:
URL:https://hardingwildcats.com/event/bb-ha-vs-conway-christian-7b8bjb/
END:VEVENT
BEGIN:VEVENT
DTSTART;TZID=America/Chicago:20251114T000000
DTEND;TZID=America/Chicago:20251115T235959
DTSTAMP:20260422T165519
CREATED:20250818T192019Z
LAST-MODIFIED:20251013T201949Z
UID:10001642-1763078400-1763251199@hardingwildcats.com
SUMMARY:Jazz Band Clinic @ West Memphis HS
DESCRIPTION:Host:  Aaron Decker
URL:https://hardingwildcats.com/event/jazz-band-clinic-west-memphis-hs/
LOCATION:Academies of West Memphis High School\, 398 W Broadway\, West Memphis\, AR\, United States
GEO:35.146369;-90.19355
X-APPLE-STRUCTURED-LOCATION;VALUE=URI;X-ADDRESS=Academies of West Memphis High School 398 W Broadway West Memphis AR United States;X-APPLE-RADIUS=500;X-TITLE=398 W Broadway:geo:-90.19355,35.146369
END:VEVENT
END:VCALENDAR