BEGIN:VCALENDAR
VERSION:2.0
PRODID:-//Harding Academy - ECPv6.15.20//NONSGML v1.0//EN
CALSCALE:GREGORIAN
METHOD:PUBLISH
X-ORIGINAL-URL:https://hardingwildcats.com
X-WR-CALDESC:Events for Harding Academy
REFRESH-INTERVAL;VALUE=DURATION:PT1H
X-Robots-Tag:noindex
X-PUBLISHED-TTL:PT1H
BEGIN:VTIMEZONE
TZID:America/Chicago
BEGIN:DAYLIGHT
TZOFFSETFROM:-0600
TZOFFSETTO:-0500
TZNAME:CDT
DTSTART:20240310T080000
END:DAYLIGHT
BEGIN:STANDARD
TZOFFSETFROM:-0500
TZOFFSETTO:-0600
TZNAME:CST
DTSTART:20241103T070000
END:STANDARD
BEGIN:DAYLIGHT
TZOFFSETFROM:-0600
TZOFFSETTO:-0500
TZNAME:CDT
DTSTART:20250309T080000
END:DAYLIGHT
BEGIN:STANDARD
TZOFFSETFROM:-0500
TZOFFSETTO:-0600
TZNAME:CST
DTSTART:20251102T070000
END:STANDARD
BEGIN:DAYLIGHT
TZOFFSETFROM:-0600
TZOFFSETTO:-0500
TZNAME:CDT
DTSTART:20260308T080000
END:DAYLIGHT
BEGIN:STANDARD
TZOFFSETFROM:-0500
TZOFFSETTO:-0600
TZNAME:CST
DTSTART:20261101T070000
END:STANDARD
END:VTIMEZONE
BEGIN:VEVENT
DTSTART;TZID=America/Chicago:20251031T190000
DTEND;TZID=America/Chicago:20251031T210000
DTSTAMP:20260423T054546
CREATED:20250808T102103Z
LAST-MODIFIED:20251010T104925Z
UID:10001628-1761937200-1761944400@hardingwildcats.com
SUMMARY:F @ HA vs. Wynne
DESCRIPTION:
URL:https://hardingwildcats.com/event/f-ha-vs-wynne/
END:VEVENT
BEGIN:VEVENT
DTSTART;TZID=America/Chicago:20251101T000000
DTEND;TZID=America/Chicago:20251101T235959
DTSTAMP:20260423T054546
CREATED:20250804T192020Z
LAST-MODIFIED:20251013T201949Z
UID:10001626-1761955200-1762041599@hardingwildcats.com
SUMMARY:Senior High Chorus All Region Clinic and Concert
DESCRIPTION:
URL:https://hardingwildcats.com/event/senior-high-chorus-all-region-clinic-and-concert-2/
LOCATION:Arkansas State University\, 1999 Aggie Rd\, Jonesboro\, AR\, United States
GEO:35.842815;-90.681739
X-APPLE-STRUCTURED-LOCATION;VALUE=URI;X-ADDRESS=Arkansas State University 1999 Aggie Rd Jonesboro AR United States;X-APPLE-RADIUS=500;X-TITLE=1999 Aggie Rd:geo:-90.681739,35.842815
END:VEVENT
BEGIN:VEVENT
DTSTART;TZID=America/Chicago:20251101T000000
DTEND;TZID=America/Chicago:20251101T235959
DTSTAMP:20260423T054546
CREATED:20250808T102103Z
LAST-MODIFIED:20251010T104925Z
UID:10001627-1761955200-1762041599@hardingwildcats.com
SUMMARY:V - State Finals @ Hot Springs
DESCRIPTION:
URL:https://hardingwildcats.com/event/v-state-finals-hot-springs-2/
END:VEVENT
BEGIN:VEVENT
DTSTART;TZID=America/Chicago:20251106T111500
DTEND;TZID=America/Chicago:20251106T180000
DTSTAMP:20260423T054546
CREATED:20250808T102116Z
LAST-MODIFIED:20251010T104925Z
UID:10001629-1762427700-1762452000@hardingwildcats.com
SUMMARY:CC @ Hot Springs 3A State Championship SH
DESCRIPTION:
URL:https://hardingwildcats.com/event/cc-hot-springs-3a-state-championship-sh/
END:VEVENT
BEGIN:VEVENT
DTSTART;TZID=America/Chicago:20251106T190000
DTEND;TZID=America/Chicago:20251106T203000
DTSTAMP:20260423T054546
CREATED:20250901T192015Z
LAST-MODIFIED:20251013T201949Z
UID:10001658-1762455600-1762461000@hardingwildcats.com
SUMMARY:Freaky Friday
DESCRIPTION:
URL:https://hardingwildcats.com/event/freaky-friday-3/
END:VEVENT
BEGIN:VEVENT
DTSTART;TZID=America/Chicago:20251107T080500
DTEND;TZID=America/Chicago:20251107T083500
DTSTAMP:20260423T054546
CREATED:20250818T192018Z
LAST-MODIFIED:20251013T201949Z
UID:10001640-1762502700-1762504500@hardingwildcats.com
SUMMARY:All School Chapel
DESCRIPTION:
URL:https://hardingwildcats.com/event/all-school-chapel-3/
END:VEVENT
BEGIN:VEVENT
DTSTART;TZID=America/Chicago:20251107T150000
DTEND;TZID=America/Chicago:20251107T153000
DTSTAMP:20260423T054546
CREATED:20251006T201934Z
LAST-MODIFIED:20251013T201949Z
UID:10001690-1762527600-1762529400@hardingwildcats.com
SUMMARY:Pep Rally - Afternoon
DESCRIPTION:
URL:https://hardingwildcats.com/event/pep-rally-afternoon-2/
END:VEVENT
BEGIN:VEVENT
DTSTART;TZID=America/Chicago:20251108T140000
DTEND;TZID=America/Chicago:20251108T160000
DTSTAMP:20260423T054546
CREATED:20250811T192004Z
LAST-MODIFIED:20251013T201949Z
UID:10001630-1762610400-1762617600@hardingwildcats.com
SUMMARY:Freaky Friday
DESCRIPTION:
URL:https://hardingwildcats.com/event/freaky-friday/
END:VEVENT
BEGIN:VEVENT
DTSTART;TZID=America/Chicago:20251108T190000
DTEND;TZID=America/Chicago:20251108T210000
DTSTAMP:20260423T054546
CREATED:20250811T192004Z
LAST-MODIFIED:20251013T201949Z
UID:10001631-1762628400-1762635600@hardingwildcats.com
SUMMARY:Freaky Friday
DESCRIPTION:
URL:https://hardingwildcats.com/event/freaky-friday-2/
END:VEVENT
BEGIN:VEVENT
DTSTART;TZID=America/Chicago:20251111T000000
DTEND;TZID=America/Chicago:20251111T235959
DTSTAMP:20260423T054546
CREATED:20250818T192019Z
LAST-MODIFIED:20251013T201949Z
UID:10001641-1762819200-1762905599@hardingwildcats.com
SUMMARY:Jazz Band Region Auditions @ Marion HS
DESCRIPTION:Host:  Monty Hill
URL:https://hardingwildcats.com/event/jazz-band-region-auditions-marion-hs/
LOCATION:Marion High School\, Marion\, AR\, United States
GEO:35.21453;-90.19648
END:VEVENT
BEGIN:VEVENT
DTSTART;TZID=America/Chicago:20251111T161500
DTEND;TZID=America/Chicago:20251111T200000
DTSTAMP:20260423T054546
CREATED:20250815T102056Z
LAST-MODIFIED:20251010T104925Z
UID:10001632-1762877700-1762891200@hardingwildcats.com
SUMMARY:BB@ HA vs. Des Arc JB
DESCRIPTION:
URL:https://hardingwildcats.com/event/bb-ha-vs-des-arc-jb/
END:VEVENT
BEGIN:VEVENT
DTSTART;TZID=America/Chicago:20251113T170000
DTEND;TZID=America/Chicago:20251113T210000
DTSTAMP:20260423T054546
CREATED:20250815T102056Z
LAST-MODIFIED:20251010T104936Z
UID:10001633-1763053200-1763067600@hardingwildcats.com
SUMMARY:BB @ HA vs. Conway Christian 7B\,8B\,JB
DESCRIPTION:
URL:https://hardingwildcats.com/event/bb-ha-vs-conway-christian-7b8bjb/
END:VEVENT
BEGIN:VEVENT
DTSTART;TZID=America/Chicago:20251114T000000
DTEND;TZID=America/Chicago:20251115T235959
DTSTAMP:20260423T054546
CREATED:20250818T192019Z
LAST-MODIFIED:20251013T201949Z
UID:10001642-1763078400-1763251199@hardingwildcats.com
SUMMARY:Jazz Band Clinic @ West Memphis HS
DESCRIPTION:Host:  Aaron Decker
URL:https://hardingwildcats.com/event/jazz-band-clinic-west-memphis-hs/
LOCATION:Academies of West Memphis High School\, 398 W Broadway\, West Memphis\, AR\, United States
GEO:35.146369;-90.19355
X-APPLE-STRUCTURED-LOCATION;VALUE=URI;X-ADDRESS=Academies of West Memphis High School 398 W Broadway West Memphis AR United States;X-APPLE-RADIUS=500;X-TITLE=398 W Broadway:geo:-90.19355,35.146369
END:VEVENT
BEGIN:VEVENT
DTSTART;TZID=America/Chicago:20251114T170000
DTEND;TZID=America/Chicago:20251114T190000
DTSTAMP:20260423T054546
CREATED:20250822T105048Z
LAST-MODIFIED:20251010T104937Z
UID:10001646-1763139600-1763146800@hardingwildcats.com
SUMMARY:BB @ Paragould SG
DESCRIPTION:
URL:https://hardingwildcats.com/event/bb-paragould-sg/
END:VEVENT
BEGIN:VEVENT
DTSTART;TZID=America/Chicago:20251114T170000
DTEND;TZID=America/Chicago:20251114T190000
DTSTAMP:20260423T054546
CREATED:20250822T105048Z
LAST-MODIFIED:20251010T104937Z
UID:10001647-1763139600-1763146800@hardingwildcats.com
SUMMARY:BB @ Harding Academy vs. Harrisburg JB\,SB
DESCRIPTION:
URL:https://hardingwildcats.com/event/bb-harding-academy-vs-harrisburg-jbsb/
END:VEVENT
BEGIN:VEVENT
DTSTART;TZID=America/Chicago:20251115T000000
DTEND;TZID=America/Chicago:20251115T235959
DTSTAMP:20260423T054546
CREATED:20250818T192019Z
LAST-MODIFIED:20251013T202000Z
UID:10001643-1763164800-1763251199@hardingwildcats.com
SUMMARY:Lego Club Cup
DESCRIPTION:
URL:https://hardingwildcats.com/event/lego-club-cup-3/
END:VEVENT
BEGIN:VEVENT
DTSTART;TZID=America/Chicago:20251115T000000
DTEND;TZID=America/Chicago:20251115T235959
DTSTAMP:20260423T054546
CREATED:20250822T105048Z
LAST-MODIFIED:20251010T104937Z
UID:10001648-1763164800-1763251199@hardingwildcats.com
SUMMARY:BB @ Quitman Tournament JG\,JB
DESCRIPTION:
URL:https://hardingwildcats.com/event/bb-quitman-tournament-jgjb/
END:VEVENT
BEGIN:VEVENT
DTSTART;TZID=America/Chicago:20251116T150000
DTEND;TZID=America/Chicago:20251116T160000
DTSTAMP:20260423T054546
CREATED:20250818T192019Z
LAST-MODIFIED:20251013T202000Z
UID:10001644-1763305200-1763308800@hardingwildcats.com
SUMMARY:PFTA Meeting - HA Cafeteria
DESCRIPTION:
URL:https://hardingwildcats.com/event/pfta-meeting-ha-cafeteria-2/
END:VEVENT
BEGIN:VEVENT
DTSTART;TZID=America/Chicago:20251117T000000
DTEND;TZID=America/Chicago:20251117T235959
DTSTAMP:20260423T054546
CREATED:20250822T105048Z
LAST-MODIFIED:20251010T104937Z
UID:10001649-1763337600-1763423999@hardingwildcats.com
SUMMARY:BB @ Quitman Tournament JG\,JB
DESCRIPTION:
URL:https://hardingwildcats.com/event/bb-quitman-tournament-jgjb-2/
END:VEVENT
BEGIN:VEVENT
DTSTART;TZID=America/Chicago:20251118T173000
DTEND;TZID=America/Chicago:20251118T203000
DTSTAMP:20260423T054546
CREATED:20250822T105059Z
LAST-MODIFIED:20251010T104937Z
UID:10001651-1763487000-1763497800@hardingwildcats.com
SUMMARY:BB @ HA vs. Jessieville SG\, SB
DESCRIPTION:
URL:https://hardingwildcats.com/event/cc-ha-vs-jessieville-sg-sb/
END:VEVENT
BEGIN:VEVENT
DTSTART;TZID=America/Chicago:20251119T000000
DTEND;TZID=America/Chicago:20251119T235959
DTSTAMP:20260423T054546
CREATED:20250822T105059Z
LAST-MODIFIED:20251010T104937Z
UID:10001650-1763510400-1763596799@hardingwildcats.com
SUMMARY:BB @ Quitman Tournament JG\,JB
DESCRIPTION:
URL:https://hardingwildcats.com/event/bb-quitman-tournament-jgjb-3/
END:VEVENT
BEGIN:VEVENT
DTSTART;TZID=America/Chicago:20251120T170000
DTEND;TZID=America/Chicago:20251120T200000
DTSTAMP:20260423T054546
CREATED:20250822T105059Z
LAST-MODIFIED:20251010T104937Z
UID:10001652-1763658000-1763668800@hardingwildcats.com
SUMMARY:BB@ Manila JG\,SG
DESCRIPTION:
URL:https://hardingwildcats.com/event/bb-manila-jgsg/
END:VEVENT
BEGIN:VEVENT
DTSTART;TZID=America/Chicago:20251121T163000
DTEND;TZID=America/Chicago:20251121T193000
DTSTAMP:20260423T054546
CREATED:20250829T105028Z
LAST-MODIFIED:20251010T104937Z
UID:10001654-1763742600-1763753400@hardingwildcats.com
SUMMARY:BB@ McCrory 7G\,7B\,JG\,JB
DESCRIPTION:
URL:https://hardingwildcats.com/event/cc-mccrory-7g7bjgjb/
END:VEVENT
BEGIN:VEVENT
DTSTART;TZID=America/Chicago:20251124T000000
DTEND;TZID=America/Chicago:20251124T235959
DTSTAMP:20260423T054546
CREATED:20250829T105028Z
LAST-MODIFIED:20251010T104937Z
UID:10001655-1763942400-1764028799@hardingwildcats.com
SUMMARY:BB @ Conway St. Joe SB time is TBD
DESCRIPTION:
URL:https://hardingwildcats.com/event/bb-conway-st-joe-sb-time-is-tbd/
END:VEVENT
BEGIN:VEVENT
DTSTART;TZID=America/Chicago:20251124T000000
DTEND;TZID=America/Chicago:20251128T235959
DTSTAMP:20260423T054546
CREATED:20250901T192016Z
LAST-MODIFIED:20251013T202000Z
UID:10001659-1763942400-1764374399@hardingwildcats.com
SUMMARY:Thanksgiving Break
DESCRIPTION:
URL:https://hardingwildcats.com/event/thanksgiving-break-5/
END:VEVENT
BEGIN:VEVENT
DTSTART;TZID=America/Chicago:20251201T000000
DTEND;TZID=America/Chicago:20251206T235959
DTSTAMP:20260423T054546
CREATED:20250905T105042Z
LAST-MODIFIED:20251010T104949Z
UID:10001660-1764547200-1765065599@hardingwildcats.com
SUMMARY:BB @ Conway St. Joe SB
DESCRIPTION:
URL:https://hardingwildcats.com/event/bb-conway-st-joe-sb/
END:VEVENT
BEGIN:VEVENT
DTSTART;TZID=America/Chicago:20251204T170000
DTEND;TZID=America/Chicago:20251204T200000
DTSTAMP:20260423T054546
CREATED:20250905T105043Z
LAST-MODIFIED:20251010T104949Z
UID:10001661-1764867600-1764878400@hardingwildcats.com
SUMMARY:BB @ HA vs. Forrest City 7G\,JG\,SG
DESCRIPTION:
URL:https://hardingwildcats.com/event/bb-ha-vs-forrest-city-7gjgsg/
END:VEVENT
BEGIN:VEVENT
DTSTART;TZID=America/Chicago:20251205T085000
DTEND;TZID=America/Chicago:20251205T092000
DTSTAMP:20260423T054546
CREATED:20250908T192017Z
LAST-MODIFIED:20251013T202000Z
UID:10001663-1764924600-1764926400@hardingwildcats.com
SUMMARY:All School Chapel
DESCRIPTION:
URL:https://hardingwildcats.com/event/all-school-chapel-4/
END:VEVENT
BEGIN:VEVENT
DTSTART;TZID=America/Chicago:20251206T000000
DTEND;TZID=America/Chicago:20251206T235959
DTSTAMP:20260423T054546
CREATED:20250908T192030Z
LAST-MODIFIED:20251013T202000Z
UID:10001664-1764979200-1765065599@hardingwildcats.com
SUMMARY:Junior Band Region Auditions @ Cabot JH South
DESCRIPTION:Host:  Susan Ford
URL:https://hardingwildcats.com/event/junior-band-region-auditions-cabot-jh-south/
LOCATION:Cabot Junior High School South\, 38 Panther Rd\, Conway\, AR\, United States
GEO:35.031864;-92.346301
X-APPLE-STRUCTURED-LOCATION;VALUE=URI;X-ADDRESS=Cabot Junior High School South 38 Panther Rd Conway AR United States;X-APPLE-RADIUS=500;X-TITLE=38 Panther Rd:geo:-92.346301,35.031864
END:VEVENT
BEGIN:VEVENT
DTSTART;TZID=America/Chicago:20251206T000000
DTEND;TZID=America/Chicago:20251206T235959
DTSTAMP:20260423T054546
CREATED:20250908T192030Z
LAST-MODIFIED:20251013T202000Z
UID:10001665-1764979200-1765065599@hardingwildcats.com
SUMMARY:Robotics FLL - Searcy FLL Qualifier @ HA
DESCRIPTION:
URL:https://hardingwildcats.com/event/robotics-fll-searcy-fll-qualifier-ha/
END:VEVENT
END:VCALENDAR