BEGIN:VCALENDAR
VERSION:2.0
PRODID:-//Harding Academy - ECPv6.15.20//NONSGML v1.0//EN
CALSCALE:GREGORIAN
METHOD:PUBLISH
X-WR-CALNAME:Harding Academy
X-ORIGINAL-URL:https://hardingwildcats.com
X-WR-CALDESC:Events for Harding Academy
REFRESH-INTERVAL;VALUE=DURATION:PT1H
X-Robots-Tag:noindex
X-PUBLISHED-TTL:PT1H
BEGIN:VTIMEZONE
TZID:America/Chicago
BEGIN:DAYLIGHT
TZOFFSETFROM:-0600
TZOFFSETTO:-0500
TZNAME:CDT
DTSTART:20240310T080000
END:DAYLIGHT
BEGIN:STANDARD
TZOFFSETFROM:-0500
TZOFFSETTO:-0600
TZNAME:CST
DTSTART:20241103T070000
END:STANDARD
BEGIN:DAYLIGHT
TZOFFSETFROM:-0600
TZOFFSETTO:-0500
TZNAME:CDT
DTSTART:20250309T080000
END:DAYLIGHT
BEGIN:STANDARD
TZOFFSETFROM:-0500
TZOFFSETTO:-0600
TZNAME:CST
DTSTART:20251102T070000
END:STANDARD
BEGIN:DAYLIGHT
TZOFFSETFROM:-0600
TZOFFSETTO:-0500
TZNAME:CDT
DTSTART:20260308T080000
END:DAYLIGHT
BEGIN:STANDARD
TZOFFSETFROM:-0500
TZOFFSETTO:-0600
TZNAME:CST
DTSTART:20261101T070000
END:STANDARD
END:VTIMEZONE
BEGIN:VEVENT
DTSTART;TZID=America/Chicago:20250417T160000
DTEND;TZID=America/Chicago:20250417T200000
DTSTAMP:20260419T234307
CREATED:20250117T062042Z
LAST-MODIFIED:20250411T091950Z
UID:10001383-1744905600-1744920000@hardingwildcats.com
SUMMARY:TR - Sr. High - Searcy Lions Relays
DESCRIPTION:
URL:https://hardingwildcats.com/event/tr-sr-high-searcy-lions-relays/
END:VEVENT
BEGIN:VEVENT
DTSTART;TZID=America/Chicago:20250417T163000
DTEND;TZID=America/Chicago:20250417T200000
DTSTAMP:20260419T234307
CREATED:20250124T062120Z
LAST-MODIFIED:20250411T091936Z
UID:10001424-1744907400-1744920000@hardingwildcats.com
SUMMARY:SB @ Heber Springs V/JV
DESCRIPTION:
URL:https://hardingwildcats.com/event/sb-heber-springs-v-jv-3/
END:VEVENT
BEGIN:VEVENT
DTSTART;TZID=America/Chicago:20250417T170000
DTEND;TZID=America/Chicago:20250417T190000
DTSTAMP:20260419T234307
CREATED:20250117T062042Z
LAST-MODIFIED:20250411T091936Z
UID:10001382-1744909200-1744916400@hardingwildcats.com
SUMMARY:S - Girls @ Batesville
DESCRIPTION:
URL:https://hardingwildcats.com/event/s-girls-batesville/
END:VEVENT
BEGIN:VEVENT
DTSTART;TZID=America/Chicago:20250417T190000
DTEND;TZID=America/Chicago:20250417T203000
DTSTAMP:20260419T234307
CREATED:20250124T062120Z
LAST-MODIFIED:20250404T085005Z
UID:10001425-1744916400-1744921800@hardingwildcats.com
SUMMARY:S - Boys @ Batesville
DESCRIPTION:
URL:https://hardingwildcats.com/event/s-boys-ha-vs-batesville/
END:VEVENT
BEGIN:VEVENT
DTSTART;TZID=America/Chicago:20250418T000000
DTEND;TZID=America/Chicago:20250418T235959
DTSTAMP:20260419T234307
CREATED:20250124T222030Z
LAST-MODIFIED:20250412T004938Z
UID:10001437-1744934400-1745020799@hardingwildcats.com
SUMMARY:Good Friday - No School
DESCRIPTION:
URL:https://hardingwildcats.com/event/good-friday-no-school/
END:VEVENT
BEGIN:VEVENT
DTSTART;TZID=America/Chicago:20250418T164500
DTEND;TZID=America/Chicago:20250418T191500
DTSTAMP:20260419T234307
CREATED:20250124T062120Z
LAST-MODIFIED:20250411T091950Z
UID:10001426-1744994700-1745003700@hardingwildcats.com
SUMMARY:BA @ HA vs. Jonesboro Westside V - 1\, JV - 1
DESCRIPTION:
URL:https://hardingwildcats.com/event/ba-ha-vs-jonesboro-westside-v-1-jv-1/
END:VEVENT
BEGIN:VEVENT
DTSTART;TZID=America/Chicago:20250418T170000
DTEND;TZID=America/Chicago:20250418T190000
DTSTAMP:20260419T234307
CREATED:20250124T062121Z
LAST-MODIFIED:20250418T091935Z
UID:10001427-1744995600-1745002800@hardingwildcats.com
SUMMARY:S - Girls @ West Memphis
DESCRIPTION:
URL:https://hardingwildcats.com/event/s-girls-west-memphis/
END:VEVENT
BEGIN:VEVENT
DTSTART;TZID=America/Chicago:20250421T153000
DTEND;TZID=America/Chicago:20250421T170000
DTSTAMP:20260419T234307
CREATED:20250405T001952Z
LAST-MODIFIED:20250419T004937Z
UID:10001508-1745249400-1745254800@hardingwildcats.com
SUMMARY:Craig Jones - Retirement Reception in Cone Chapel
DESCRIPTION:
URL:https://hardingwildcats.com/event/craig-jones-retirement-reception-in-cone-chapel/
END:VEVENT
BEGIN:VEVENT
DTSTART;TZID=America/Chicago:20250422T150000
DTEND;TZID=America/Chicago:20250422T200000
DTSTAMP:20260419T234307
CREATED:20250124T062121Z
LAST-MODIFIED:20250418T091936Z
UID:10001429-1745334000-1745352000@hardingwildcats.com
SUMMARY:TR - Jr. High 3A-6 Jr. High Conference Championship @ Bald Knob
DESCRIPTION:
URL:https://hardingwildcats.com/event/tr-jr-high-3a-6-jr-high-conference-championship-bald-knob/
END:VEVENT
BEGIN:VEVENT
DTSTART;TZID=America/Chicago:20250422T161500
DTEND;TZID=America/Chicago:20250422T200000
DTSTAMP:20260419T234307
CREATED:20250124T062134Z
LAST-MODIFIED:20250418T091936Z
UID:10001432-1745338500-1745352000@hardingwildcats.com
SUMMARY:SB @ HA vs. Pangburn V/JV
DESCRIPTION:
URL:https://hardingwildcats.com/event/sb-ha-vs-pangburn-v-jv-2/
END:VEVENT
BEGIN:VEVENT
DTSTART;TZID=America/Chicago:20250422T164500
DTEND;TZID=America/Chicago:20250422T203000
DTSTAMP:20260419T234307
CREATED:20250124T062121Z
LAST-MODIFIED:20250418T091936Z
UID:10001428-1745340300-1745353800@hardingwildcats.com
SUMMARY:BA @ HA vs. Cabot V - 1\, JV - 1
DESCRIPTION:
URL:https://hardingwildcats.com/event/ba-ha-vs-cabot-v-1-jv-1/
END:VEVENT
BEGIN:VEVENT
DTSTART;TZID=America/Chicago:20250422T170000
DTEND;TZID=America/Chicago:20250422T190000
DTSTAMP:20260419T234307
CREATED:20250124T062134Z
LAST-MODIFIED:20250418T091936Z
UID:10001431-1745341200-1745348400@hardingwildcats.com
SUMMARY:S - Girls @ HA vs. Marion
DESCRIPTION:
URL:https://hardingwildcats.com/event/s-girls-ha-vs-marion/
END:VEVENT
BEGIN:VEVENT
DTSTART;TZID=America/Chicago:20250422T190000
DTEND;TZID=America/Chicago:20250422T203000
DTSTAMP:20260419T234307
CREATED:20250124T062133Z
LAST-MODIFIED:20250418T091936Z
UID:10001430-1745348400-1745353800@hardingwildcats.com
SUMMARY:S - Boys @ Wynne
DESCRIPTION:
URL:https://hardingwildcats.com/event/s-boys-wynne-3/
END:VEVENT
BEGIN:VEVENT
DTSTART;TZID=America/Chicago:20250424T080000
DTEND;TZID=America/Chicago:20250424T151500
DTSTAMP:20260419T234307
CREATED:20250307T224953Z
LAST-MODIFIED:20250419T004937Z
UID:10001502-1745481600-1745507700@hardingwildcats.com
SUMMARY:Junior High Retreat
DESCRIPTION:
URL:https://hardingwildcats.com/event/junior-high-retreat-2/
END:VEVENT
BEGIN:VEVENT
DTSTART;TZID=America/Chicago:20250424T161500
DTEND;TZID=America/Chicago:20250424T200000
DTSTAMP:20260419T234307
CREATED:20250124T062134Z
LAST-MODIFIED:20250418T091936Z
UID:10001434-1745511300-1745524800@hardingwildcats.com
SUMMARY:SB @ HA vs. Bald Knob V/JV
DESCRIPTION:
URL:https://hardingwildcats.com/event/sb-ha-vs-bald-knob-v-jv/
END:VEVENT
BEGIN:VEVENT
DTSTART;TZID=America/Chicago:20250424T164500
DTEND;TZID=America/Chicago:20250424T194500
DTSTAMP:20260419T234307
CREATED:20250124T062134Z
LAST-MODIFIED:20250418T091936Z
UID:10001435-1745513100-1745523900@hardingwildcats.com
SUMMARY:BA @ HA vs. Bauxite V - 1\, JV - 1
DESCRIPTION:
URL:https://hardingwildcats.com/event/ba-ha-vs-bauxite-v-1-jv-1/
END:VEVENT
BEGIN:VEVENT
DTSTART;TZID=America/Chicago:20250424T170000
DTEND;TZID=America/Chicago:20250424T190000
DTSTAMP:20260419T234307
CREATED:20250124T062134Z
LAST-MODIFIED:20250207T065126Z
UID:10001433-1745514000-1745521200@hardingwildcats.com
SUMMARY:S - Girls @ HA vs. Paragould
DESCRIPTION:
URL:https://hardingwildcats.com/event/s-girls-ha-vs-paragould/
END:VEVENT
BEGIN:VEVENT
DTSTART;TZID=America/Chicago:20250425T000000
DTEND;TZID=America/Chicago:20250425T235959
DTSTAMP:20260419T234307
CREATED:20250131T221958Z
LAST-MODIFIED:20250419T004937Z
UID:10001449-1745539200-1745625599@hardingwildcats.com
SUMMARY:Wildcat Spirit Day
DESCRIPTION:
URL:https://hardingwildcats.com/event/wildcat-spirit-day-4/
END:VEVENT
BEGIN:VEVENT
DTSTART;TZID=America/Chicago:20250425T160000
DTEND;TZID=America/Chicago:20250425T200000
DTSTAMP:20260419T234307
CREATED:20250131T062103Z
LAST-MODIFIED:20250425T091936Z
UID:10001440-1745596800-1745611200@hardingwildcats.com
SUMMARY:TR - Sr. High - Heber Springs Last Chance Relays
DESCRIPTION:
URL:https://hardingwildcats.com/event/tr-sr-high-heber-springs-last-chance-relays-2/
END:VEVENT
BEGIN:VEVENT
DTSTART;TZID=America/Chicago:20250425T163000
DTEND;TZID=America/Chicago:20250425T200000
DTSTAMP:20260419T234307
CREATED:20250131T062103Z
LAST-MODIFIED:20250425T091936Z
UID:10001441-1745598600-1745611200@hardingwildcats.com
SUMMARY:SB @ HA vs. Quitman V/JV
DESCRIPTION:
URL:https://hardingwildcats.com/event/sb-ha-vs-quitman-v-jv/
END:VEVENT
BEGIN:VEVENT
DTSTART;TZID=America/Chicago:20250425T170000
DTEND;TZID=America/Chicago:20250425T190000
DTSTAMP:20260419T234307
CREATED:20250418T091936Z
LAST-MODIFIED:20250425T091936Z
UID:10001512-1745600400-1745607600@hardingwildcats.com
SUMMARY:S - Girls @ HA vs. Paragould
DESCRIPTION:
URL:https://hardingwildcats.com/event/s-girls-ha-vs-paragould-2/
END:VEVENT
BEGIN:VEVENT
DTSTART;TZID=America/Chicago:20250425T170000
DTEND;TZID=America/Chicago:20250425T200000
DTSTAMP:20260419T234307
CREATED:20250131T062103Z
LAST-MODIFIED:20250425T091936Z
UID:10001438-1745600400-1745611200@hardingwildcats.com
SUMMARY:BA @ Pulaski Academy JV - 1
DESCRIPTION:
URL:https://hardingwildcats.com/event/ba-pulaski-academy-jv-1/
END:VEVENT
BEGIN:VEVENT
DTSTART;TZID=America/Chicago:20250425T190000
DTEND;TZID=America/Chicago:20250425T203000
DTSTAMP:20260419T234307
CREATED:20250131T062103Z
LAST-MODIFIED:20250425T091936Z
UID:10001439-1745607600-1745613000@hardingwildcats.com
SUMMARY:S - Boys @ HA vs. CAC
DESCRIPTION:
URL:https://hardingwildcats.com/event/s-boys-ha-vs-cac/
END:VEVENT
BEGIN:VEVENT
DTSTART;TZID=America/Chicago:20250426T190000
DTEND;TZID=America/Chicago:20250426T210000
DTSTAMP:20260419T234307
CREATED:20241220T212004Z
LAST-MODIFIED:20250328T235020Z
UID:10001338-1745694000-1745701200@hardingwildcats.com
SUMMARY:Spring Play-Little Women
DESCRIPTION:
URL:https://hardingwildcats.com/event/spring-play-little-women-3/
END:VEVENT
BEGIN:VEVENT
DTSTART;TZID=America/Chicago:20250427T140000
DTEND;TZID=America/Chicago:20250427T160000
DTSTAMP:20260419T234307
CREATED:20250131T221958Z
LAST-MODIFIED:20250426T004936Z
UID:10001450-1745762400-1745769600@hardingwildcats.com
SUMMARY:Fine Arts Spring Concert
DESCRIPTION:
URL:https://hardingwildcats.com/event/fine-arts-spring-concert/
END:VEVENT
BEGIN:VEVENT
DTSTART;TZID=America/Chicago:20250428T000000
DTEND;TZID=America/Chicago:20250428T235959
DTSTAMP:20260419T234307
CREATED:20250131T221958Z
LAST-MODIFIED:20250426T004936Z
UID:10001452-1745798400-1745884799@hardingwildcats.com
SUMMARY:Outdoor Ed Grade
DESCRIPTION:
URL:https://hardingwildcats.com/event/outdoor-ed-grade/
END:VEVENT
BEGIN:VEVENT
DTSTART;TZID=America/Chicago:20250428T190000
DTEND;TZID=America/Chicago:20250428T203000
DTSTAMP:20260419T234307
CREATED:20250214T222024Z
LAST-MODIFIED:20250426T004936Z
UID:10001479-1745866800-1745872200@hardingwildcats.com
SUMMARY:Circle of Excellence
DESCRIPTION:
URL:https://hardingwildcats.com/event/circle-of-excellence-3/
END:VEVENT
BEGIN:VEVENT
DTSTART;TZID=America/Chicago:20250429T000000
DTEND;TZID=America/Chicago:20250429T235959
DTSTAMP:20260419T234307
CREATED:20250131T221958Z
LAST-MODIFIED:20250426T004936Z
UID:10001451-1745884800-1745971199@hardingwildcats.com
SUMMARY:Outdoor Ed K-1
DESCRIPTION:
URL:https://hardingwildcats.com/event/outdoor-ed-k-1/
END:VEVENT
BEGIN:VEVENT
DTSTART;TZID=America/Chicago:20250429T093000
DTEND;TZID=America/Chicago:20250429T103000
DTSTAMP:20260419T234307
CREATED:20250412T004951Z
LAST-MODIFIED:20250426T004936Z
UID:10001510-1745919000-1745922600@hardingwildcats.com
SUMMARY:HS  Awards Chapel
DESCRIPTION:
URL:https://hardingwildcats.com/event/hs-awards-chapel/
END:VEVENT
BEGIN:VEVENT
DTSTART;TZID=America/Chicago:20250429T150000
DTEND;TZID=America/Chicago:20250429T200000
DTSTAMP:20260419T234307
CREATED:20250131T062103Z
LAST-MODIFIED:20250425T091936Z
UID:10001442-1745938800-1745956800@hardingwildcats.com
SUMMARY:TR - Sr. High Boys 3A-6 Conference Championship @ Bald Knob High School
DESCRIPTION:
URL:https://hardingwildcats.com/event/tr-sr-high-boys-3a-6-conference-championship-bald-knob-high-school/
END:VEVENT
END:VCALENDAR