BEGIN:VCALENDAR
VERSION:2.0
PRODID:-//Harding Academy - ECPv6.15.20//NONSGML v1.0//EN
CALSCALE:GREGORIAN
METHOD:PUBLISH
X-ORIGINAL-URL:https://hardingwildcats.com
X-WR-CALDESC:Events for Harding Academy
REFRESH-INTERVAL;VALUE=DURATION:PT1H
X-Robots-Tag:noindex
X-PUBLISHED-TTL:PT1H
BEGIN:VTIMEZONE
TZID:America/Chicago
BEGIN:DAYLIGHT
TZOFFSETFROM:-0600
TZOFFSETTO:-0500
TZNAME:CDT
DTSTART:20250309T080000
END:DAYLIGHT
BEGIN:STANDARD
TZOFFSETFROM:-0500
TZOFFSETTO:-0600
TZNAME:CST
DTSTART:20251102T070000
END:STANDARD
BEGIN:DAYLIGHT
TZOFFSETFROM:-0600
TZOFFSETTO:-0500
TZNAME:CDT
DTSTART:20260308T080000
END:DAYLIGHT
BEGIN:STANDARD
TZOFFSETFROM:-0500
TZOFFSETTO:-0600
TZNAME:CST
DTSTART:20261101T070000
END:STANDARD
BEGIN:DAYLIGHT
TZOFFSETFROM:-0600
TZOFFSETTO:-0500
TZNAME:CDT
DTSTART:20270314T080000
END:DAYLIGHT
BEGIN:STANDARD
TZOFFSETFROM:-0500
TZOFFSETTO:-0600
TZNAME:CST
DTSTART:20271107T070000
END:STANDARD
END:VTIMEZONE
BEGIN:VEVENT
DTSTART;TZID=America/Chicago:20260313T190000
DTEND;TZID=America/Chicago:20260313T213000
DTSTAMP:20260423T025656
CREATED:20260121T105004Z
LAST-MODIFIED:20260311T121932Z
UID:10001787-1773428400-1773437400@hardingwildcats.com
SUMMARY:S - Boys @ Heber Springs
DESCRIPTION:
URL:https://hardingwildcats.com/event/s-boys-heber-springs-2/
END:VEVENT
BEGIN:VEVENT
DTSTART;TZID=America/Chicago:20260316T000000
DTEND;TZID=America/Chicago:20260317T235959
DTSTAMP:20260423T025656
CREATED:20260120T161959Z
LAST-MODIFIED:20260211T111929Z
UID:10001749-1773619200-1773791999@hardingwildcats.com
SUMMARY:Region Concert Band Assessment @ West Memphis HS
DESCRIPTION:Host:  Aaron Decker
URL:https://hardingwildcats.com/event/region-concert-band-assessment-west-memphis-hs/
LOCATION:Academies of West Memphis High School\, 398 W Broadway\, West Memphis\, AR\, United States
GEO:35.146369;-90.19355
X-APPLE-STRUCTURED-LOCATION;VALUE=URI;X-ADDRESS=Academies of West Memphis High School 398 W Broadway West Memphis AR United States;X-APPLE-RADIUS=500;X-TITLE=398 W Broadway:geo:-90.19355,35.146369
END:VEVENT
BEGIN:VEVENT
DTSTART;TZID=America/Chicago:20260316T063000
DTEND;TZID=America/Chicago:20260316T073000
DTSTAMP:20260423T025656
CREATED:20260120T161959Z
LAST-MODIFIED:20260311T114934Z
UID:10001750-1773642600-1773646200@hardingwildcats.com
SUMMARY:Morning Cheer Practice (for tryouts)
DESCRIPTION:
URL:https://hardingwildcats.com/event/morning-cheer-practice-for-tryouts/
END:VEVENT
BEGIN:VEVENT
DTSTART;TZID=America/Chicago:20260316T160000
DTEND;TZID=America/Chicago:20260316T210000
DTSTAMP:20260423T025656
CREATED:20260225T114953Z
LAST-MODIFIED:20260311T114934Z
UID:10001892-1773676800-1773694800@hardingwildcats.com
SUMMARY:Band Solo/Ensemble Festival @ HA
DESCRIPTION:
URL:https://hardingwildcats.com/event/band-solo-ensemble-festival-ha/
END:VEVENT
BEGIN:VEVENT
DTSTART;TZID=America/Chicago:20260316T163000
DTEND;TZID=America/Chicago:20260316T193000
DTSTAMP:20260423T025656
CREATED:20260121T105005Z
LAST-MODIFIED:20260311T121932Z
UID:10001790-1773678600-1773689400@hardingwildcats.com
SUMMARY:SB @ HA vs. Riverview V/JV
DESCRIPTION:
URL:https://hardingwildcats.com/event/sb-ha-vs-riverview-v-jv-2/
END:VEVENT
BEGIN:VEVENT
DTSTART;TZID=America/Chicago:20260316T170000
DTEND;TZID=America/Chicago:20260316T190000
DTSTAMP:20260423T025656
CREATED:20260121T105019Z
LAST-MODIFIED:20260304T114924Z
UID:10001793-1773680400-1773687600@hardingwildcats.com
SUMMARY:S - Girls @ HU Field vs. Marion
DESCRIPTION:
URL:https://hardingwildcats.com/event/s-girls-hu-field-vs-marion/
END:VEVENT
BEGIN:VEVENT
DTSTART;TZID=America/Chicago:20260316T180000
DTEND;TZID=America/Chicago:20260316T200000
DTSTAMP:20260423T025656
CREATED:20260121T105005Z
LAST-MODIFIED:20260311T121932Z
UID:10001791-1773684000-1773691200@hardingwildcats.com
SUMMARY:BA @ HA vs. Searcy - JV
DESCRIPTION:
URL:https://hardingwildcats.com/event/ba-ha-vs-searcy-jv/
END:VEVENT
BEGIN:VEVENT
DTSTART;TZID=America/Chicago:20260317T063000
DTEND;TZID=America/Chicago:20260317T073000
DTSTAMP:20260423T025656
CREATED:20260120T161959Z
LAST-MODIFIED:20260311T114934Z
UID:10001751-1773729000-1773732600@hardingwildcats.com
SUMMARY:Morning Cheer practice (for tryouts)
DESCRIPTION:
URL:https://hardingwildcats.com/event/morning-cheer-practice-for-tryouts-2/
END:VEVENT
BEGIN:VEVENT
DTSTART;TZID=America/Chicago:20260317T153000
DTEND;TZID=America/Chicago:20260317T180000
DTSTAMP:20260423T025656
CREATED:20260120T161955Z
LAST-MODIFIED:20260311T121946Z
UID:10001744-1773761400-1773770400@hardingwildcats.com
SUMMARY:TR - JH @ Heber Springs HS - Jr High Panther Relays
DESCRIPTION:
URL:https://hardingwildcats.com/event/tr-jh-heber-springs-hs-jr-high-panther-relays/
END:VEVENT
BEGIN:VEVENT
DTSTART;TZID=America/Chicago:20260317T163000
DTEND;TZID=America/Chicago:20260317T193000
DTSTAMP:20260423T025656
CREATED:20260121T105019Z
LAST-MODIFIED:20260311T121946Z
UID:10001795-1773765000-1773775800@hardingwildcats.com
SUMMARY:BA @ Morrilton - V 2 games
DESCRIPTION:
URL:https://hardingwildcats.com/event/ba-morrilton-v-2-games/
END:VEVENT
BEGIN:VEVENT
DTSTART;TZID=America/Chicago:20260317T163000
DTEND;TZID=America/Chicago:20260317T193000
DTSTAMP:20260423T025656
CREATED:20260121T105019Z
LAST-MODIFIED:20260311T121946Z
UID:10001794-1773765000-1773775800@hardingwildcats.com
SUMMARY:SB @ Cabot V/JV
DESCRIPTION:
URL:https://hardingwildcats.com/event/sb-cabot-v-jv/
END:VEVENT
BEGIN:VEVENT
DTSTART;TZID=America/Chicago:20260317T170000
DTEND;TZID=America/Chicago:20260317T190000
DTSTAMP:20260423T025656
CREATED:20260121T105019Z
LAST-MODIFIED:20260311T121932Z
UID:10001796-1773766800-1773774000@hardingwildcats.com
SUMMARY:S - Boys @ HU Field vs. Lisa West time TBD
DESCRIPTION:
URL:https://hardingwildcats.com/event/s-boys-hu-field-vs-lisa-west-time-tbd/
END:VEVENT
BEGIN:VEVENT
DTSTART;TZID=America/Chicago:20260317T170000
DTEND;TZID=America/Chicago:20260317T190000
DTSTAMP:20260423T025656
CREATED:20260304T114925Z
LAST-MODIFIED:20260311T121932Z
UID:10001900-1773766800-1773774000@hardingwildcats.com
SUMMARY:S - Girls @ Marion
DESCRIPTION:
URL:https://hardingwildcats.com/event/s-girls-marion-3/
END:VEVENT
BEGIN:VEVENT
DTSTART;TZID=America/Chicago:20260318T000000
DTEND;TZID=America/Chicago:20260321T235959
DTSTAMP:20260423T025656
CREATED:20260120T162000Z
LAST-MODIFIED:20260318T121935Z
UID:10001754-1773792000-1774137599@hardingwildcats.com
SUMMARY:Robotics - Arkansas Regional Competition (GAC)
DESCRIPTION:
URL:https://hardingwildcats.com/event/robotics-arkansas-regional-competition-gac/
END:VEVENT
BEGIN:VEVENT
DTSTART;TZID=America/Chicago:20260318T160000
DTEND;TZID=America/Chicago:20260318T180000
DTSTAMP:20260423T025656
CREATED:20260120T161959Z
LAST-MODIFIED:20260318T121935Z
UID:10001752-1773849600-1773856800@hardingwildcats.com
SUMMARY:Cheer Tryouts
DESCRIPTION:
URL:https://hardingwildcats.com/event/cheer-tryouts-6/
END:VEVENT
BEGIN:VEVENT
DTSTART;TZID=America/Chicago:20260319T153000
DTEND;TZID=America/Chicago:20260319T180000
DTSTAMP:20260423T025656
CREATED:20260120T161956Z
LAST-MODIFIED:20260318T121933Z
UID:10001745-1773934200-1773943200@hardingwildcats.com
SUMMARY:TR - SH @ Heber Springs Panther Replays
DESCRIPTION:
URL:https://hardingwildcats.com/event/tr-sh-heber-springs-panther-replays/
END:VEVENT
BEGIN:VEVENT
DTSTART;TZID=America/Chicago:20260319T170000
DTEND;TZID=America/Chicago:20260319T190000
DTSTAMP:20260423T025656
CREATED:20260121T105019Z
LAST-MODIFIED:20260318T121934Z
UID:10001797-1773939600-1773946800@hardingwildcats.com
SUMMARY:S - Girls @ Paragould
DESCRIPTION:
URL:https://hardingwildcats.com/event/s-girls-hu-field-vs-paragould/
END:VEVENT
BEGIN:VEVENT
DTSTART;TZID=America/Chicago:20260320T000000
DTEND;TZID=America/Chicago:20260321T235959
DTSTAMP:20260423T025656
CREATED:20260121T105020Z
LAST-MODIFIED:20260318T121934Z
UID:10001800-1773964800-1774137599@hardingwildcats.com
SUMMARY:SB @ Harrison Tournament
DESCRIPTION:
URL:https://hardingwildcats.com/event/sb-harrison-tournament-3/
END:VEVENT
BEGIN:VEVENT
DTSTART;TZID=America/Chicago:20260320T000000
DTEND;TZID=America/Chicago:20260324T235959
DTSTAMP:20260423T025656
CREATED:20260121T105019Z
LAST-MODIFIED:20260318T121934Z
UID:10001799-1773964800-1774396799@hardingwildcats.com
SUMMARY:Baseball Spring Break Trip
DESCRIPTION:
URL:https://hardingwildcats.com/event/baseball-spring-break-trip/
END:VEVENT
BEGIN:VEVENT
DTSTART;TZID=America/Chicago:20260320T163000
DTEND;TZID=America/Chicago:20260320T193000
DTSTAMP:20260423T025656
CREATED:20260121T105019Z
LAST-MODIFIED:20260318T121934Z
UID:10001798-1774024200-1774035000@hardingwildcats.com
SUMMARY:BA @ HA vs. Malvern V1/JV1
DESCRIPTION:
URL:https://hardingwildcats.com/event/ba-ha-vs-malvern-v1-jv1/
END:VEVENT
BEGIN:VEVENT
DTSTART;TZID=America/Chicago:20260321T000000
DTEND;TZID=America/Chicago:20260321T235959
DTSTAMP:20260423T025656
CREATED:20260120T161959Z
LAST-MODIFIED:20260318T121935Z
UID:10001753-1774051200-1774137599@hardingwildcats.com
SUMMARY:Tinkerfest @ GAC for local schools
DESCRIPTION:
URL:https://hardingwildcats.com/event/tinkerfest-gac-for-local-schools/
END:VEVENT
BEGIN:VEVENT
DTSTART;TZID=America/Chicago:20260323T000000
DTEND;TZID=America/Chicago:20260327T235959
DTSTAMP:20260423T025656
CREATED:20260120T162000Z
LAST-MODIFIED:20260325T121928Z
UID:10001755-1774224000-1774655999@hardingwildcats.com
SUMMARY:Spring Break
DESCRIPTION:
URL:https://hardingwildcats.com/event/spring-break-5/
END:VEVENT
BEGIN:VEVENT
DTSTART;TZID=America/Chicago:20260330T153000
DTEND;TZID=America/Chicago:20260330T180000
DTSTAMP:20260423T025656
CREATED:20260120T161956Z
LAST-MODIFIED:20260325T121927Z
UID:10001746-1774884600-1774893600@hardingwildcats.com
SUMMARY:TR - 7th Grade @ Beebe High School Badger 7th Grade Replays
DESCRIPTION:
URL:https://hardingwildcats.com/event/tr-7th-grade-beebe-high-school-badger-7th-grade-replays/
END:VEVENT
BEGIN:VEVENT
DTSTART;TZID=America/Chicago:20260331T153000
DTEND;TZID=America/Chicago:20260331T180000
DTSTAMP:20260423T025656
CREATED:20260120T161956Z
LAST-MODIFIED:20260325T121927Z
UID:10001747-1774971000-1774980000@hardingwildcats.com
SUMMARY:TR - JH @ Beebe High School - Badger Junior High Replays
DESCRIPTION:
URL:https://hardingwildcats.com/event/tr-jh-beebe-high-school-badger-junior-high-replays/
END:VEVENT
BEGIN:VEVENT
DTSTART;TZID=America/Chicago:20260331T163000
DTEND;TZID=America/Chicago:20260331T193000
DTSTAMP:20260423T025656
CREATED:20260121T105033Z
LAST-MODIFIED:20260325T121928Z
UID:10001803-1774974600-1774985400@hardingwildcats.com
SUMMARY:BA @ HA vs. Heber Springs V 2 games
DESCRIPTION:
URL:https://hardingwildcats.com/event/ba-ha-vs-heber-springs-v-2-games/
END:VEVENT
BEGIN:VEVENT
DTSTART;TZID=America/Chicago:20260331T163000
DTEND;TZID=America/Chicago:20260331T193000
DTSTAMP:20260423T025656
CREATED:20260121T105033Z
LAST-MODIFIED:20260325T121927Z
UID:10001802-1774974600-1774985400@hardingwildcats.com
SUMMARY:SB @ HA vs. Maumelle Charter V/JV
DESCRIPTION:
URL:https://hardingwildcats.com/event/sb-ha-vs-maumelle-charter-v-jv/
END:VEVENT
BEGIN:VEVENT
DTSTART;TZID=America/Chicago:20260331T180000
DTEND;TZID=America/Chicago:20260331T200000
DTSTAMP:20260423T025656
CREATED:20260121T105033Z
LAST-MODIFIED:20260325T121928Z
UID:10001804-1774980000-1774987200@hardingwildcats.com
SUMMARY:S - Girls @ HU Field vs. Greene County Tech
DESCRIPTION:
URL:https://hardingwildcats.com/event/s-girls-hu-field-vs-greene-county-tech/
END:VEVENT
BEGIN:VEVENT
DTSTART;TZID=America/Chicago:20260331T200000
DTEND;TZID=America/Chicago:20260331T220000
DTSTAMP:20260423T025656
CREATED:20260121T105033Z
LAST-MODIFIED:20260325T121928Z
UID:10001801-1774987200-1774994400@hardingwildcats.com
SUMMARY:S - Boys @ HU Field vs. Westside
DESCRIPTION:
URL:https://hardingwildcats.com/event/s-boys-hu-field-vs-westside/
END:VEVENT
BEGIN:VEVENT
DTSTART;TZID=America/Chicago:20260401T000000
DTEND;TZID=America/Chicago:20260404T235959
DTSTAMP:20260423T025656
CREATED:20260120T162000Z
LAST-MODIFIED:20260401T124934Z
UID:10001757-1775001600-1775347199@hardingwildcats.com
SUMMARY:Robotics - Bayou Regional Competition (Kenner\, LA)
DESCRIPTION:
URL:https://hardingwildcats.com/event/robotics-bayou-regional-competition-kenner-la/
END:VEVENT
BEGIN:VEVENT
DTSTART;TZID=America/Chicago:20260401T083000
DTEND;TZID=America/Chicago:20260401T090000
DTSTAMP:20260423T025656
CREATED:20260225T114953Z
LAST-MODIFIED:20260401T124934Z
UID:10001893-1775032200-1775034000@hardingwildcats.com
SUMMARY:2nd Grade Poetry Slam
DESCRIPTION:
URL:https://hardingwildcats.com/event/2nd-grade-poetry-slam/
END:VEVENT
END:VCALENDAR