BEGIN:VCALENDAR
VERSION:2.0
PRODID:-//Harding Academy - ECPv6.15.20//NONSGML v1.0//EN
CALSCALE:GREGORIAN
METHOD:PUBLISH
X-ORIGINAL-URL:https://hardingwildcats.com
X-WR-CALDESC:Events for Harding Academy
REFRESH-INTERVAL;VALUE=DURATION:PT1H
X-Robots-Tag:noindex
X-PUBLISHED-TTL:PT1H
BEGIN:VTIMEZONE
TZID:America/Chicago
BEGIN:DAYLIGHT
TZOFFSETFROM:-0600
TZOFFSETTO:-0500
TZNAME:CDT
DTSTART:20240310T080000
END:DAYLIGHT
BEGIN:STANDARD
TZOFFSETFROM:-0500
TZOFFSETTO:-0600
TZNAME:CST
DTSTART:20241103T070000
END:STANDARD
BEGIN:DAYLIGHT
TZOFFSETFROM:-0600
TZOFFSETTO:-0500
TZNAME:CDT
DTSTART:20250309T080000
END:DAYLIGHT
BEGIN:STANDARD
TZOFFSETFROM:-0500
TZOFFSETTO:-0600
TZNAME:CST
DTSTART:20251102T070000
END:STANDARD
BEGIN:DAYLIGHT
TZOFFSETFROM:-0600
TZOFFSETTO:-0500
TZNAME:CDT
DTSTART:20260308T080000
END:DAYLIGHT
BEGIN:STANDARD
TZOFFSETFROM:-0500
TZOFFSETTO:-0600
TZNAME:CST
DTSTART:20261101T070000
END:STANDARD
END:VTIMEZONE
BEGIN:VEVENT
DTSTART;TZID=America/Chicago:20250515T000000
DTEND;TZID=America/Chicago:20250517T235959
DTSTAMP:20260420T211308
CREATED:20250214T065150Z
LAST-MODIFIED:20250516T091936Z
UID:10001474-1747267200-1747526399@hardingwildcats.com
SUMMARY:BA - State Tournament
DESCRIPTION:
URL:https://hardingwildcats.com/event/ba-state-tournament/
END:VEVENT
BEGIN:VEVENT
DTSTART;TZID=America/Chicago:20250516T000000
DTEND;TZID=America/Chicago:20250516T235959
DTSTAMP:20260420T211308
CREATED:20250221T222043Z
LAST-MODIFIED:20250510T004950Z
UID:10001496-1747353600-1747439999@hardingwildcats.com
SUMMARY:Professional Development
DESCRIPTION:
URL:https://hardingwildcats.com/event/professional-development-5/
END:VEVENT
BEGIN:VEVENT
DTSTART;TZID=America/Chicago:20250519T000000
DTEND;TZID=America/Chicago:20250521T235959
DTSTAMP:20260420T211308
CREATED:20250221T222054Z
LAST-MODIFIED:20250517T004936Z
UID:10001497-1747612800-1747871999@hardingwildcats.com
SUMMARY:Chorus Tour
DESCRIPTION:
URL:https://hardingwildcats.com/event/chorus-tour-4/
END:VEVENT
BEGIN:VEVENT
DTSTART;TZID=America/Chicago:20250521T000000
DTEND;TZID=America/Chicago:20250522T235959
DTSTAMP:20260420T211308
CREATED:20250221T065155Z
LAST-MODIFIED:20250516T091936Z
UID:10001494-1747785600-1747958399@hardingwildcats.com
SUMMARY:TR - Sr. High Arkansas Decathlon and Heptathlon
DESCRIPTION:
URL:https://hardingwildcats.com/event/tr-sr-high-arkansas-decathlon-and-heptathlon/
END:VEVENT
BEGIN:VEVENT
DTSTART;TZID=America/Chicago:20250521T190000
DTEND;TZID=America/Chicago:20250521T210000
DTSTAMP:20260420T211308
CREATED:20250503T005007Z
LAST-MODIFIED:20250517T004936Z
UID:10001521-1747854000-1747861200@hardingwildcats.com
SUMMARY:Craig Jones Grand Finale Concert
DESCRIPTION:
URL:https://hardingwildcats.com/event/craig-jones-grand-finale-concert/
END:VEVENT
BEGIN:VEVENT
DTSTART;TZID=America/Chicago:20250522T000000
DTEND;TZID=America/Chicago:20250524T235959
DTSTAMP:20260420T211308
CREATED:20250221T065155Z
LAST-MODIFIED:20250523T091938Z
UID:10001493-1747872000-1748131199@hardingwildcats.com
SUMMARY:SB - State Championship @ UCA V
DESCRIPTION:
URL:https://hardingwildcats.com/event/sb-state-championship-uca-v/
END:VEVENT
BEGIN:VEVENT
DTSTART;TZID=America/Chicago:20250522T000000
DTEND;TZID=America/Chicago:20250524T235959
DTSTAMP:20260420T211308
CREATED:20250221T065155Z
LAST-MODIFIED:20250523T091938Z
UID:10001495-1747872000-1748131199@hardingwildcats.com
SUMMARY:BA - State Finals
DESCRIPTION:
URL:https://hardingwildcats.com/event/ba-state-finals/
END:VEVENT
BEGIN:VEVENT
DTSTART;TZID=America/Chicago:20250522T000000
DTEND;TZID=America/Chicago:20250524T235959
DTSTAMP:20260420T211308
CREATED:20250307T225020Z
LAST-MODIFIED:20250524T011936Z
UID:10001503-1747872000-1748131199@hardingwildcats.com
SUMMARY:Harding Academy Garage Sale
DESCRIPTION:
URL:https://hardingwildcats.com/event/harding-academy-garage-sale-2/
END:VEVENT
BEGIN:VEVENT
DTSTART;TZID=America/Chicago:20250523T000000
DTEND;TZID=America/Chicago:20250524T235959
DTSTAMP:20260420T211308
CREATED:20250228T072145Z
LAST-MODIFIED:20250523T091938Z
UID:10001498-1747958400-1748131199@hardingwildcats.com
SUMMARY:S - Girls State Finals
DESCRIPTION:
URL:https://hardingwildcats.com/event/s-girls-state-finals/
END:VEVENT
BEGIN:VEVENT
DTSTART;TZID=America/Chicago:20250523T000000
DTEND;TZID=America/Chicago:20250524T235959
DTSTAMP:20260420T211308
CREATED:20250228T072145Z
LAST-MODIFIED:20250523T091938Z
UID:10001499-1747958400-1748131199@hardingwildcats.com
SUMMARY:S - Boys State Finals
DESCRIPTION:
URL:https://hardingwildcats.com/event/s-boys-state-finals/
END:VEVENT
BEGIN:VEVENT
DTSTART;TZID=America/Chicago:20250612T000000
DTEND;TZID=America/Chicago:20250613T235959
DTSTAMP:20260420T211308
CREATED:20250517T004936Z
LAST-MODIFIED:20250607T011936Z
UID:10001525-1749686400-1749859199@hardingwildcats.com
SUMMARY:NCSA Summer Conference for Administrators
DESCRIPTION:
URL:https://hardingwildcats.com/event/ncsa-summer-conference-for-administrators/
END:VEVENT
BEGIN:VEVENT
DTSTART;TZID=America/Chicago:20250728T000000
DTEND;TZID=America/Chicago:20250801T235959
DTSTAMP:20260420T211308
CREATED:20250719T011936Z
LAST-MODIFIED:20250728T185109Z
UID:10001574-1753660800-1754092799@hardingwildcats.com
SUMMARY:Lego Camp
DESCRIPTION:
URL:https://hardingwildcats.com/event/lego-camp-2/
END:VEVENT
BEGIN:VEVENT
DTSTART;TZID=America/Chicago:20250804T000000
DTEND;TZID=America/Chicago:20250807T235959
DTSTAMP:20260420T211308
CREATED:20250510T004950Z
LAST-MODIFIED:20250804T191937Z
UID:10001523-1754265600-1754611199@hardingwildcats.com
SUMMARY:Professional Development
DESCRIPTION:
URL:https://hardingwildcats.com/event/professional-development-6/
END:VEVENT
BEGIN:VEVENT
DTSTART;TZID=America/Chicago:20250804T153000
DTEND;TZID=America/Chicago:20250804T180000
DTSTAMP:20260420T211308
CREATED:20250725T101936Z
LAST-MODIFIED:20250801T101937Z
UID:10001584-1754321400-1754330400@hardingwildcats.com
SUMMARY:G @ Searcy Country Club vs. Searcy
DESCRIPTION:
URL:https://hardingwildcats.com/event/g-searcy-country-club-vs-searcy/
END:VEVENT
BEGIN:VEVENT
DTSTART;TZID=America/Chicago:20250804T173000
DTEND;TZID=America/Chicago:20250804T183000
DTSTAMP:20260420T211308
CREATED:20250804T191937Z
LAST-MODIFIED:20250804T191937Z
UID:10001621-1754328600-1754332200@hardingwildcats.com
SUMMARY:New Student Orientation - Elementary
DESCRIPTION:
URL:https://hardingwildcats.com/event/new-student-orientation-elementary/
END:VEVENT
BEGIN:VEVENT
DTSTART;TZID=America/Chicago:20250804T181500
DTEND;TZID=America/Chicago:20250804T191500
DTSTAMP:20260420T211308
CREATED:20250804T191937Z
LAST-MODIFIED:20250804T191937Z
UID:10001620-1754331300-1754334900@hardingwildcats.com
SUMMARY:New Student Orientation - Middle School
DESCRIPTION:
URL:https://hardingwildcats.com/event/new-student-orientation-middle-school/
END:VEVENT
BEGIN:VEVENT
DTSTART;TZID=America/Chicago:20250804T190000
DTEND;TZID=America/Chicago:20250804T200000
DTSTAMP:20260420T211308
CREATED:20250804T191937Z
LAST-MODIFIED:20250804T191937Z
UID:10001622-1754334000-1754337600@hardingwildcats.com
SUMMARY:New Student Orientation - High School
DESCRIPTION:
URL:https://hardingwildcats.com/event/new-student-orientation-high-school/
END:VEVENT
BEGIN:VEVENT
DTSTART;TZID=America/Chicago:20250807T160000
DTEND;TZID=America/Chicago:20250807T173000
DTSTAMP:20260420T211308
CREATED:20250804T191937Z
LAST-MODIFIED:20250804T191937Z
UID:10001623-1754582400-1754587800@hardingwildcats.com
SUMMARY:Open House - PreK & Elementary
DESCRIPTION:
URL:https://hardingwildcats.com/event/open-house-prek-elementary/
END:VEVENT
BEGIN:VEVENT
DTSTART;TZID=America/Chicago:20250807T163000
DTEND;TZID=America/Chicago:20250807T180000
DTSTAMP:20260420T211308
CREATED:20250804T191937Z
LAST-MODIFIED:20250804T191937Z
UID:10001624-1754584200-1754589600@hardingwildcats.com
SUMMARY:Open House (Middle School & High School)
DESCRIPTION:
URL:https://hardingwildcats.com/event/open-house-middle-school-high-school/
END:VEVENT
BEGIN:VEVENT
DTSTART;TZID=America/Chicago:20250808T000000
DTEND;TZID=America/Chicago:20250808T235959
DTSTAMP:20260420T211308
CREATED:20250510T004951Z
LAST-MODIFIED:20250804T191937Z
UID:10001524-1754611200-1754697599@hardingwildcats.com
SUMMARY:First Day of School
DESCRIPTION:
URL:https://hardingwildcats.com/event/first-day-of-school-3/
END:VEVENT
BEGIN:VEVENT
DTSTART;TZID=America/Chicago:20250811T000000
DTEND;TZID=America/Chicago:20250811T235959
DTSTAMP:20260420T211308
CREATED:20250517T004936Z
LAST-MODIFIED:20250811T191936Z
UID:10001526-1754870400-1754956799@hardingwildcats.com
SUMMARY:First Day of PreK
DESCRIPTION:
URL:https://hardingwildcats.com/event/first-day-of-prek/
END:VEVENT
BEGIN:VEVENT
DTSTART;TZID=America/Chicago:20250811T153000
DTEND;TZID=America/Chicago:20250811T190000
DTSTAMP:20260420T211308
CREATED:20250725T101936Z
LAST-MODIFIED:20250808T101941Z
UID:10001585-1754926200-1754938800@hardingwildcats.com
SUMMARY:T @ Searcy High vs. Searcy\, Jonesboro\, Conway
DESCRIPTION:
URL:https://hardingwildcats.com/event/t-searcy-high-vs-searcy-jonesboro-conway/
END:VEVENT
BEGIN:VEVENT
DTSTART;TZID=America/Chicago:20250814T153000
DTEND;TZID=America/Chicago:20250814T180000
DTSTAMP:20260420T211308
CREATED:20250725T101936Z
LAST-MODIFIED:20250808T101942Z
UID:10001586-1755185400-1755194400@hardingwildcats.com
SUMMARY:G @ River Oaks vs. Searcy & WCC
DESCRIPTION:
URL:https://hardingwildcats.com/event/g-river-oaks-vs-searcy-wcc/
END:VEVENT
BEGIN:VEVENT
DTSTART;TZID=America/Chicago:20250815T000000
DTEND;TZID=America/Chicago:20250815T235959
DTSTAMP:20260420T211308
CREATED:20250728T185056Z
LAST-MODIFIED:20250811T191936Z
UID:10001605-1755216000-1755302399@hardingwildcats.com
SUMMARY:8th Grade Leadership Retreat - 4H Center Little Rock
DESCRIPTION:
URL:https://hardingwildcats.com/event/8th-grade-leadership-retreat-4h-center-little-rock-2/
END:VEVENT
BEGIN:VEVENT
DTSTART;TZID=America/Chicago:20250819T153000
DTEND;TZID=America/Chicago:20250819T180000
DTSTAMP:20260420T211308
CREATED:20250725T101936Z
LAST-MODIFIED:20250815T101941Z
UID:10001587-1755617400-1755626400@hardingwildcats.com
SUMMARY:G @ Maumelle CC vs. CAC
DESCRIPTION:
URL:https://hardingwildcats.com/event/g-maumelle-cc-vs-cac/
END:VEVENT
BEGIN:VEVENT
DTSTART;TZID=America/Chicago:20250819T160000
DTEND;TZID=America/Chicago:20250819T190000
DTSTAMP:20260420T211308
CREATED:20250725T101936Z
LAST-MODIFIED:20250815T101941Z
UID:10001588-1755619200-1755630000@hardingwildcats.com
SUMMARY:T @ HU Courts vs. Harrisburg
DESCRIPTION:
URL:https://hardingwildcats.com/event/t-hu-courts-vs-harrisburg/
END:VEVENT
BEGIN:VEVENT
DTSTART;TZID=America/Chicago:20250819T173000
DTEND;TZID=America/Chicago:20250819T190000
DTSTAMP:20260420T211308
CREATED:20250704T091935Z
LAST-MODIFIED:20250815T101941Z
UID:10001540-1755624600-1755630000@hardingwildcats.com
SUMMARY:V @ HA vs. Quitman V (Benefit Game)
DESCRIPTION:
URL:https://hardingwildcats.com/event/v-ha-vs-quitman-v-benefit-game/
END:VEVENT
BEGIN:VEVENT
DTSTART;TZID=America/Chicago:20250821T153000
DTEND;TZID=America/Chicago:20250821T180000
DTSTAMP:20260420T211308
CREATED:20250725T101937Z
LAST-MODIFIED:20250815T101941Z
UID:10001589-1755790200-1755799200@hardingwildcats.com
SUMMARY:G @ River Oaks vs. Beebe & Pangburn
DESCRIPTION:
URL:https://hardingwildcats.com/event/g-river-oaks-vs-beebe-pangburn/
END:VEVENT
BEGIN:VEVENT
DTSTART;TZID=America/Chicago:20250825T130000
DTEND;TZID=America/Chicago:20250825T160000
DTSTAMP:20260420T211308
CREATED:20250725T101937Z
LAST-MODIFIED:20250822T104935Z
UID:10001590-1756126800-1756137600@hardingwildcats.com
SUMMARY:G @ Cooper's Hawk vs. Melbourne
DESCRIPTION:
URL:https://hardingwildcats.com/event/g-coopers-hawk-vs-melbourne/
END:VEVENT
BEGIN:VEVENT
DTSTART;TZID=America/Chicago:20250825T163000
DTEND;TZID=America/Chicago:20250825T200000
DTSTAMP:20260420T211308
CREATED:20250704T091936Z
LAST-MODIFIED:20250822T104935Z
UID:10001541-1756139400-1756152000@hardingwildcats.com
SUMMARY:V @ Episcopal 7\, JH\, JV\, V
DESCRIPTION:
URL:https://hardingwildcats.com/event/v-episcopal-7-jh-jv-v/
END:VEVENT
END:VCALENDAR