BEGIN:VCALENDAR
VERSION:2.0
PRODID:-//Harding Academy - ECPv6.15.20//NONSGML v1.0//EN
CALSCALE:GREGORIAN
METHOD:PUBLISH
X-WR-CALNAME:Harding Academy
X-ORIGINAL-URL:https://hardingwildcats.com
X-WR-CALDESC:Events for Harding Academy
REFRESH-INTERVAL;VALUE=DURATION:PT1H
X-Robots-Tag:noindex
X-PUBLISHED-TTL:PT1H
BEGIN:VTIMEZONE
TZID:America/Chicago
BEGIN:DAYLIGHT
TZOFFSETFROM:-0600
TZOFFSETTO:-0500
TZNAME:CDT
DTSTART:20250309T080000
END:DAYLIGHT
BEGIN:STANDARD
TZOFFSETFROM:-0500
TZOFFSETTO:-0600
TZNAME:CST
DTSTART:20251102T070000
END:STANDARD
BEGIN:DAYLIGHT
TZOFFSETFROM:-0600
TZOFFSETTO:-0500
TZNAME:CDT
DTSTART:20260308T080000
END:DAYLIGHT
BEGIN:STANDARD
TZOFFSETFROM:-0500
TZOFFSETTO:-0600
TZNAME:CST
DTSTART:20261101T070000
END:STANDARD
BEGIN:DAYLIGHT
TZOFFSETFROM:-0600
TZOFFSETTO:-0500
TZNAME:CDT
DTSTART:20270314T080000
END:DAYLIGHT
BEGIN:STANDARD
TZOFFSETFROM:-0500
TZOFFSETTO:-0600
TZNAME:CST
DTSTART:20271107T070000
END:STANDARD
END:VTIMEZONE
BEGIN:VEVENT
DTSTART;TZID=America/Chicago:20260218T000000
DTEND;TZID=America/Chicago:20260221T235959
DTSTAMP:20260422T205915
CREATED:20260120T161931Z
LAST-MODIFIED:20260218T114912Z
UID:10001715-1771372800-1771718399@hardingwildcats.com
SUMMARY:All-State/Music Conference @ Hot Springs Convention Ctr
DESCRIPTION:Host:  ASBOA
URL:https://hardingwildcats.com/event/all-state-music-conference-hot-springs-convention-ctr/
LOCATION:Hot Springs Convention Center\, 200 Spring St\, Hot Springs National Park\, AR\, United States
GEO:34.510353;-93.053512
X-APPLE-STRUCTURED-LOCATION;VALUE=URI;X-ADDRESS=Hot Springs Convention Center 200 Spring St Hot Springs National Park AR United States;X-APPLE-RADIUS=500;X-TITLE=200 Spring St:geo:-93.053512,34.510353
END:VEVENT
BEGIN:VEVENT
DTSTART;TZID=America/Chicago:20260220T140000
DTEND;TZID=America/Chicago:20260220T150000
DTSTAMP:20260422T205915
CREATED:20260120T161931Z
LAST-MODIFIED:20260218T114912Z
UID:10001716-1771596000-1771599600@hardingwildcats.com
SUMMARY:Kindergarten Box Car Derby
DESCRIPTION:
URL:https://hardingwildcats.com/event/kindergarten-box-car-derby/
END:VEVENT
BEGIN:VEVENT
DTSTART;TZID=America/Chicago:20260224T153000
DTEND;TZID=America/Chicago:20260224T173000
DTSTAMP:20260422T205915
CREATED:20260120T161942Z
LAST-MODIFIED:20260218T114910Z
UID:10001727-1771947000-1771954200@hardingwildcats.com
SUMMARY:TR - JH @ HU - HU Jr High Invitational
DESCRIPTION:
URL:https://hardingwildcats.com/event/tr-jh-hu-hu-jr-high-invitational/
END:VEVENT
BEGIN:VEVENT
DTSTART;TZID=America/Chicago:20260224T170000
DTEND;TZID=America/Chicago:20260224T190000
DTSTAMP:20260422T205915
CREATED:20260121T104931Z
LAST-MODIFIED:20260218T114910Z
UID:10001774-1771952400-1771959600@hardingwildcats.com
SUMMARY:BA @ HA vs. Jonesboro HS V 1 game
DESCRIPTION:
URL:https://hardingwildcats.com/event/ba-ha-vs-jonesboro-hs-v-1-game/
END:VEVENT
BEGIN:VEVENT
DTSTART;TZID=America/Chicago:20260224T170000
DTEND;TZID=America/Chicago:20260224T190000
DTSTAMP:20260422T205915
CREATED:20260121T104936Z
LAST-MODIFIED:20260218T114910Z
UID:10001776-1771952400-1771959600@hardingwildcats.com
SUMMARY:S - Girls @ Cave City AAA Benefit Game
DESCRIPTION:
URL:https://hardingwildcats.com/event/s-girls-cave-city-aaa-benefit-game-2/
END:VEVENT
BEGIN:VEVENT
DTSTART;TZID=America/Chicago:20260224T190000
DTEND;TZID=America/Chicago:20260224T203000
DTSTAMP:20260422T205915
CREATED:20260120T161932Z
LAST-MODIFIED:20260218T114912Z
UID:10001717-1771959600-1771965000@hardingwildcats.com
SUMMARY:Robotics - Robot Reveal Party @ Robotics Shop
DESCRIPTION:
URL:https://hardingwildcats.com/event/robotics-robot-reveal-party-robotics-shop/
END:VEVENT
BEGIN:VEVENT
DTSTART;TZID=America/Chicago:20260224T190000
DTEND;TZID=America/Chicago:20260224T210000
DTSTAMP:20260422T205915
CREATED:20260121T104935Z
LAST-MODIFIED:20260218T114910Z
UID:10001775-1771959600-1771966800@hardingwildcats.com
SUMMARY:S - Boys @ Cave City AAA Benefit Game
DESCRIPTION:
URL:https://hardingwildcats.com/event/s-boys-cave-city-aaa-benefit-game-2/
END:VEVENT
BEGIN:VEVENT
DTSTART;TZID=America/Chicago:20260225T000000
DTEND;TZID=America/Chicago:20260228T235959
DTSTAMP:20260422T205915
CREATED:20260120T161955Z
LAST-MODIFIED:20260225T114933Z
UID:10001739-1771977600-1772323199@hardingwildcats.com
SUMMARY:BB Region 2 Tournament SG\, SB  @ Jessieville High School
DESCRIPTION:
URL:https://hardingwildcats.com/event/bb-region-2-tournament-sg-sb-location-is-tba/
END:VEVENT
BEGIN:VEVENT
DTSTART;TZID=America/Chicago:20260226T000000
DTEND;TZID=America/Chicago:20260226T235959
DTSTAMP:20260422T205915
CREATED:20260120T161932Z
LAST-MODIFIED:20260225T114939Z
UID:10001718-1772064000-1772150399@hardingwildcats.com
SUMMARY:Region Solo-Ensemble Band Assessment @ Cabot JH South
DESCRIPTION:Host:  Susan Ford
URL:https://hardingwildcats.com/event/region-solo-ensemble-band-assessment-cabot-jh-south/
LOCATION:Cabot Junior High School South\, 38 Panther Rd\, Conway\, AR\, United States
GEO:35.031864;-92.346301
X-APPLE-STRUCTURED-LOCATION;VALUE=URI;X-ADDRESS=Cabot Junior High School South 38 Panther Rd Conway AR United States;X-APPLE-RADIUS=500;X-TITLE=38 Panther Rd:geo:-92.346301,35.031864
END:VEVENT
BEGIN:VEVENT
DTSTART;TZID=America/Chicago:20260226T153000
DTEND;TZID=America/Chicago:20260226T173000
DTSTAMP:20260422T205915
CREATED:20260120T161942Z
LAST-MODIFIED:20260225T114933Z
UID:10001728-1772119800-1772127000@hardingwildcats.com
SUMMARY:TR - SH @ HU Harold Valentine Invitational
DESCRIPTION:
URL:https://hardingwildcats.com/event/tr-sh-hu-harold-valentine-invitational/
END:VEVENT
BEGIN:VEVENT
DTSTART;TZID=America/Chicago:20260227T080500
DTEND;TZID=America/Chicago:20260227T083500
DTSTAMP:20260422T205915
CREATED:20260120T161945Z
LAST-MODIFIED:20260225T114939Z
UID:10001729-1772179500-1772181300@hardingwildcats.com
SUMMARY:All School Chapel - Robot Reveal
DESCRIPTION:
URL:https://hardingwildcats.com/event/all-school-chapel-robot-reveal/
END:VEVENT
BEGIN:VEVENT
DTSTART;TZID=America/Chicago:20260302T170000
DTEND;TZID=America/Chicago:20260302T190000
DTSTAMP:20260422T205915
CREATED:20260121T104949Z
LAST-MODIFIED:20260225T114933Z
UID:10001780-1772470800-1772478000@hardingwildcats.com
SUMMARY:S - Boys @ Nettleton
DESCRIPTION:
URL:https://hardingwildcats.com/event/s-boys-nettleton/
END:VEVENT
BEGIN:VEVENT
DTSTART;TZID=America/Chicago:20260303T000000
DTEND;TZID=America/Chicago:20260307T235959
DTSTAMP:20260422T205915
CREATED:20260120T161955Z
LAST-MODIFIED:20260304T114911Z
UID:10001741-1772496000-1772927999@hardingwildcats.com
SUMMARY:BB - Class 3A State Tourn. SG\, SB @ Osceola High School
DESCRIPTION:
URL:https://hardingwildcats.com/event/bb-class-3a-state-tourn-sg-sb-location-is-tba/
END:VEVENT
BEGIN:VEVENT
DTSTART;TZID=America/Chicago:20260303T160000
DTEND;TZID=America/Chicago:20260303T180000
DTSTAMP:20260422T205915
CREATED:20260121T104949Z
LAST-MODIFIED:20260225T114933Z
UID:10001781-1772553600-1772560800@hardingwildcats.com
SUMMARY:BA @ HA vs. Green County Tech V 1 game
DESCRIPTION:
URL:https://hardingwildcats.com/event/ba-ha-vs-green-county-tech-v-1-game/
END:VEVENT
BEGIN:VEVENT
DTSTART;TZID=America/Chicago:20260303T183000
DTEND;TZID=America/Chicago:20260303T203000
DTSTAMP:20260422T205915
CREATED:20260121T104949Z
LAST-MODIFIED:20260225T114933Z
UID:10001782-1772562600-1772569800@hardingwildcats.com
SUMMARY:BA @ HA vs. Paragould V 1 game
DESCRIPTION:
URL:https://hardingwildcats.com/event/ba-ha-vs-paragould-v-1-game/
END:VEVENT
BEGIN:VEVENT
DTSTART;TZID=America/Chicago:20260305T000000
DTEND;TZID=America/Chicago:20260313T235959
DTSTAMP:20260422T205915
CREATED:20260120T161947Z
LAST-MODIFIED:20260311T114934Z
UID:10001738-1772668800-1773446399@hardingwildcats.com
SUMMARY:Spring Book Fair
DESCRIPTION:
URL:https://hardingwildcats.com/event/spring-book-fair-2/
END:VEVENT
BEGIN:VEVENT
DTSTART;TZID=America/Chicago:20260305T153000
DTEND;TZID=America/Chicago:20260305T173000
DTSTAMP:20260422T205915
CREATED:20260120T161955Z
LAST-MODIFIED:20260304T114911Z
UID:10001740-1772724600-1772731800@hardingwildcats.com
SUMMARY:TR- SH @ Lakeside (Hot Springs) Ram Merchant Relays
DESCRIPTION:
URL:https://hardingwildcats.com/event/tr-sh-lakeside-hot-springs-ram-merchant-relays/
END:VEVENT
BEGIN:VEVENT
DTSTART;TZID=America/Chicago:20260306T000000
DTEND;TZID=America/Chicago:20260306T235959
DTSTAMP:20260422T205915
CREATED:20260120T161945Z
LAST-MODIFIED:20260304T114912Z
UID:10001730-1772755200-1772841599@hardingwildcats.com
SUMMARY:End of Quarter
DESCRIPTION:
URL:https://hardingwildcats.com/event/end-of-quarter-5/
END:VEVENT
BEGIN:VEVENT
DTSTART;TZID=America/Chicago:20260306T000000
DTEND;TZID=America/Chicago:20260307T235959
DTSTAMP:20260422T205915
CREATED:20260121T104948Z
LAST-MODIFIED:20260304T114911Z
UID:10001779-1772755200-1772927999@hardingwildcats.com
SUMMARY:S - Boys @ Nettleton Tournament
DESCRIPTION:
URL:https://hardingwildcats.com/event/s-boys-nettleton-tournament-2/
END:VEVENT
BEGIN:VEVENT
DTSTART;TZID=America/Chicago:20260306T085000
DTEND;TZID=America/Chicago:20260306T092000
DTSTAMP:20260422T205915
CREATED:20260120T161946Z
LAST-MODIFIED:20260304T114912Z
UID:10001731-1772787000-1772788800@hardingwildcats.com
SUMMARY:All School Chapel
DESCRIPTION:
URL:https://hardingwildcats.com/event/all-school-chapel-6/
END:VEVENT
BEGIN:VEVENT
DTSTART;TZID=America/Chicago:20260306T164500
DTEND;TZID=America/Chicago:20260306T184500
DTSTAMP:20260422T205915
CREATED:20260121T104948Z
LAST-MODIFIED:20260304T114911Z
UID:10001778-1772815500-1772822700@hardingwildcats.com
SUMMARY:BA @ HA vs. Wynne V1/JV1
DESCRIPTION:
URL:https://hardingwildcats.com/event/ba-ha-vs-wynne-v1-jv1/
END:VEVENT
BEGIN:VEVENT
DTSTART;TZID=America/Chicago:20260307T000000
DTEND;TZID=America/Chicago:20260307T235959
DTSTAMP:20260422T205915
CREATED:20260120T161946Z
LAST-MODIFIED:20260304T114912Z
UID:10001733-1772841600-1772927999@hardingwildcats.com
SUMMARY:SR High Quiz Bowl Regionals
DESCRIPTION:
URL:https://hardingwildcats.com/event/sr-high-quiz-bowl-regionals/
END:VEVENT
BEGIN:VEVENT
DTSTART;TZID=America/Chicago:20260308T000000
DTEND;TZID=America/Chicago:20260308T235959
DTSTAMP:20260422T205915
CREATED:20260120T161946Z
LAST-MODIFIED:20260304T114912Z
UID:10001732-1772928000-1773014399@hardingwildcats.com
SUMMARY:Solo/Ensemble Region Festival
DESCRIPTION:
URL:https://hardingwildcats.com/event/solo-ensemble-region-festival/
END:VEVENT
BEGIN:VEVENT
DTSTART;TZID=America/Chicago:20260308T140000
DTEND;TZID=America/Chicago:20260308T150000
DTSTAMP:20260422T205915
CREATED:20260120T161946Z
LAST-MODIFIED:20260304T114912Z
UID:10001734-1772978400-1772982000@hardingwildcats.com
SUMMARY:Cheer Parent Meeting
DESCRIPTION:
URL:https://hardingwildcats.com/event/cheer-parent-meeting-3/
END:VEVENT
BEGIN:VEVENT
DTSTART;TZID=America/Chicago:20260309T000000
DTEND;TZID=America/Chicago:20260311T235959
DTSTAMP:20260422T205915
CREATED:20260120T161946Z
LAST-MODIFIED:20260311T114933Z
UID:10001735-1773014400-1773273599@hardingwildcats.com
SUMMARY:Chorus & 7/8 Chorus@ Region CPA
DESCRIPTION:
URL:https://hardingwildcats.com/event/chorus-7-8-chorus-region-cpa-2/
LOCATION:Jonesboro\, AR\, USA
END:VEVENT
BEGIN:VEVENT
DTSTART;TZID=America/Chicago:20260310T170000
DTEND;TZID=America/Chicago:20260310T190000
DTSTAMP:20260422T205915
CREATED:20260121T104949Z
LAST-MODIFIED:20260304T114911Z
UID:10001783-1773162000-1773169200@hardingwildcats.com
SUMMARY:S - Girls @ Batesville
DESCRIPTION:
URL:https://hardingwildcats.com/event/s-girls-batesville-2/
END:VEVENT
BEGIN:VEVENT
DTSTART;TZID=America/Chicago:20260310T170000
DTEND;TZID=America/Chicago:20260310T200000
DTSTAMP:20260422T205915
CREATED:20260121T105003Z
LAST-MODIFIED:20260304T114911Z
UID:10001784-1773162000-1773172800@hardingwildcats.com
SUMMARY:BA @ Joe T Robinson V 2 games
DESCRIPTION:
URL:https://hardingwildcats.com/event/ba-joe-t-robinson-v-2-games/
END:VEVENT
BEGIN:VEVENT
DTSTART;TZID=America/Chicago:20260311T080000
DTEND;TZID=America/Chicago:20260311T120000
DTSTAMP:20260422T205915
CREATED:20260120T161946Z
LAST-MODIFIED:20260311T114933Z
UID:10001736-1773216000-1773230400@hardingwildcats.com
SUMMARY:AP Mock Exam (for Jr/Sr)
DESCRIPTION:
URL:https://hardingwildcats.com/event/ap-mock-exam-for-jr-sr/
LOCATION:College Church Of Christ\, 712 E Race Ave\, Searcy\, AR\, United States
GEO:35.250821;-91.729234
X-APPLE-STRUCTURED-LOCATION;VALUE=URI;X-ADDRESS=College Church Of Christ 712 E Race Ave Searcy AR United States;X-APPLE-RADIUS=500;X-TITLE=712 E Race Ave:geo:-91.729234,35.250821
END:VEVENT
BEGIN:VEVENT
DTSTART;TZID=America/Chicago:20260312T000000
DTEND;TZID=America/Chicago:20260312T235959
DTSTAMP:20260422T205915
CREATED:20260120T161946Z
LAST-MODIFIED:20260311T114934Z
UID:10001737-1773273600-1773359999@hardingwildcats.com
SUMMARY:Elem Parent/Teacher Conferences - Elem dismissal @ 11am
DESCRIPTION:
URL:https://hardingwildcats.com/event/elem-parent-teacher-conferences-elem-dismissal-11am/
END:VEVENT
BEGIN:VEVENT
DTSTART;TZID=America/Chicago:20260312T000000
DTEND;TZID=America/Chicago:20260314T235959
DTSTAMP:20260422T205915
CREATED:20260120T161955Z
LAST-MODIFIED:20260311T121932Z
UID:10001742-1773273600-1773532799@hardingwildcats.com
SUMMARY:BB - State Finals @ Hot Springs
DESCRIPTION:
URL:https://hardingwildcats.com/event/bb-state-finals-hot-springs-2/
END:VEVENT
END:VCALENDAR