BEGIN:VCALENDAR
VERSION:2.0
PRODID:-//Harding Academy - ECPv6.15.20//NONSGML v1.0//EN
CALSCALE:GREGORIAN
METHOD:PUBLISH
X-WR-CALNAME:Harding Academy
X-ORIGINAL-URL:https://hardingwildcats.com
X-WR-CALDESC:Events for Harding Academy
REFRESH-INTERVAL;VALUE=DURATION:PT1H
X-Robots-Tag:noindex
X-PUBLISHED-TTL:PT1H
BEGIN:VTIMEZONE
TZID:America/Chicago
BEGIN:DAYLIGHT
TZOFFSETFROM:-0600
TZOFFSETTO:-0500
TZNAME:CDT
DTSTART:20250309T080000
END:DAYLIGHT
BEGIN:STANDARD
TZOFFSETFROM:-0500
TZOFFSETTO:-0600
TZNAME:CST
DTSTART:20251102T070000
END:STANDARD
BEGIN:DAYLIGHT
TZOFFSETFROM:-0600
TZOFFSETTO:-0500
TZNAME:CDT
DTSTART:20260308T080000
END:DAYLIGHT
BEGIN:STANDARD
TZOFFSETFROM:-0500
TZOFFSETTO:-0600
TZNAME:CST
DTSTART:20261101T070000
END:STANDARD
BEGIN:DAYLIGHT
TZOFFSETFROM:-0600
TZOFFSETTO:-0500
TZNAME:CDT
DTSTART:20270314T080000
END:DAYLIGHT
BEGIN:STANDARD
TZOFFSETFROM:-0500
TZOFFSETTO:-0600
TZNAME:CST
DTSTART:20271107T070000
END:STANDARD
END:VTIMEZONE
BEGIN:VEVENT
DTSTART;TZID=America/Chicago:20260202T163000
DTEND;TZID=America/Chicago:20260202T190000
DTSTAMP:20260422T201450
CREATED:20260120T161928Z
LAST-MODIFIED:20260128T104912Z
UID:10001708-1770049800-1770058800@hardingwildcats.com
SUMMARY:BB @ HA vs. Bald Knob 7B\, 8B\, SBJV
DESCRIPTION:
URL:https://hardingwildcats.com/event/bb-ha-vs-bald-knob-7b-8b-sbjv/
END:VEVENT
BEGIN:VEVENT
DTSTART;TZID=America/Chicago:20260203T160000
DTEND;TZID=America/Chicago:20260203T200000
DTSTAMP:20260422T201450
CREATED:20260120T161941Z
LAST-MODIFIED:20260128T104912Z
UID:10001719-1770134400-1770148800@hardingwildcats.com
SUMMARY:BB@ Pangburn 7B\,JG\,SG\,SB
DESCRIPTION:
URL:https://hardingwildcats.com/event/bb-pangburn-7bjgsgsb/
END:VEVENT
BEGIN:VEVENT
DTSTART;TZID=America/Chicago:20260204T000000
DTEND;TZID=America/Chicago:20260204T235959
DTSTAMP:20260422T201450
CREATED:20260120T161930Z
LAST-MODIFIED:20260204T104933Z
UID:10001710-1770163200-1770249599@hardingwildcats.com
SUMMARY:FBLA Spring Conference
DESCRIPTION:
URL:https://hardingwildcats.com/event/fbla-spring-conference/
LOCATION:University of Central Arkansas\, 201 Donaghey Ave\, Conway\, AR\, United States
GEO:35.078305;-92.45423
X-APPLE-STRUCTURED-LOCATION;VALUE=URI;X-ADDRESS=University of Central Arkansas 201 Donaghey Ave Conway AR United States;X-APPLE-RADIUS=500;X-TITLE=201 Donaghey Ave:geo:-92.45423,35.078305
END:VEVENT
BEGIN:VEVENT
DTSTART;TZID=America/Chicago:20260204T153000
DTEND;TZID=America/Chicago:20260204T163000
DTSTAMP:20260422T201450
CREATED:20260204T104933Z
LAST-MODIFIED:20260204T104933Z
UID:10001852-1770219000-1770222600@hardingwildcats.com
SUMMARY:PFTA Meeting in Auditorium - Childcare in the cafeteria
DESCRIPTION:
URL:https://hardingwildcats.com/event/pfta-meeting-in-auditorium-childcare-in-the-cafeteria/
END:VEVENT
BEGIN:VEVENT
DTSTART;TZID=America/Chicago:20260204T153000
DTEND;TZID=America/Chicago:20260204T180000
DTSTAMP:20260422T201450
CREATED:20260204T104931Z
LAST-MODIFIED:20260204T104931Z
UID:10001851-1770219000-1770228000@hardingwildcats.com
SUMMARY:BB @ HA vs Bald Knob 7G\, 7B & JB
DESCRIPTION:
URL:https://hardingwildcats.com/event/bb-ha-vs-bald-knob-7g-7b-jb/
END:VEVENT
BEGIN:VEVENT
DTSTART;TZID=America/Chicago:20260205T123000
DTEND;TZID=America/Chicago:20260205T133000
DTSTAMP:20260422T201450
CREATED:20260120T161930Z
LAST-MODIFIED:20260204T104933Z
UID:10001711-1770294600-1770298200@hardingwildcats.com
SUMMARY:Middle & High School Parent/Teacher Conferences - HS Dismissal
DESCRIPTION:
URL:https://hardingwildcats.com/event/middle-high-school-parent-teacher-conferences-hs-dismissal/
END:VEVENT
BEGIN:VEVENT
DTSTART;TZID=America/Chicago:20260206T000000
DTEND;TZID=America/Chicago:20260206T235959
DTSTAMP:20260422T201450
CREATED:20260120T161930Z
LAST-MODIFIED:20260204T104933Z
UID:10001712-1770336000-1770422399@hardingwildcats.com
SUMMARY:Chorus All State Auditions
DESCRIPTION:
URL:https://hardingwildcats.com/event/chorus-all-state-auditions-5/
END:VEVENT
BEGIN:VEVENT
DTSTART;TZID=America/Chicago:20260206T000000
DTEND;TZID=America/Chicago:20260207T235959
DTSTAMP:20260422T201450
CREATED:20260120T161931Z
LAST-MODIFIED:20260204T104933Z
UID:10001713-1770336000-1770508799@hardingwildcats.com
SUMMARY:All-State Band Auditions @ UCA
DESCRIPTION:Host: UCA
URL:https://hardingwildcats.com/event/all-state-band-auditions-uca/
LOCATION:University of Central Arkansas\, 201 Donaghey Ave\, Conway\, AR\, United States
GEO:35.078305;-92.45423
X-APPLE-STRUCTURED-LOCATION;VALUE=URI;X-ADDRESS=University of Central Arkansas 201 Donaghey Ave Conway AR United States;X-APPLE-RADIUS=500;X-TITLE=201 Donaghey Ave:geo:-92.45423,35.078305
END:VEVENT
BEGIN:VEVENT
DTSTART;TZID=America/Chicago:20260206T180000
DTEND;TZID=America/Chicago:20260206T210000
DTSTAMP:20260422T201450
CREATED:20260120T161942Z
LAST-MODIFIED:20260204T104931Z
UID:10001720-1770400800-1770411600@hardingwildcats.com
SUMMARY:BB @ Riverview SG\,SB
DESCRIPTION:
URL:https://hardingwildcats.com/event/bb-riverview-sgsb/
END:VEVENT
BEGIN:VEVENT
DTSTART;TZID=America/Chicago:20260207T000000
DTEND;TZID=America/Chicago:20260207T235959
DTSTAMP:20260422T201450
CREATED:20260120T161942Z
LAST-MODIFIED:20260204T104931Z
UID:10001721-1770422400-1770508799@hardingwildcats.com
SUMMARY:BB @ HA Jr. High District Tournament JG\,JB
DESCRIPTION:
URL:https://hardingwildcats.com/event/bb-ha-jr-high-district-tournament-jgjb/
END:VEVENT
BEGIN:VEVENT
DTSTART;TZID=America/Chicago:20260209T000000
DTEND;TZID=America/Chicago:20260212T235959
DTSTAMP:20260422T201450
CREATED:20260120T161942Z
LAST-MODIFIED:20260211T111914Z
UID:10001722-1770595200-1770940799@hardingwildcats.com
SUMMARY:BB @ HA Jr. High District Tournament JG\,JB
DESCRIPTION:
URL:https://hardingwildcats.com/event/bb-ha-jr-high-district-tournament-jgjb-2/
END:VEVENT
BEGIN:VEVENT
DTSTART;TZID=America/Chicago:20260210T180000
DTEND;TZID=America/Chicago:20260210T210000
DTSTAMP:20260422T201450
CREATED:20260120T161942Z
LAST-MODIFIED:20260204T104931Z
UID:10001723-1770746400-1770757200@hardingwildcats.com
SUMMARY:BB @ HA vs Episcopal SG\,SB
DESCRIPTION:
URL:https://hardingwildcats.com/event/bb-ha-vs-episcopal-sgsb/
END:VEVENT
BEGIN:VEVENT
DTSTART;TZID=America/Chicago:20260212T000000
DTEND;TZID=America/Chicago:20260212T235959
DTSTAMP:20260422T201450
CREATED:20260120T161942Z
LAST-MODIFIED:20260120T161942Z
UID:10001724-1770854400-1770940799@hardingwildcats.com
SUMMARY:BB @ HA Jr. High District Tournament JG\,JB
DESCRIPTION:
URL:https://hardingwildcats.com/event/bb-ha-jr-high-district-tournament-jgjb-3/
END:VEVENT
BEGIN:VEVENT
DTSTART;TZID=America/Chicago:20260212T000000
DTEND;TZID=America/Chicago:20260214T235959
DTSTAMP:20260422T201450
CREATED:20260121T104917Z
LAST-MODIFIED:20260211T111914Z
UID:10001773-1770854400-1771113599@hardingwildcats.com
SUMMARY:Thespian Festival
DESCRIPTION:
URL:https://hardingwildcats.com/event/thespian-festival/
END:VEVENT
BEGIN:VEVENT
DTSTART;TZID=America/Chicago:20260213T141500
DTEND;TZID=America/Chicago:20260213T144500
DTSTAMP:20260422T201450
CREATED:20260128T104914Z
LAST-MODIFIED:20260211T111914Z
UID:10001832-1770992100-1770993900@hardingwildcats.com
SUMMARY:Valentines Day Party
DESCRIPTION:
URL:https://hardingwildcats.com/event/valentines-day-party/
END:VEVENT
BEGIN:VEVENT
DTSTART;TZID=America/Chicago:20260213T170000
DTEND;TZID=America/Chicago:20260213T200000
DTSTAMP:20260422T201450
CREATED:20260120T161928Z
LAST-MODIFIED:20260211T111914Z
UID:10001707-1771002000-1771012800@hardingwildcats.com
SUMMARY:BB @  HA vs Bald Knob JB\,SG\,SB
DESCRIPTION:
URL:https://hardingwildcats.com/event/bb-ha-vs-bald-knob-jbsgsb/
END:VEVENT
BEGIN:VEVENT
DTSTART;TZID=America/Chicago:20260213T170000
DTEND;TZID=America/Chicago:20260213T200000
DTSTAMP:20260422T201450
CREATED:20260120T161942Z
LAST-MODIFIED:20260128T104912Z
UID:10001725-1771002000-1771012800@hardingwildcats.com
SUMMARY:BB@ Tuckerman SG\,SB
DESCRIPTION:
URL:https://hardingwildcats.com/event/bb-tuckerman-sgsb/
END:VEVENT
BEGIN:VEVENT
DTSTART;TZID=America/Chicago:20260213T190000
DTEND;TZID=America/Chicago:20260213T200000
DTSTAMP:20260422T201450
CREATED:20260120T161928Z
LAST-MODIFIED:20260211T111914Z
UID:10001706-1771009200-1771012800@hardingwildcats.com
SUMMARY:Sr. Night Presentation Between SG & SB games
DESCRIPTION:
URL:https://hardingwildcats.com/event/sr-night-presentation-between-sg-sb-games/
END:VEVENT
BEGIN:VEVENT
DTSTART;TZID=America/Chicago:20260216T000000
DTEND;TZID=America/Chicago:20260216T235959
DTSTAMP:20260422T201450
CREATED:20260120T161931Z
LAST-MODIFIED:20260211T111914Z
UID:10001714-1771200000-1771286399@hardingwildcats.com
SUMMARY:President's Day - No School
DESCRIPTION:
URL:https://hardingwildcats.com/event/presidents-day-no-school/
END:VEVENT
BEGIN:VEVENT
DTSTART;TZID=America/Chicago:20260216T000000
DTEND;TZID=America/Chicago:20260221T235959
DTSTAMP:20260422T201450
CREATED:20260120T161942Z
LAST-MODIFIED:20260218T114910Z
UID:10001726-1771200000-1771718399@hardingwildcats.com
SUMMARY:BB @ Episcopal Sr. High District Tourn. SG\,SB
DESCRIPTION:
URL:https://hardingwildcats.com/event/bb-episcopal-sr-high-district-tourn-sgsb/
END:VEVENT
BEGIN:VEVENT
DTSTART;TZID=America/Chicago:20260218T000000
DTEND;TZID=America/Chicago:20260221T235959
DTSTAMP:20260422T201450
CREATED:20260120T161931Z
LAST-MODIFIED:20260218T114912Z
UID:10001715-1771372800-1771718399@hardingwildcats.com
SUMMARY:All-State/Music Conference @ Hot Springs Convention Ctr
DESCRIPTION:Host:  ASBOA
URL:https://hardingwildcats.com/event/all-state-music-conference-hot-springs-convention-ctr/
LOCATION:Hot Springs Convention Center\, 200 Spring St\, Hot Springs National Park\, AR\, United States
GEO:34.510353;-93.053512
X-APPLE-STRUCTURED-LOCATION;VALUE=URI;X-ADDRESS=Hot Springs Convention Center 200 Spring St Hot Springs National Park AR United States;X-APPLE-RADIUS=500;X-TITLE=200 Spring St:geo:-93.053512,34.510353
END:VEVENT
BEGIN:VEVENT
DTSTART;TZID=America/Chicago:20260220T140000
DTEND;TZID=America/Chicago:20260220T150000
DTSTAMP:20260422T201450
CREATED:20260120T161931Z
LAST-MODIFIED:20260218T114912Z
UID:10001716-1771596000-1771599600@hardingwildcats.com
SUMMARY:Kindergarten Box Car Derby
DESCRIPTION:
URL:https://hardingwildcats.com/event/kindergarten-box-car-derby/
END:VEVENT
BEGIN:VEVENT
DTSTART;TZID=America/Chicago:20260224T153000
DTEND;TZID=America/Chicago:20260224T173000
DTSTAMP:20260422T201450
CREATED:20260120T161942Z
LAST-MODIFIED:20260218T114910Z
UID:10001727-1771947000-1771954200@hardingwildcats.com
SUMMARY:TR - JH @ HU - HU Jr High Invitational
DESCRIPTION:
URL:https://hardingwildcats.com/event/tr-jh-hu-hu-jr-high-invitational/
END:VEVENT
BEGIN:VEVENT
DTSTART;TZID=America/Chicago:20260224T170000
DTEND;TZID=America/Chicago:20260224T190000
DTSTAMP:20260422T201450
CREATED:20260121T104931Z
LAST-MODIFIED:20260218T114910Z
UID:10001774-1771952400-1771959600@hardingwildcats.com
SUMMARY:BA @ HA vs. Jonesboro HS V 1 game
DESCRIPTION:
URL:https://hardingwildcats.com/event/ba-ha-vs-jonesboro-hs-v-1-game/
END:VEVENT
BEGIN:VEVENT
DTSTART;TZID=America/Chicago:20260224T170000
DTEND;TZID=America/Chicago:20260224T190000
DTSTAMP:20260422T201450
CREATED:20260121T104936Z
LAST-MODIFIED:20260218T114910Z
UID:10001776-1771952400-1771959600@hardingwildcats.com
SUMMARY:S - Girls @ Cave City AAA Benefit Game
DESCRIPTION:
URL:https://hardingwildcats.com/event/s-girls-cave-city-aaa-benefit-game-2/
END:VEVENT
BEGIN:VEVENT
DTSTART;TZID=America/Chicago:20260224T190000
DTEND;TZID=America/Chicago:20260224T203000
DTSTAMP:20260422T201450
CREATED:20260120T161932Z
LAST-MODIFIED:20260218T114912Z
UID:10001717-1771959600-1771965000@hardingwildcats.com
SUMMARY:Robotics - Robot Reveal Party @ Robotics Shop
DESCRIPTION:
URL:https://hardingwildcats.com/event/robotics-robot-reveal-party-robotics-shop/
END:VEVENT
BEGIN:VEVENT
DTSTART;TZID=America/Chicago:20260224T190000
DTEND;TZID=America/Chicago:20260224T210000
DTSTAMP:20260422T201450
CREATED:20260121T104935Z
LAST-MODIFIED:20260218T114910Z
UID:10001775-1771959600-1771966800@hardingwildcats.com
SUMMARY:S - Boys @ Cave City AAA Benefit Game
DESCRIPTION:
URL:https://hardingwildcats.com/event/s-boys-cave-city-aaa-benefit-game-2/
END:VEVENT
BEGIN:VEVENT
DTSTART;TZID=America/Chicago:20260225T000000
DTEND;TZID=America/Chicago:20260228T235959
DTSTAMP:20260422T201450
CREATED:20260120T161955Z
LAST-MODIFIED:20260225T114933Z
UID:10001739-1771977600-1772323199@hardingwildcats.com
SUMMARY:BB Region 2 Tournament SG\, SB  @ Jessieville High School
DESCRIPTION:
URL:https://hardingwildcats.com/event/bb-region-2-tournament-sg-sb-location-is-tba/
END:VEVENT
BEGIN:VEVENT
DTSTART;TZID=America/Chicago:20260226T000000
DTEND;TZID=America/Chicago:20260226T235959
DTSTAMP:20260422T201450
CREATED:20260120T161932Z
LAST-MODIFIED:20260225T114939Z
UID:10001718-1772064000-1772150399@hardingwildcats.com
SUMMARY:Region Solo-Ensemble Band Assessment @ Cabot JH South
DESCRIPTION:Host:  Susan Ford
URL:https://hardingwildcats.com/event/region-solo-ensemble-band-assessment-cabot-jh-south/
LOCATION:Cabot Junior High School South\, 38 Panther Rd\, Conway\, AR\, United States
GEO:35.031864;-92.346301
X-APPLE-STRUCTURED-LOCATION;VALUE=URI;X-ADDRESS=Cabot Junior High School South 38 Panther Rd Conway AR United States;X-APPLE-RADIUS=500;X-TITLE=38 Panther Rd:geo:-92.346301,35.031864
END:VEVENT
BEGIN:VEVENT
DTSTART;TZID=America/Chicago:20260226T153000
DTEND;TZID=America/Chicago:20260226T173000
DTSTAMP:20260422T201450
CREATED:20260120T161942Z
LAST-MODIFIED:20260225T114933Z
UID:10001728-1772119800-1772127000@hardingwildcats.com
SUMMARY:TR - SH @ HU Harold Valentine Invitational
DESCRIPTION:
URL:https://hardingwildcats.com/event/tr-sh-hu-harold-valentine-invitational/
END:VEVENT
END:VCALENDAR