BEGIN:VCALENDAR
VERSION:2.0
PRODID:-//Harding Academy - ECPv6.15.20//NONSGML v1.0//EN
CALSCALE:GREGORIAN
METHOD:PUBLISH
X-WR-CALNAME:Harding Academy
X-ORIGINAL-URL:https://hardingwildcats.com
X-WR-CALDESC:Events for Harding Academy
REFRESH-INTERVAL;VALUE=DURATION:PT1H
X-Robots-Tag:noindex
X-PUBLISHED-TTL:PT1H
BEGIN:VTIMEZONE
TZID:America/Chicago
BEGIN:DAYLIGHT
TZOFFSETFROM:-0600
TZOFFSETTO:-0500
TZNAME:CDT
DTSTART:20240310T080000
END:DAYLIGHT
BEGIN:STANDARD
TZOFFSETFROM:-0500
TZOFFSETTO:-0600
TZNAME:CST
DTSTART:20241103T070000
END:STANDARD
BEGIN:DAYLIGHT
TZOFFSETFROM:-0600
TZOFFSETTO:-0500
TZNAME:CDT
DTSTART:20250309T080000
END:DAYLIGHT
BEGIN:STANDARD
TZOFFSETFROM:-0500
TZOFFSETTO:-0600
TZNAME:CST
DTSTART:20251102T070000
END:STANDARD
BEGIN:DAYLIGHT
TZOFFSETFROM:-0600
TZOFFSETTO:-0500
TZNAME:CDT
DTSTART:20260308T080000
END:DAYLIGHT
BEGIN:STANDARD
TZOFFSETFROM:-0500
TZOFFSETTO:-0600
TZNAME:CST
DTSTART:20261101T070000
END:STANDARD
END:VTIMEZONE
BEGIN:VEVENT
DTSTART;TZID=America/Chicago:20250401T160000
DTEND;TZID=America/Chicago:20250401T200000
DTSTAMP:20260420T001551
CREATED:20250117T062016Z
LAST-MODIFIED:20250328T081939Z
UID:10001372-1743523200-1743537600@hardingwildcats.com
SUMMARY:TR - Jr. High Bald Knob Jr. High Invitational
DESCRIPTION:
URL:https://hardingwildcats.com/event/tr-jr-high-bald-knob-jr-high-invitational-2/
END:VEVENT
BEGIN:VEVENT
DTSTART;TZID=America/Chicago:20250401T163000
DTEND;TZID=America/Chicago:20250401T190000
DTSTAMP:20260420T001551
CREATED:20250124T062041Z
LAST-MODIFIED:20250328T081939Z
UID:10001412-1743525000-1743534000@hardingwildcats.com
SUMMARY:BA @ Heber Springs V - 2
DESCRIPTION:
URL:https://hardingwildcats.com/event/ba-heber-springs-v-2/
END:VEVENT
BEGIN:VEVENT
DTSTART;TZID=America/Chicago:20250401T170000
DTEND;TZID=America/Chicago:20250401T190000
DTSTAMP:20260420T001551
CREATED:20250117T062016Z
LAST-MODIFIED:20250328T081939Z
UID:10001371-1743526800-1743534000@hardingwildcats.com
SUMMARY:S - Girls @ Greene County Tech
DESCRIPTION:
URL:https://hardingwildcats.com/event/s-girls-greene-county-tech/
END:VEVENT
BEGIN:VEVENT
DTSTART;TZID=America/Chicago:20250401T173000
DTEND;TZID=America/Chicago:20250401T193000
DTSTAMP:20260420T001551
CREATED:20250124T062041Z
LAST-MODIFIED:20250328T081939Z
UID:10001411-1743528600-1743535800@hardingwildcats.com
SUMMARY:SB @ HU vs. Carlisle V
DESCRIPTION:
URL:https://hardingwildcats.com/event/sb-hu-vs-carlisle-v/
END:VEVENT
BEGIN:VEVENT
DTSTART;TZID=America/Chicago:20250401T190000
DTEND;TZID=America/Chicago:20250401T203000
DTSTAMP:20260420T001551
CREATED:20250103T062003Z
LAST-MODIFIED:20250328T081939Z
UID:10001345-1743534000-1743539400@hardingwildcats.com
SUMMARY:S - Boys @ Westside (Jonesboro)
DESCRIPTION:
URL:https://hardingwildcats.com/event/s-boys-westside-jonesboro/
END:VEVENT
BEGIN:VEVENT
DTSTART;TZID=America/Chicago:20250402T000000
DTEND;TZID=America/Chicago:20250405T235959
DTSTAMP:20260420T001551
CREATED:20250103T215015Z
LAST-MODIFIED:20250405T001936Z
UID:10001346-1743552000-1743897599@hardingwildcats.com
SUMMARY:Robotics @Smoky Mountain Regional
DESCRIPTION:
URL:https://hardingwildcats.com/event/robotics-smoky-mountain-regional/
LOCATION:Sevierville\, TN\, USA
END:VEVENT
BEGIN:VEVENT
DTSTART;TZID=America/Chicago:20250403T160000
DTEND;TZID=America/Chicago:20250403T200000
DTSTAMP:20260420T001551
CREATED:20250117T062028Z
LAST-MODIFIED:20250328T081939Z
UID:10001374-1743696000-1743710400@hardingwildcats.com
SUMMARY:TR - Sr. High Badger Sr.\, High Relays @ Beebe High School
DESCRIPTION:
URL:https://hardingwildcats.com/event/tr-sr-high-badger-sr-high-relays-beebe-high-school/
END:VEVENT
BEGIN:VEVENT
DTSTART;TZID=America/Chicago:20250403T160000
DTEND;TZID=America/Chicago:20250403T200000
DTSTAMP:20260420T001551
CREATED:20250117T062028Z
LAST-MODIFIED:20250328T081939Z
UID:10001373-1743696000-1743710400@hardingwildcats.com
SUMMARY:TR - Sr. High Bald Knob Sr. High Invitational
DESCRIPTION:
URL:https://hardingwildcats.com/event/tr-sr-high-bald-knob-sr-high-invitational/
END:VEVENT
BEGIN:VEVENT
DTSTART;TZID=America/Chicago:20250403T163000
DTEND;TZID=America/Chicago:20250403T200000
DTSTAMP:20260420T001551
CREATED:20250124T062041Z
LAST-MODIFIED:20250328T081952Z
UID:10001413-1743697800-1743710400@hardingwildcats.com
SUMMARY:SB @ HA vs. CAC V/JV
DESCRIPTION:
URL:https://hardingwildcats.com/event/sb-ha-vs-cac-v-jv/
END:VEVENT
BEGIN:VEVENT
DTSTART;TZID=America/Chicago:20250403T173000
DTEND;TZID=America/Chicago:20250403T200000
DTSTAMP:20260420T001551
CREATED:20250124T062053Z
LAST-MODIFIED:20250328T081939Z
UID:10001414-1743701400-1743710400@hardingwildcats.com
SUMMARY:BA @ HA vs. Pulaski Academy JV - 1
DESCRIPTION:
URL:https://hardingwildcats.com/event/ba-ha-vs-pulaski-academy-jv-1/
END:VEVENT
BEGIN:VEVENT
DTSTART;TZID=America/Chicago:20250404T164500
DTEND;TZID=America/Chicago:20250404T201500
DTSTAMP:20260420T001551
CREATED:20250124T062053Z
LAST-MODIFIED:20250404T084938Z
UID:10001415-1743785100-1743797700@hardingwildcats.com
SUMMARY:BA @ HA vs. Beebe V - 1\, JV - 1
DESCRIPTION:
URL:https://hardingwildcats.com/event/ba-ha-vs-beebe-v-1-jv-1/
END:VEVENT
BEGIN:VEVENT
DTSTART;TZID=America/Chicago:20250404T170000
DTEND;TZID=America/Chicago:20250404T190000
DTSTAMP:20260420T001551
CREATED:20250117T062029Z
LAST-MODIFIED:20250404T084938Z
UID:10001375-1743786000-1743793200@hardingwildcats.com
SUMMARY:S - Girls @ HA vs. Valley View
DESCRIPTION:
URL:https://hardingwildcats.com/event/s-girls-ha-vs-valley-view/
END:VEVENT
BEGIN:VEVENT
DTSTART;TZID=America/Chicago:20250404T190000
DTEND;TZID=America/Chicago:20250404T203000
DTSTAMP:20260420T001551
CREATED:20250110T062004Z
LAST-MODIFIED:20250404T084938Z
UID:10001347-1743793200-1743798600@hardingwildcats.com
SUMMARY:S - Boys @ HA vs. Joe T Robinson
DESCRIPTION:
URL:https://hardingwildcats.com/event/s-boys-ha-vs-joe-t-robinson/
END:VEVENT
BEGIN:VEVENT
DTSTART;TZID=America/Chicago:20250405T180000
DTEND;TZID=America/Chicago:20250405T220000
DTSTAMP:20260420T001551
CREATED:20250110T215021Z
LAST-MODIFIED:20250405T001935Z
UID:10001356-1743876000-1743890400@hardingwildcats.com
SUMMARY:JR/SR Banquet
DESCRIPTION:
URL:https://hardingwildcats.com/event/jr-sr-banquet-3/
END:VEVENT
BEGIN:VEVENT
DTSTART;TZID=America/Chicago:20250407T000000
DTEND;TZID=America/Chicago:20250407T235959
DTSTAMP:20260420T001551
CREATED:20250110T215022Z
LAST-MODIFIED:20250405T001936Z
UID:10001357-1743984000-1744070399@hardingwildcats.com
SUMMARY:Chorus @ State Choral Festival
DESCRIPTION:
URL:https://hardingwildcats.com/event/chorus-state-choral-festival/
LOCATION:University of Central Arkansas\, 201 Donaghey Ave\, Conway\, AR\, United States
GEO:35.078305;-92.45423
X-APPLE-STRUCTURED-LOCATION;VALUE=URI;X-ADDRESS=University of Central Arkansas 201 Donaghey Ave Conway AR United States;X-APPLE-RADIUS=500;X-TITLE=201 Donaghey Ave:geo:-92.45423,35.078305
END:VEVENT
BEGIN:VEVENT
DTSTART;TZID=America/Chicago:20250407T000000
DTEND;TZID=America/Chicago:20250408T235959
DTSTAMP:20260420T001551
CREATED:20250110T215022Z
LAST-MODIFIED:20250405T001936Z
UID:10001358-1743984000-1744156799@hardingwildcats.com
SUMMARY:Band-Late Region Concert Assessment
DESCRIPTION:
URL:https://hardingwildcats.com/event/band-late-region-concert-assessment/
END:VEVENT
BEGIN:VEVENT
DTSTART;TZID=America/Chicago:20250407T000000
DTEND;TZID=America/Chicago:20250408T235959
DTSTAMP:20260420T001551
CREATED:20250214T222012Z
LAST-MODIFIED:20250405T001936Z
UID:10001476-1743984000-1744156799@hardingwildcats.com
SUMMARY:FBLA State Conference
DESCRIPTION:
URL:https://hardingwildcats.com/event/fbla-state-conference-2/
END:VEVENT
BEGIN:VEVENT
DTSTART;TZID=America/Chicago:20250407T000000
DTEND;TZID=America/Chicago:20250411T235959
DTSTAMP:20260420T001551
CREATED:20250214T222012Z
LAST-MODIFIED:20250405T001936Z
UID:10001477-1743984000-1744415999@hardingwildcats.com
SUMMARY:SA Election Week
DESCRIPTION:
URL:https://hardingwildcats.com/event/sa-election-week-2/
END:VEVENT
BEGIN:VEVENT
DTSTART;TZID=America/Chicago:20250407T160000
DTEND;TZID=America/Chicago:20250407T200000
DTSTAMP:20260420T001551
CREATED:20250117T062029Z
LAST-MODIFIED:20250404T084938Z
UID:10001376-1744041600-1744056000@hardingwildcats.com
SUMMARY:TR - Sr. High Blazer Invitational @ Valley View
DESCRIPTION:
URL:https://hardingwildcats.com/event/tr-sr-high-blazer-invitational-valley-view/
END:VEVENT
BEGIN:VEVENT
DTSTART;TZID=America/Chicago:20250407T163000
DTEND;TZID=America/Chicago:20250407T200000
DTSTAMP:20260420T001551
CREATED:20250124T062054Z
LAST-MODIFIED:20250404T084938Z
UID:10001416-1744043400-1744056000@hardingwildcats.com
SUMMARY:SB @ Clinton V/JV
DESCRIPTION:
URL:https://hardingwildcats.com/event/sb-clinton-v-jv-4/
END:VEVENT
BEGIN:VEVENT
DTSTART;TZID=America/Chicago:20250407T163000
DTEND;TZID=America/Chicago:20250407T200000
DTSTAMP:20260420T001551
CREATED:20250404T084938Z
LAST-MODIFIED:20250404T084938Z
UID:10001505-1744043400-1744056000@hardingwildcats.com
SUMMARY:BA @ HA vs. Brookland V & JV
DESCRIPTION:
URL:https://hardingwildcats.com/event/ba-ha-vs-brookland-v-jv/
END:VEVENT
BEGIN:VEVENT
DTSTART;TZID=America/Chicago:20250407T170000
DTEND;TZID=America/Chicago:20250407T190000
DTSTAMP:20260420T001551
CREATED:20250117T062029Z
LAST-MODIFIED:20250404T084938Z
UID:10001377-1744045200-1744052400@hardingwildcats.com
SUMMARY:S - Girls @ Searcy
DESCRIPTION:
URL:https://hardingwildcats.com/event/s-girls-searcy-2/
END:VEVENT
BEGIN:VEVENT
DTSTART;TZID=America/Chicago:20250408T160000
DTEND;TZID=America/Chicago:20250408T200000
DTSTAMP:20260420T001551
CREATED:20250117T062029Z
LAST-MODIFIED:20250404T084952Z
UID:10001378-1744128000-1744142400@hardingwildcats.com
SUMMARY:TR - Jr. High Vilonia Junior Eagles Relays
DESCRIPTION:
URL:https://hardingwildcats.com/event/tr-jr-high-vilonia-junior-eagles-relays/
END:VEVENT
BEGIN:VEVENT
DTSTART;TZID=America/Chicago:20250408T163000
DTEND;TZID=America/Chicago:20250408T193000
DTSTAMP:20260420T001551
CREATED:20250124T062106Z
LAST-MODIFIED:20250404T084938Z
UID:10001418-1744129800-1744140600@hardingwildcats.com
SUMMARY:BA @ HA vs. Clinton V - 2
DESCRIPTION:
URL:https://hardingwildcats.com/event/ba-ha-vs-clinton-v-2/
END:VEVENT
BEGIN:VEVENT
DTSTART;TZID=America/Chicago:20250408T163000
DTEND;TZID=America/Chicago:20250408T200000
DTSTAMP:20260420T001551
CREATED:20250124T062054Z
LAST-MODIFIED:20250404T084938Z
UID:10001417-1744129800-1744142400@hardingwildcats.com
SUMMARY:SB @ HU vs. North Little Rock V/JV
DESCRIPTION:
URL:https://hardingwildcats.com/event/sb-hu-vs-north-little-rock-v-jv/
END:VEVENT
BEGIN:VEVENT
DTSTART;TZID=America/Chicago:20250408T190000
DTEND;TZID=America/Chicago:20250408T203000
DTSTAMP:20260420T001551
CREATED:20250110T062004Z
LAST-MODIFIED:20250404T084938Z
UID:10001348-1744138800-1744144200@hardingwildcats.com
SUMMARY:S - Boys @ Brookland
DESCRIPTION:
URL:https://hardingwildcats.com/event/s-boys-brookland-4/
END:VEVENT
BEGIN:VEVENT
DTSTART;TZID=America/Chicago:20250410T110000
DTEND;TZID=America/Chicago:20250410T130000
DTSTAMP:20260420T001551
CREATED:20250131T221947Z
LAST-MODIFIED:20250405T001936Z
UID:10001448-1744282800-1744290000@hardingwildcats.com
SUMMARY:Spring Sing K-6th
DESCRIPTION:
URL:https://hardingwildcats.com/event/spring-sing-k-6th/
END:VEVENT
BEGIN:VEVENT
DTSTART;TZID=America/Chicago:20250410T160000
DTEND;TZID=America/Chicago:20250410T200000
DTSTAMP:20260420T001551
CREATED:20250117T062029Z
LAST-MODIFIED:20250404T084952Z
UID:10001379-1744300800-1744315200@hardingwildcats.com
SUMMARY:TR - Sr. High Jerry Roberts Memorial Replays @ Vilonia High School
DESCRIPTION:
URL:https://hardingwildcats.com/event/tr-sr-high-jerry-roberts-memorial-replays-vilonia-high-school/
END:VEVENT
BEGIN:VEVENT
DTSTART;TZID=America/Chicago:20250410T163000
DTEND;TZID=America/Chicago:20250410T200000
DTSTAMP:20260420T001551
CREATED:20250124T062106Z
LAST-MODIFIED:20250207T065058Z
UID:10001419-1744302600-1744315200@hardingwildcats.com
SUMMARY:SB @ Lisa Academy V/JV
DESCRIPTION:
URL:https://hardingwildcats.com/event/sb-lisa-academy-v-jv-2/
END:VEVENT
BEGIN:VEVENT
DTSTART;TZID=America/Chicago:20250410T170000
DTEND;TZID=America/Chicago:20250410T183000
DTSTAMP:20260420T001551
CREATED:20250110T062004Z
LAST-MODIFIED:20250404T084952Z
UID:10001349-1744304400-1744309800@hardingwildcats.com
SUMMARY:S - Boys @ HA vs. Southside (Batesville)
DESCRIPTION:
URL:https://hardingwildcats.com/event/s-boys-ha-vs-southside-batesville/
END:VEVENT
END:VCALENDAR