BEGIN:VCALENDAR
VERSION:2.0
PRODID:-//Harding Academy - ECPv6.15.20//NONSGML v1.0//EN
CALSCALE:GREGORIAN
METHOD:PUBLISH
X-WR-CALNAME:Harding Academy
X-ORIGINAL-URL:https://hardingwildcats.com
X-WR-CALDESC:Events for Harding Academy
REFRESH-INTERVAL;VALUE=DURATION:PT1H
X-Robots-Tag:noindex
X-PUBLISHED-TTL:PT1H
BEGIN:VTIMEZONE
TZID:America/Chicago
BEGIN:DAYLIGHT
TZOFFSETFROM:-0600
TZOFFSETTO:-0500
TZNAME:CDT
DTSTART:20250309T080000
END:DAYLIGHT
BEGIN:STANDARD
TZOFFSETFROM:-0500
TZOFFSETTO:-0600
TZNAME:CST
DTSTART:20251102T070000
END:STANDARD
BEGIN:DAYLIGHT
TZOFFSETFROM:-0600
TZOFFSETTO:-0500
TZNAME:CDT
DTSTART:20260308T080000
END:DAYLIGHT
BEGIN:STANDARD
TZOFFSETFROM:-0500
TZOFFSETTO:-0600
TZNAME:CST
DTSTART:20261101T070000
END:STANDARD
BEGIN:DAYLIGHT
TZOFFSETFROM:-0600
TZOFFSETTO:-0500
TZNAME:CDT
DTSTART:20270314T080000
END:DAYLIGHT
BEGIN:STANDARD
TZOFFSETFROM:-0500
TZOFFSETTO:-0600
TZNAME:CST
DTSTART:20271107T070000
END:STANDARD
END:VTIMEZONE
BEGIN:VEVENT
DTSTART;TZID=America/Chicago:20260424T190000
DTEND;TZID=America/Chicago:20260424T210000
DTSTAMP:20260423T173636
CREATED:20260128T105057Z
LAST-MODIFIED:20260422T124932Z
UID:10001843-1777057200-1777064400@hardingwildcats.com
SUMMARY:S - Boys @ CAC
DESCRIPTION:
URL:https://hardingwildcats.com/event/s-boys-cac-3/
END:VEVENT
BEGIN:VEVENT
DTSTART;TZID=America/Chicago:20260424T170000
DTEND;TZID=America/Chicago:20260424T190000
DTSTAMP:20260423T173636
CREATED:20260128T105057Z
LAST-MODIFIED:20260422T124932Z
UID:10001841-1777050000-1777057200@hardingwildcats.com
SUMMARY:S - Girls @ HU Field vs. Paragould
DESCRIPTION:
URL:https://hardingwildcats.com/event/s-girls-paragould-2/
END:VEVENT
BEGIN:VEVENT
DTSTART;TZID=America/Chicago:20260424T164500
DTEND;TZID=America/Chicago:20260424T221500
DTSTAMP:20260423T173636
CREATED:20260422T124932Z
LAST-MODIFIED:20260422T124932Z
UID:10001912-1777049100-1777068900@hardingwildcats.com
SUMMARY:BA @ HA v Perryville (Senior Night) V/JV
DESCRIPTION:
URL:https://hardingwildcats.com/event/ba-ha-v-perryville-senior-night-v-jv/
END:VEVENT
BEGIN:VEVENT
DTSTART;TZID=America/Chicago:20260424T163000
DTEND;TZID=America/Chicago:20260424T193000
DTSTAMP:20260423T173636
CREATED:20260128T105057Z
LAST-MODIFIED:20260415T124940Z
UID:10001844-1777048200-1777059000@hardingwildcats.com
SUMMARY:SB @ HA vs. Cabot V/JV
DESCRIPTION:
URL:https://hardingwildcats.com/event/sb-ha-vs-cabot-v-jv/
END:VEVENT
BEGIN:VEVENT
DTSTART;TZID=America/Chicago:20260424T000000
DTEND;TZID=America/Chicago:20260424T235959
DTSTAMP:20260423T173636
CREATED:20260128T105057Z
LAST-MODIFIED:20260422T124932Z
UID:10001845-1776988800-1777075199@hardingwildcats.com
SUMMARY:Wildcat Spirit Day
DESCRIPTION:
URL:https://hardingwildcats.com/event/wildcat-spirit-day-5/
END:VEVENT
BEGIN:VEVENT
DTSTART;TZID=America/Chicago:20260423T190000
DTEND;TZID=America/Chicago:20260423T200000
DTSTAMP:20260423T173636
CREATED:20260128T105006Z
LAST-MODIFIED:20260422T131934Z
UID:10001833-1776970800-1776974400@hardingwildcats.com
SUMMARY:MS/HS Chorus Concert
DESCRIPTION:
URL:https://hardingwildcats.com/event/ms-hs-chorus-concert/
END:VEVENT
BEGIN:VEVENT
DTSTART;TZID=America/Chicago:20260423T170000
DTEND;TZID=America/Chicago:20260423T200000
DTSTAMP:20260423T173636
CREATED:20260128T105057Z
LAST-MODIFIED:20260422T124932Z
UID:10001840-1776963600-1776974400@hardingwildcats.com
SUMMARY:BA @ Kennett\, Mo. V1/JV1 time is TBA
DESCRIPTION:
URL:https://hardingwildcats.com/event/ba-kennett-mo-v1-jv1-time-is-tba/
END:VEVENT
BEGIN:VEVENT
DTSTART;TZID=America/Chicago:20260423T163000
DTEND;TZID=America/Chicago:20260423T193000
DTSTAMP:20260423T173636
CREATED:20260128T105056Z
LAST-MODIFIED:20260422T124932Z
UID:10001839-1776961800-1776972600@hardingwildcats.com
SUMMARY:SB @ Pangburn V/JV
DESCRIPTION:
URL:https://hardingwildcats.com/event/sb-pangburn-v-jv-2/
END:VEVENT
BEGIN:VEVENT
DTSTART;TZID=America/Chicago:20260423T153000
DTEND;TZID=America/Chicago:20260423T180000
DTSTAMP:20260423T173636
CREATED:20260128T105057Z
LAST-MODIFIED:20260422T124931Z
UID:10001842-1776958200-1776967200@hardingwildcats.com
SUMMARY:TR - SH @ Heber Springs Last Chance Relays
DESCRIPTION:
URL:https://hardingwildcats.com/event/tr-sh-heber-springs-last-chance-relays/
END:VEVENT
BEGIN:VEVENT
DTSTART;TZID=America/Chicago:20260423T000000
DTEND;TZID=America/Chicago:20260423T235959
DTSTAMP:20260423T173636
CREATED:20260128T105006Z
LAST-MODIFIED:20260422T131934Z
UID:10001834-1776902400-1776988799@hardingwildcats.com
SUMMARY:7th and 8th grade Retreat
DESCRIPTION:
URL:https://hardingwildcats.com/event/7th-and-8th-grade-retreat/
END:VEVENT
BEGIN:VEVENT
DTSTART;TZID=America/Chicago:20260422T190000
DTEND;TZID=America/Chicago:20260422T200000
DTSTAMP:20260423T173636
CREATED:20260415T124914Z
LAST-MODIFIED:20260415T124914Z
UID:10001910-1776884400-1776888000@hardingwildcats.com
SUMMARY:MS/HS Chorus Concert
DESCRIPTION:
URL:https://hardingwildcats.com/event/ms-hs-chorus-concert-2/
END:VEVENT
BEGIN:VEVENT
DTSTART;TZID=America/Chicago:20260421T190000
DTEND;TZID=America/Chicago:20260421T211500
DTSTAMP:20260423T173636
CREATED:20260121T105119Z
LAST-MODIFIED:20260415T124926Z
UID:10001830-1776798000-1776806100@hardingwildcats.com
SUMMARY:S - Boys @ HU Field vs. Wynne time TBD
DESCRIPTION:
URL:https://hardingwildcats.com/event/s-boys-hu-field-vs-wynne-time-tbd/
END:VEVENT
BEGIN:VEVENT
DTSTART;TZID=America/Chicago:20260421T170000
DTEND;TZID=America/Chicago:20260421T190000
DTSTAMP:20260423T173636
CREATED:20260121T105119Z
LAST-MODIFIED:20260415T124926Z
UID:10001831-1776790800-1776798000@hardingwildcats.com
SUMMARY:S - Girls @HU Field vs. Marion
DESCRIPTION:
URL:https://hardingwildcats.com/event/s-girls-marion-2/
END:VEVENT
BEGIN:VEVENT
DTSTART;TZID=America/Chicago:20260421T163000
DTEND;TZID=America/Chicago:20260421T193000
DTSTAMP:20260423T173636
CREATED:20260121T105118Z
LAST-MODIFIED:20260415T124926Z
UID:10001829-1776789000-1776799800@hardingwildcats.com
SUMMARY:BA @ Cabot V1/JV1
DESCRIPTION:
URL:https://hardingwildcats.com/event/ba-cabot-v1-jv1/
END:VEVENT
BEGIN:VEVENT
DTSTART;TZID=America/Chicago:20260420T163000
DTEND;TZID=America/Chicago:20260420T193000
DTSTAMP:20260423T173636
CREATED:20260121T105118Z
LAST-MODIFIED:20260415T124925Z
UID:10001827-1776702600-1776713400@hardingwildcats.com
SUMMARY:SB @ Bald Knob V/JV
DESCRIPTION:
URL:https://hardingwildcats.com/event/sb-bald-knob-v-jv-3/
END:VEVENT
BEGIN:VEVENT
DTSTART;TZID=America/Chicago:20260420T153000
DTEND;TZID=America/Chicago:20260420T180000
DTSTAMP:20260423T173636
CREATED:20260121T105118Z
LAST-MODIFIED:20260415T124914Z
UID:10001828-1776699000-1776708000@hardingwildcats.com
SUMMARY:TR - Jr High Conference Championship @ Episcopal
DESCRIPTION:
URL:https://hardingwildcats.com/event/tr-jr-high-conference-championship-tba/
END:VEVENT
BEGIN:VEVENT
DTSTART;TZID=America/Chicago:20260420T000000
DTEND;TZID=America/Chicago:20260420T235959
DTSTAMP:20260423T173636
CREATED:20260120T162014Z
LAST-MODIFIED:20260415T124913Z
UID:10001769-1776643200-1776729599@hardingwildcats.com
SUMMARY:Region Solo-Ensemble Band Assessment @ Cabot CFA
DESCRIPTION:Host:  Erica Hann
URL:https://hardingwildcats.com/event/region-solo-ensemble-band-assessment-cabot-cfa/
LOCATION:Cabot Freshman Academy\, 100 W Cypert St\, Kensett\, AR\, United States
GEO:35.23334;-91.666702
X-APPLE-STRUCTURED-LOCATION;VALUE=URI;X-ADDRESS=Cabot Freshman Academy 100 W Cypert St Kensett AR United States;X-APPLE-RADIUS=500;X-TITLE=100 W Cypert St:geo:-91.666702,35.23334
END:VEVENT
BEGIN:VEVENT
DTSTART;TZID=America/Chicago:20260419T000000
DTEND;TZID=America/Chicago:20260420T235959
DTSTAMP:20260423T173636
CREATED:20260120T162015Z
LAST-MODIFIED:20260415T124913Z
UID:10001770-1776556800-1776729599@hardingwildcats.com
SUMMARY:Senior Class Retreat
DESCRIPTION:
URL:https://hardingwildcats.com/event/senior-class-retreat-4/
END:VEVENT
BEGIN:VEVENT
DTSTART;TZID=America/Chicago:20260418T000000
DTEND;TZID=America/Chicago:20260418T235959
DTSTAMP:20260423T173636
CREATED:20260120T162015Z
LAST-MODIFIED:20260415T124913Z
UID:10001771-1776470400-1776556799@hardingwildcats.com
SUMMARY:JR/SR Banquet
DESCRIPTION:
URL:https://hardingwildcats.com/event/jr-sr-banquet-4/
END:VEVENT
BEGIN:VEVENT
DTSTART;TZID=America/Chicago:20260417T183000
DTEND;TZID=America/Chicago:20260417T213000
DTSTAMP:20260423T173636
CREATED:20260121T105118Z
LAST-MODIFIED:20260415T124913Z
UID:10001826-1776450600-1776461400@hardingwildcats.com
SUMMARY:BA @ HA vs. Jonesboro Westside (Varsity Only)
DESCRIPTION:
URL:https://hardingwildcats.com/event/ba-ha-vs-jonesboro-westside-v1-jv1/
END:VEVENT
BEGIN:VEVENT
DTSTART;TZID=America/Chicago:20260417T183000
DTEND;TZID=America/Chicago:20260417T203000
DTSTAMP:20260423T173636
CREATED:20260121T105118Z
LAST-MODIFIED:20260415T124913Z
UID:10001825-1776450600-1776457800@hardingwildcats.com
SUMMARY:SB @ HA vs. Heber Springs (Varsity Only)
DESCRIPTION:
URL:https://hardingwildcats.com/event/sb-ha-vs-heber-springs-v-jv/
END:VEVENT
BEGIN:VEVENT
DTSTART;TZID=America/Chicago:20260417T180000
DTEND;TZID=America/Chicago:20260417T200000
DTSTAMP:20260423T173636
CREATED:20260121T105118Z
LAST-MODIFIED:20260415T124913Z
UID:10001824-1776448800-1776456000@hardingwildcats.com
SUMMARY:S - Girls @ HU vs. West Memphis
DESCRIPTION:
URL:https://hardingwildcats.com/event/s-girls-hu-vs-west-memphis/
END:VEVENT
BEGIN:VEVENT
DTSTART;TZID=America/Chicago:20260417T160000
DTEND;TZID=America/Chicago:20260417T163000
DTSTAMP:20260423T173636
CREATED:20260408T124948Z
LAST-MODIFIED:20260415T124913Z
UID:10001907-1776441600-1776443400@hardingwildcats.com
SUMMARY:Softball Senior Night
DESCRIPTION:
URL:https://hardingwildcats.com/event/softball-senior-night/
END:VEVENT
BEGIN:VEVENT
DTSTART;TZID=America/Chicago:20260417T093000
DTEND;TZID=America/Chicago:20260417T100000
DTSTAMP:20260423T173636
CREATED:20260120T162014Z
LAST-MODIFIED:20260415T124913Z
UID:10001765-1776418200-1776420000@hardingwildcats.com
SUMMARY:All School Chapel
DESCRIPTION:
URL:https://hardingwildcats.com/event/all-school-chapel-7/
END:VEVENT
BEGIN:VEVENT
DTSTART;TZID=America/Chicago:20260416T200000
DTEND;TZID=America/Chicago:20260416T220000
DTSTAMP:20260423T173636
CREATED:20260318T122010Z
LAST-MODIFIED:20260415T124913Z
UID:10001902-1776369600-1776376800@hardingwildcats.com
SUMMARY:S - Boys @ HU vs. Batesville
DESCRIPTION:
URL:https://hardingwildcats.com/event/s-boys-hu-vs-batesville/
END:VEVENT
BEGIN:VEVENT
DTSTART;TZID=America/Chicago:20260416T193000
DTEND;TZID=America/Chicago:20260416T200000
DTSTAMP:20260423T173636
CREATED:20260408T124948Z
LAST-MODIFIED:20260415T124913Z
UID:10001906-1776367800-1776369600@hardingwildcats.com
SUMMARY:Soccer Sr. Night
DESCRIPTION:
URL:https://hardingwildcats.com/event/soccer-sr-night/
END:VEVENT
BEGIN:VEVENT
DTSTART;TZID=America/Chicago:20260416T180000
DTEND;TZID=America/Chicago:20260416T200000
DTSTAMP:20260423T173636
CREATED:20260121T105103Z
LAST-MODIFIED:20260415T124913Z
UID:10001822-1776362400-1776369600@hardingwildcats.com
SUMMARY:S - Girls @ HU Field vs. Batesville
DESCRIPTION:
URL:https://hardingwildcats.com/event/s-girls-hu-field-vs-batesville/
END:VEVENT
BEGIN:VEVENT
DTSTART;TZID=America/Chicago:20260416T163000
DTEND;TZID=America/Chicago:20260416T193000
DTSTAMP:20260423T173636
CREATED:20260121T105104Z
LAST-MODIFIED:20260415T124913Z
UID:10001823-1776357000-1776367800@hardingwildcats.com
SUMMARY:SB @ Morrilton V/JV
DESCRIPTION:
URL:https://hardingwildcats.com/event/sb-morrilton-v-jv/
END:VEVENT
BEGIN:VEVENT
DTSTART;TZID=America/Chicago:20260416T153000
DTEND;TZID=America/Chicago:20260416T180000
DTSTAMP:20260423T173636
CREATED:20260120T162009Z
LAST-MODIFIED:20260415T124913Z
UID:10001763-1776353400-1776362400@hardingwildcats.com
SUMMARY:TR - SH @ Charlie Carroll Lion Relays Searcy HS
DESCRIPTION:
URL:https://hardingwildcats.com/event/tr-sh-charlie-carroll-lion-relays-searcy-hs/
END:VEVENT
BEGIN:VEVENT
DTSTART;TZID=America/Chicago:20260415T090000
DTEND;TZID=America/Chicago:20260415T143000
DTSTAMP:20260423T173636
CREATED:20260225T115007Z
LAST-MODIFIED:20260415T124913Z
UID:10001894-1776243600-1776263400@hardingwildcats.com
SUMMARY:3rd Grade Field Trip
DESCRIPTION:
URL:https://hardingwildcats.com/event/3rd-grade-field-trip/
END:VEVENT
END:VCALENDAR