BEGIN:VCALENDAR
VERSION:2.0
PRODID:-//Harding Academy - ECPv6.15.20//NONSGML v1.0//EN
CALSCALE:GREGORIAN
METHOD:PUBLISH
X-WR-CALNAME:Harding Academy
X-ORIGINAL-URL:https://hardingwildcats.com
X-WR-CALDESC:Events for Harding Academy
REFRESH-INTERVAL;VALUE=DURATION:PT1H
X-Robots-Tag:noindex
X-PUBLISHED-TTL:PT1H
BEGIN:VTIMEZONE
TZID:America/Chicago
BEGIN:DAYLIGHT
TZOFFSETFROM:-0600
TZOFFSETTO:-0500
TZNAME:CDT
DTSTART:20250309T080000
END:DAYLIGHT
BEGIN:STANDARD
TZOFFSETFROM:-0500
TZOFFSETTO:-0600
TZNAME:CST
DTSTART:20251102T070000
END:STANDARD
BEGIN:DAYLIGHT
TZOFFSETFROM:-0600
TZOFFSETTO:-0500
TZNAME:CDT
DTSTART:20260308T080000
END:DAYLIGHT
BEGIN:STANDARD
TZOFFSETFROM:-0500
TZOFFSETTO:-0600
TZNAME:CST
DTSTART:20261101T070000
END:STANDARD
BEGIN:DAYLIGHT
TZOFFSETFROM:-0600
TZOFFSETTO:-0500
TZNAME:CDT
DTSTART:20270314T080000
END:DAYLIGHT
BEGIN:STANDARD
TZOFFSETFROM:-0500
TZOFFSETTO:-0600
TZNAME:CST
DTSTART:20271107T070000
END:STANDARD
END:VTIMEZONE
BEGIN:VEVENT
DTSTART;TZID=America/Chicago:20260424T000000
DTEND;TZID=America/Chicago:20260424T235959
DTSTAMP:20260424T034356
CREATED:20260128T105057Z
LAST-MODIFIED:20260422T124932Z
UID:10001845-1776988800-1777075199@hardingwildcats.com
SUMMARY:Wildcat Spirit Day
DESCRIPTION:
URL:https://hardingwildcats.com/event/wildcat-spirit-day-5/
END:VEVENT
BEGIN:VEVENT
DTSTART;TZID=America/Chicago:20260424T163000
DTEND;TZID=America/Chicago:20260424T193000
DTSTAMP:20260424T034356
CREATED:20260128T105057Z
LAST-MODIFIED:20260415T124940Z
UID:10001844-1777048200-1777059000@hardingwildcats.com
SUMMARY:SB @ HA vs. Cabot V/JV
DESCRIPTION:
URL:https://hardingwildcats.com/event/sb-ha-vs-cabot-v-jv/
END:VEVENT
BEGIN:VEVENT
DTSTART;TZID=America/Chicago:20260424T164500
DTEND;TZID=America/Chicago:20260424T221500
DTSTAMP:20260424T034356
CREATED:20260422T124932Z
LAST-MODIFIED:20260422T124932Z
UID:10001912-1777049100-1777068900@hardingwildcats.com
SUMMARY:BA @ HA v Perryville (Senior Night) V/JV
DESCRIPTION:
URL:https://hardingwildcats.com/event/ba-ha-v-perryville-senior-night-v-jv/
END:VEVENT
BEGIN:VEVENT
DTSTART;TZID=America/Chicago:20260424T170000
DTEND;TZID=America/Chicago:20260424T190000
DTSTAMP:20260424T034356
CREATED:20260128T105057Z
LAST-MODIFIED:20260422T124932Z
UID:10001841-1777050000-1777057200@hardingwildcats.com
SUMMARY:S - Girls @ HU Field vs. Paragould
DESCRIPTION:
URL:https://hardingwildcats.com/event/s-girls-paragould-2/
END:VEVENT
BEGIN:VEVENT
DTSTART;TZID=America/Chicago:20260424T190000
DTEND;TZID=America/Chicago:20260424T210000
DTSTAMP:20260424T034356
CREATED:20260128T105057Z
LAST-MODIFIED:20260422T124932Z
UID:10001843-1777057200-1777064400@hardingwildcats.com
SUMMARY:S - Boys @ CAC
DESCRIPTION:
URL:https://hardingwildcats.com/event/s-boys-cac-3/
END:VEVENT
END:VCALENDAR