BEGIN:VCALENDAR
VERSION:2.0
PRODID:-//Harding Academy - ECPv6.15.20//NONSGML v1.0//EN
CALSCALE:GREGORIAN
METHOD:PUBLISH
X-WR-CALNAME:Harding Academy
X-ORIGINAL-URL:https://hardingwildcats.com
X-WR-CALDESC:Events for Harding Academy
REFRESH-INTERVAL;VALUE=DURATION:PT1H
X-Robots-Tag:noindex
X-PUBLISHED-TTL:PT1H
BEGIN:VTIMEZONE
TZID:America/Chicago
BEGIN:DAYLIGHT
TZOFFSETFROM:-0600
TZOFFSETTO:-0500
TZNAME:CDT
DTSTART:20250309T080000
END:DAYLIGHT
BEGIN:STANDARD
TZOFFSETFROM:-0500
TZOFFSETTO:-0600
TZNAME:CST
DTSTART:20251102T070000
END:STANDARD
BEGIN:DAYLIGHT
TZOFFSETFROM:-0600
TZOFFSETTO:-0500
TZNAME:CDT
DTSTART:20260308T080000
END:DAYLIGHT
BEGIN:STANDARD
TZOFFSETFROM:-0500
TZOFFSETTO:-0600
TZNAME:CST
DTSTART:20261101T070000
END:STANDARD
BEGIN:DAYLIGHT
TZOFFSETFROM:-0600
TZOFFSETTO:-0500
TZNAME:CDT
DTSTART:20270314T080000
END:DAYLIGHT
BEGIN:STANDARD
TZOFFSETFROM:-0500
TZOFFSETTO:-0600
TZNAME:CST
DTSTART:20271107T070000
END:STANDARD
END:VTIMEZONE
BEGIN:VEVENT
DTSTART;TZID=America/Chicago:20260423T000000
DTEND;TZID=America/Chicago:20260423T235959
DTSTAMP:20260423T044008
CREATED:20260128T105006Z
LAST-MODIFIED:20260422T131934Z
UID:10001834-1776902400-1776988799@hardingwildcats.com
SUMMARY:7th and 8th grade Retreat
DESCRIPTION:
URL:https://hardingwildcats.com/event/7th-and-8th-grade-retreat/
END:VEVENT
BEGIN:VEVENT
DTSTART;TZID=America/Chicago:20260423T153000
DTEND;TZID=America/Chicago:20260423T180000
DTSTAMP:20260423T044008
CREATED:20260128T105057Z
LAST-MODIFIED:20260422T124931Z
UID:10001842-1776958200-1776967200@hardingwildcats.com
SUMMARY:TR - SH @ Heber Springs Last Chance Relays
DESCRIPTION:
URL:https://hardingwildcats.com/event/tr-sh-heber-springs-last-chance-relays/
END:VEVENT
BEGIN:VEVENT
DTSTART;TZID=America/Chicago:20260423T163000
DTEND;TZID=America/Chicago:20260423T193000
DTSTAMP:20260423T044008
CREATED:20260128T105056Z
LAST-MODIFIED:20260422T124932Z
UID:10001839-1776961800-1776972600@hardingwildcats.com
SUMMARY:SB @ Pangburn V/JV
DESCRIPTION:
URL:https://hardingwildcats.com/event/sb-pangburn-v-jv-2/
END:VEVENT
BEGIN:VEVENT
DTSTART;TZID=America/Chicago:20260423T170000
DTEND;TZID=America/Chicago:20260423T200000
DTSTAMP:20260423T044008
CREATED:20260128T105057Z
LAST-MODIFIED:20260422T124932Z
UID:10001840-1776963600-1776974400@hardingwildcats.com
SUMMARY:BA @ Kennett\, Mo. V1/JV1 time is TBA
DESCRIPTION:
URL:https://hardingwildcats.com/event/ba-kennett-mo-v1-jv1-time-is-tba/
END:VEVENT
BEGIN:VEVENT
DTSTART;TZID=America/Chicago:20260423T190000
DTEND;TZID=America/Chicago:20260423T200000
DTSTAMP:20260423T044008
CREATED:20260128T105006Z
LAST-MODIFIED:20260422T131934Z
UID:10001833-1776970800-1776974400@hardingwildcats.com
SUMMARY:MS/HS Chorus Concert
DESCRIPTION:
URL:https://hardingwildcats.com/event/ms-hs-chorus-concert/
END:VEVENT
END:VCALENDAR